Back to Multiple platform build/check report for BioC 3.13
ABCD[E]FGHIJKLMNOPQRSTUVWXYZ

This page was generated on 2021-10-15 15:05:14 -0400 (Fri, 15 Oct 2021).

All results for package EBImage

To the developers/maintainers of the EBImage package:
- Please allow up to 24 hours (and sometimes 48 hours) for your latest push to git@git.bioconductor.org:packages/EBImage.git to
reflect on this report. See How and When does the builder pull? When will my changes propagate? here for more information.
- Make sure to use the following settings in order to reproduce any error or warning you see on this page.

raw results

Package 549/2041HostnameOS / ArchINSTALLBUILDCHECKBUILD BIN
EBImage 4.34.0  (landing page)
Andrzej OleĊ›
Snapshot Date: 2021-10-14 04:50:12 -0400 (Thu, 14 Oct 2021)
git_url: https://git.bioconductor.org/packages/EBImage
git_branch: RELEASE_3_13
git_last_commit: b4e3a23
git_last_commit_date: 2021-05-19 11:37:13 -0400 (Wed, 19 May 2021)
nebbiolo1Linux (Ubuntu 20.04.2 LTS) / x86_64  OK    OK    OK  UNNEEDED, same version is already published
tokay2Windows Server 2012 R2 Standard / x64  OK    OK    OK    OK  UNNEEDED, same version is already published
machv2macOS 10.14.6 Mojave / x86_64  OK    OK    OK    OK  UNNEEDED, same version is already published

Results for Bioconductor software packages that depend directly on package EBImage

QUICK STATSOS / ArchINSTALLBUILDCHECKBUILD BIN
nebbiolo1Linux (Ubuntu 20.04.2 LTS) / x86_64
0012
0111
0038
tokay2Windows Server 2012 R2 Standard / x64
0012
0012
0039
0012
machv2macOS 10.14.6 Mojave / x86_64
0012
0012
0039
0012
Package 1/12HostnameOS / ArchINSTALLBUILDCHECKBUILD BIN
bnbc 1.14.0  (landing page)
Kipper Fletez-Brant
git_last_commit: 210c4d2
git_last_commit_date: 2021-05-19 12:31:07 -0400
nebbiolo1Linux (Ubuntu 20.04.2 LTS) / x86_64  OK    OK    OK  UNNEEDED, same version is already published
tokay2Windows Server 2012 R2 Standard / x64  OK    OK    OK    OK  UNNEEDED, same version is already published
machv2macOS 10.14.6 Mojave / x86_64  OK    OK    OK    OK  UNNEEDED, same version is already published
Package 2/12HostnameOS / ArchINSTALLBUILDCHECKBUILD BIN
Cardinal 2.10.0  (landing page)
Kylie A. Bemis
git_last_commit: 174f14c
git_last_commit_date: 2021-05-19 12:10:59 -0400
nebbiolo1Linux (Ubuntu 20.04.2 LTS) / x86_64  OK    OK    OK  UNNEEDED, same version is already published
tokay2Windows Server 2012 R2 Standard / x64  OK    OK    OK    OK  UNNEEDED, same version is already published
machv2macOS 10.14.6 Mojave / x86_64  OK    OK    OK    OK  UNNEEDED, same version is already published
Package 3/12HostnameOS / ArchINSTALLBUILDCHECKBUILD BIN
CONFESS 1.20.0  (landing page)
Diana LOW
git_last_commit: 5f6120a
git_last_commit_date: 2021-05-19 12:19:35 -0400
nebbiolo1Linux (Ubuntu 20.04.2 LTS) / x86_64  OK    OK    WARNINGS  UNNEEDED, same version is already published
tokay2Windows Server 2012 R2 Standard / x64  OK    OK    WARNINGS    OK  UNNEEDED, same version is already published
machv2macOS 10.14.6 Mojave / x86_64  OK    OK    WARNINGS    OK  UNNEEDED, same version is already published
Package 4/12HostnameOS / ArchINSTALLBUILDCHECKBUILD BIN
CRImage 1.40.0  (landing page)
Henrik Failmezger , Yinyin Yuan
git_last_commit: d8013b0
git_last_commit_date: 2021-05-19 11:46:32 -0400
nebbiolo1Linux (Ubuntu 20.04.2 LTS) / x86_64  OK    OK    OK  UNNEEDED, same version is already published
tokay2Windows Server 2012 R2 Standard / x64  OK    OK    OK    OK  UNNEEDED, same version is already published
machv2macOS 10.14.6 Mojave / x86_64  OK    OK    OK    OK  UNNEEDED, same version is already published
Package 5/12HostnameOS / ArchINSTALLBUILDCHECKBUILD BIN
cytomapper 1.4.1  (landing page)
Nils Eling
git_last_commit: edd9a70
git_last_commit_date: 2021-05-21 05:14:02 -0400
nebbiolo1Linux (Ubuntu 20.04.2 LTS) / x86_64  OK    OK    OK  UNNEEDED, same version is already published
tokay2Windows Server 2012 R2 Standard / x64  OK    OK    OK    OK  UNNEEDED, same version is already published
machv2macOS 10.14.6 Mojave / x86_64  OK    OK    OK    OK  UNNEEDED, same version is already published
Package 6/12HostnameOS / ArchINSTALLBUILDCHECKBUILD BIN
FISHalyseR 1.26.0  (landing page)
Karesh Arunakirinathan
git_last_commit: 1ac9d07
git_last_commit_date: 2021-05-19 12:12:39 -0400
nebbiolo1Linux (Ubuntu 20.04.2 LTS) / x86_64  OK    OK    WARNINGS  UNNEEDED, same version is already published
tokay2Windows Server 2012 R2 Standard / x64  OK    OK    WARNINGS    OK  UNNEEDED, same version is already published
machv2macOS 10.14.6 Mojave / x86_64  OK    OK    WARNINGS    OK  UNNEEDED, same version is already published
Package 7/12HostnameOS / ArchINSTALLBUILDCHECKBUILD BIN
flowcatchR 1.26.0  (landing page)
Federico Marini
git_last_commit: 33b6f14
git_last_commit_date: 2021-05-19 12:08:37 -0400
nebbiolo1Linux (Ubuntu 20.04.2 LTS) / x86_64  OK    OK    OK  UNNEEDED, same version is already published
tokay2Windows Server 2012 R2 Standard / x64  OK    OK    OK    OK  UNNEEDED, same version is already published
machv2macOS 10.14.6 Mojave / x86_64  OK    OK    OK    OK  UNNEEDED, same version is already published
Package 8/12HostnameOS / ArchINSTALLBUILDCHECKBUILD BIN
flowCHIC 1.26.0  (landing page)
Author: Joachim Schumann
git_last_commit: 16676cf
git_last_commit_date: 2021-05-19 12:08:46 -0400
nebbiolo1Linux (Ubuntu 20.04.2 LTS) / x86_64  OK    OK    OK  UNNEEDED, same version is already published
tokay2Windows Server 2012 R2 Standard / x64  OK    OK    OK    OK  UNNEEDED, same version is already published
machv2macOS 10.14.6 Mojave / x86_64  OK    OK    OK    OK  UNNEEDED, same version is already published
Package 9/12HostnameOS / ArchINSTALLBUILDCHECKBUILD BIN
heatmaps 1.16.0  (landing page)
Malcolm Perry
git_last_commit: c35acce
git_last_commit_date: 2021-05-19 12:27:40 -0400
nebbiolo1Linux (Ubuntu 20.04.2 LTS) / x86_64  OK    OK    OK  UNNEEDED, same version is already published
tokay2Windows Server 2012 R2 Standard / x64  OK    OK    OK    OK  UNNEEDED, same version is already published
machv2macOS 10.14.6 Mojave / x86_64  OK    OK    OK    OK  UNNEEDED, same version is already published
Package 10/12HostnameOS / ArchINSTALLBUILDCHECKBUILD BIN
imageHTS 1.42.0  (landing page)
Joseph Barry
git_last_commit: f7a9006
git_last_commit_date: 2021-05-19 11:46:03 -0400
nebbiolo1Linux (Ubuntu 20.04.2 LTS) / x86_64  OK    ERROR  skipped
tokay2Windows Server 2012 R2 Standard / x64  OK    OK    OK    OK  UNNEEDED, same version is already published
machv2macOS 10.14.6 Mojave / x86_64  OK    OK    OK    OK  UNNEEDED, same version is already published
Package 11/12HostnameOS / ArchINSTALLBUILDCHECKBUILD BIN
sojourner 1.6.0  (landing page)
Sojourner Developer
git_last_commit: 2ea1727
git_last_commit_date: 2021-05-19 12:45:38 -0400
nebbiolo1Linux (Ubuntu 20.04.2 LTS) / x86_64  OK    OK    WARNINGS  UNNEEDED, same version is already published
tokay2Windows Server 2012 R2 Standard / x64  OK    OK    WARNINGS    OK  UNNEEDED, same version is already published
machv2macOS 10.14.6 Mojave / x86_64  OK    OK    WARNINGS    OK  UNNEEDED, same version is already published
Package 12/12HostnameOS / ArchINSTALLBUILDCHECKBUILD BIN
yamss 1.18.0  (landing page)
Leslie Myint
git_last_commit: 6536737
git_last_commit_date: 2021-05-19 12:24:17 -0400
nebbiolo1Linux (Ubuntu 20.04.2 LTS) / x86_64  OK    OK    OK  UNNEEDED, same version is already published
tokay2Windows Server 2012 R2 Standard / x64  OK    OK    OK    OK  UNNEEDED, same version is already published
machv2macOS 10.14.6 Mojave / x86_64  OK    OK    OK    OK  UNNEEDED, same version is already published