Back to Multiple platform build/check report for BioC 3.13
A[B]CDEFGHIJKLMNOPQRSTUVWXYZ

This page was generated on 2021-10-15 15:05:10 -0400 (Fri, 15 Oct 2021).

All results for package biomaRt

To the developers/maintainers of the biomaRt package:
- Please allow up to 24 hours (and sometimes 48 hours) for your latest push to git@git.bioconductor.org:packages/biomaRt.git to
reflect on this report. See How and When does the builder pull? When will my changes propagate? here for more information.
- Make sure to use the following settings in order to reproduce any error or warning you see on this page.

raw results

Package 180/2041HostnameOS / ArchINSTALLBUILDCHECKBUILD BIN
biomaRt 2.48.3  (landing page)
Mike Smith
Snapshot Date: 2021-10-14 04:50:12 -0400 (Thu, 14 Oct 2021)
git_url: https://git.bioconductor.org/packages/biomaRt
git_branch: RELEASE_3_13
git_last_commit: 66a592e
git_last_commit_date: 2021-08-12 09:34:37 -0400 (Thu, 12 Aug 2021)
nebbiolo1Linux (Ubuntu 20.04.2 LTS) / x86_64  OK    OK    OK  UNNEEDED, same version is already published
tokay2Windows Server 2012 R2 Standard / x64  OK    OK    OK    OK  UNNEEDED, same version is already published
machv2macOS 10.14.6 Mojave / x86_64  OK    OK    OK    OK  UNNEEDED, same version is already published

Results for Bioconductor software packages that depend directly on package biomaRt

QUICK STATSOS / ArchINSTALLBUILDCHECKBUILD BIN
nebbiolo1Linux (Ubuntu 20.04.2 LTS) / x86_64
0383
0779
031462
tokay2Windows Server 2012 R2 Standard / x64
0381
0678
041559
0078
machv2macOS 10.14.6 Mojave / x86_64
0383
0680
031463
0080
Package 1/86HostnameOS / ArchINSTALLBUILDCHECKBUILD BIN
ArrayExpressHTS 1.42.0  (landing page)
Angela Goncalves , Andrew Tikhonov
git_last_commit: 9a41140
git_last_commit_date: 2021-05-19 11:48:38 -0400
nebbiolo1Linux (Ubuntu 20.04.2 LTS) / x86_64  OK    OK    WARNINGS  UNNEEDED, same version is already published
tokay2Windows Server 2012 R2 Standard / x64... NOT SUPPORTED ...
machv2macOS 10.14.6 Mojave / x86_64  OK    OK    OK    OK  UNNEEDED, same version is already published
Package 2/86HostnameOS / ArchINSTALLBUILDCHECKBUILD BIN
ASpediaFI 1.6.0  (landing page)
Doyeong Yu
git_last_commit: a36105f
git_last_commit_date: 2021-05-19 12:47:16 -0400
nebbiolo1Linux (Ubuntu 20.04.2 LTS) / x86_64  OK    OK    OK  UNNEEDED, same version is already published
tokay2Windows Server 2012 R2 Standard / x64  OK    OK    OK    OK  UNNEEDED, same version is already published
machv2macOS 10.14.6 Mojave / x86_64  OK    OK    OK    OK  UNNEEDED, same version is already published
Package 3/86HostnameOS / ArchINSTALLBUILDCHECKBUILD BIN
BadRegionFinder 1.20.0  (landing page)
Sarah Sandmann
git_last_commit: 833821c
git_last_commit_date: 2021-05-19 12:19:30 -0400
nebbiolo1Linux (Ubuntu 20.04.2 LTS) / x86_64  OK    OK    OK  UNNEEDED, same version is already published
tokay2Windows Server 2012 R2 Standard / x64  OK    OK    OK    OK  UNNEEDED, same version is already published
machv2macOS 10.14.6 Mojave / x86_64  OK    OK    OK    OK  UNNEEDED, same version is already published
Package 4/86HostnameOS / ArchINSTALLBUILDCHECKBUILD BIN
BgeeCall 1.8.0  (landing page)
Julien Wollbrett
git_last_commit: 75b35d9
git_last_commit_date: 2021-05-19 12:48:49 -0400
nebbiolo1Linux (Ubuntu 20.04.2 LTS) / x86_64  OK    OK    OK  UNNEEDED, same version is already published
tokay2Windows Server 2012 R2 Standard / x64  OK    OK    OK    OK  UNNEEDED, same version is already published
machv2macOS 10.14.6 Mojave / x86_64  OK    OK    OK    OK  UNNEEDED, same version is already published
Package 5/86HostnameOS / ArchINSTALLBUILDCHECKBUILD BIN
BrainSABER 1.2.0  (landing page)
USD Biomedical Engineering
git_last_commit: 0c1b22d
git_last_commit_date: 2021-05-19 12:52:45 -0400
nebbiolo1Linux (Ubuntu 20.04.2 LTS) / x86_64  OK    ERROR  skipped
tokay2Windows Server 2012 R2 Standard / x64  OK    ERROR  skippedskipped
machv2macOS 10.14.6 Mojave / x86_64  OK    ERROR  skippedskipped
Package 6/86HostnameOS / ArchINSTALLBUILDCHECKBUILD BIN
branchpointer 1.18.0  (landing page)
Beth Signal
git_last_commit: 0e0e947
git_last_commit_date: 2021-05-19 12:26:29 -0400
nebbiolo1Linux (Ubuntu 20.04.2 LTS) / x86_64  OK    OK    OK  UNNEEDED, same version is already published
tokay2Windows Server 2012 R2 Standard / x64  OK    OK    OK    OK  UNNEEDED, same version is already published
machv2macOS 10.14.6 Mojave / x86_64  OK    OK    OK    OK  UNNEEDED, same version is already published
Package 7/86HostnameOS / ArchINSTALLBUILDCHECKBUILD BIN
BUSpaRse 1.6.1  (landing page)
Lambda Moses
git_last_commit: 10db5d4
git_last_commit_date: 2021-06-07 21:09:14 -0400
nebbiolo1Linux (Ubuntu 20.04.2 LTS) / x86_64  OK    OK    OK  UNNEEDED, same version is already published
tokay2Windows Server 2012 R2 Standard / x64  OK    OK    OK    OK  UNNEEDED, same version is already published
machv2macOS 10.14.6 Mojave / x86_64  OK    OK    OK    OK  UNNEEDED, same version is already published
Package 8/86HostnameOS / ArchINSTALLBUILDCHECKBUILD BIN
ChIPpeakAnno 3.26.4  (landing page)
Jianhong Ou
git_last_commit: 5104b7d
git_last_commit_date: 2021-09-09 15:41:30 -0400
nebbiolo1Linux (Ubuntu 20.04.2 LTS) / x86_64  OK    OK    OK  UNNEEDED, same version is already published
tokay2Windows Server 2012 R2 Standard / x64  OK    OK    OK    OK  UNNEEDED, same version is already published
machv2macOS 10.14.6 Mojave / x86_64  OK    OK    OK    OK  UNNEEDED, same version is already published
Package 9/86HostnameOS / ArchINSTALLBUILDCHECKBUILD BIN
chromPlot 1.20.0  (landing page)
Karen Y. Orostica
git_last_commit: f4eb7af
git_last_commit_date: 2021-05-19 12:18:09 -0400
nebbiolo1Linux (Ubuntu 20.04.2 LTS) / x86_64  OK    OK    OK  UNNEEDED, same version is already published
tokay2Windows Server 2012 R2 Standard / x64  OK    OK    WARNINGS    OK  UNNEEDED, same version is already published
machv2macOS 10.14.6 Mojave / x86_64  OK    OK    OK    OK  UNNEEDED, same version is already published
Package 10/86HostnameOS / ArchINSTALLBUILDCHECKBUILD BIN
CHRONOS 1.20.0  (landing page)
Panos Balomenos
git_last_commit: 696cc6f
git_last_commit_date: 2021-05-19 12:20:19 -0400
nebbiolo1Linux (Ubuntu 20.04.2 LTS) / x86_64  OK    OK    OK  UNNEEDED, same version is already published
tokay2Windows Server 2012 R2 Standard / x64  OK    OK    OK    OK  UNNEEDED, same version is already published
machv2macOS 10.14.6 Mojave / x86_64  OK    OK    OK    OK  UNNEEDED, same version is already published
Package 11/86HostnameOS / ArchINSTALLBUILDCHECKBUILD BIN
coMET 1.24.0  (landing page)
Tiphaine Martin
git_last_commit: fb8047d
git_last_commit_date: 2021-05-19 12:10:24 -0400
nebbiolo1Linux (Ubuntu 20.04.2 LTS) / x86_64  OK    OK    OK  UNNEEDED, same version is already published
tokay2Windows Server 2012 R2 Standard / x64  OK    OK    OK    OK  UNNEEDED, same version is already published
machv2macOS 10.14.6 Mojave / x86_64  OK    OK    OK    OK  UNNEEDED, same version is already published
Package 12/86HostnameOS / ArchINSTALLBUILDCHECKBUILD BIN
conclus 1.0.0  (landing page)
Ilyess Rachedi
git_last_commit: 1336595
git_last_commit_date: 2021-05-19 13:01:43 -0400
nebbiolo1Linux (Ubuntu 20.04.2 LTS) / x86_64  OK    OK    OK  UNNEEDED, same version is already published
tokay2Windows Server 2012 R2 Standard / x64  OK    OK    ERROR    OK  
machv2macOS 10.14.6 Mojave / x86_64  OK    OK    OK    OK  UNNEEDED, same version is already published
Package 13/86HostnameOS / ArchINSTALLBUILDCHECKBUILD BIN
cosmosR 1.0.1  (landing page)
Katharina Zirngibl
git_last_commit: 6d16ee7
git_last_commit_date: 2021-06-22 08:43:44 -0400
nebbiolo1Linux (Ubuntu 20.04.2 LTS) / x86_64  OK    OK    OK  UNNEEDED, same version is already published
tokay2Windows Server 2012 R2 Standard / x64  OK    OK    OK    OK  UNNEEDED, same version is already published
machv2macOS 10.14.6 Mojave / x86_64  OK    OK    OK    OK  UNNEEDED, same version is already published
Package 14/86HostnameOS / ArchINSTALLBUILDCHECKBUILD BIN
cTRAP 1.10.1  (landing page)
Nuno Saraiva-Agostinho
git_last_commit: 089d9ff
git_last_commit_date: 2021-10-04 12:40:46 -0400
nebbiolo1Linux (Ubuntu 20.04.2 LTS) / x86_64  OK    OK    OK  UNNEEDED, same version is already published
tokay2Windows Server 2012 R2 Standard / x64  OK    OK    OK    OK  UNNEEDED, same version is already published
machv2macOS 10.14.6 Mojave / x86_64  OK    OK    OK    OK  UNNEEDED, same version is already published
Package 15/86HostnameOS / ArchINSTALLBUILDCHECKBUILD BIN
customProDB 1.32.0  (landing page)
Xiaojing Wang
git_last_commit: 6c740d6
git_last_commit_date: 2021-05-19 11:59:12 -0400
nebbiolo1Linux (Ubuntu 20.04.2 LTS) / x86_64  OK    OK    OK  UNNEEDED, same version is already published
tokay2Windows Server 2012 R2 Standard / x64  OK    OK    OK    OK  UNNEEDED, same version is already published
machv2macOS 10.14.6 Mojave / x86_64  OK    OK    OK    OK  UNNEEDED, same version is already published
Package 16/86HostnameOS / ArchINSTALLBUILDCHECKBUILD BIN
dagLogo 1.30.0  (landing page)
Jianhong Ou
git_last_commit: 603fae3
git_last_commit_date: 2021-05-19 12:01:07 -0400
nebbiolo1Linux (Ubuntu 20.04.2 LTS) / x86_64  OK    OK    OK  UNNEEDED, same version is already published
tokay2Windows Server 2012 R2 Standard / x64  OK    OK    OK    OK  UNNEEDED, same version is already published
machv2macOS 10.14.6 Mojave / x86_64  OK    OK    OK    OK  UNNEEDED, same version is already published
Package 17/86HostnameOS / ArchINSTALLBUILDCHECKBUILD BIN
DEXSeq 1.38.0  (landing page)
Alejandro Reyes
git_last_commit: 62dc651
git_last_commit_date: 2021-05-19 11:48:55 -0400
nebbiolo1Linux (Ubuntu 20.04.2 LTS) / x86_64  OK    OK    OK  UNNEEDED, same version is already published
tokay2Windows Server 2012 R2 Standard / x64  OK    OK    OK    OK  UNNEEDED, same version is already published
machv2macOS 10.14.6 Mojave / x86_64  OK    OK    OK    OK  UNNEEDED, same version is already published
Package 18/86HostnameOS / ArchINSTALLBUILDCHECKBUILD BIN
diffloop 1.20.0  (landing page)
Caleb Lareau
git_last_commit: 900a5e1
git_last_commit_date: 2021-05-19 12:20:17 -0400
nebbiolo1Linux (Ubuntu 20.04.2 LTS) / x86_64  OK    OK    OK  UNNEEDED, same version is already published
tokay2Windows Server 2012 R2 Standard / x64  OK    OK    WARNINGS    OK  UNNEEDED, same version is already published
machv2macOS 10.14.6 Mojave / x86_64  OK    OK    OK    OK  UNNEEDED, same version is already published
Package 19/86HostnameOS / ArchINSTALLBUILDCHECKBUILD BIN
DominoEffect 1.12.0  (landing page)
Marija Buljan
git_last_commit: bce8fe8
git_last_commit_date: 2021-05-19 12:33:35 -0400
nebbiolo1Linux (Ubuntu 20.04.2 LTS) / x86_64  OK    OK    OK  UNNEEDED, same version is already published
tokay2Windows Server 2012 R2 Standard / x64  OK    OK    OK    OK  UNNEEDED, same version is already published
machv2macOS 10.14.6 Mojave / x86_64  OK    OK    OK    OK  UNNEEDED, same version is already published
Package 20/86HostnameOS / ArchINSTALLBUILDCHECKBUILD BIN
drugTargetInteractions 1.0.2  (landing page)
Thomas Girke
git_last_commit: dd1665a
git_last_commit_date: 2021-08-26 14:37:10 -0400
nebbiolo1Linux (Ubuntu 20.04.2 LTS) / x86_64  OK    OK    OK  UNNEEDED, same version is already published
tokay2Windows Server 2012 R2 Standard / x64  OK    OK    OK    OK  NO, package depends on 'UniProt.ws' which is not available
machv2macOS 10.14.6 Mojave / x86_64  OK    OK    OK    OK  UNNEEDED, same version is already published
Package 21/86HostnameOS / ArchINSTALLBUILDCHECKBUILD BIN
DrugVsDisease 2.34.0  (landing page)
j. Saez-Rodriguez
git_last_commit: 4d15037
git_last_commit_date: 2021-05-19 11:57:20 -0400
nebbiolo1Linux (Ubuntu 20.04.2 LTS) / x86_64  OK    OK    OK  UNNEEDED, same version is already published
tokay2Windows Server 2012 R2 Standard / x64  OK    OK    OK    OK  UNNEEDED, same version is already published
machv2macOS 10.14.6 Mojave / x86_64  OK    OK    OK    OK  UNNEEDED, same version is already published
Package 22/86HostnameOS / ArchINSTALLBUILDCHECKBUILD BIN
easyRNASeq 2.28.0  (landing page)
Nicolas Delhomme
git_last_commit: 6d18522
git_last_commit_date: 2021-05-19 11:51:10 -0400
nebbiolo1Linux (Ubuntu 20.04.2 LTS) / x86_64  OK    OK    OK  UNNEEDED, same version is already published
tokay2Windows Server 2012 R2 Standard / x64  OK    OK    OK    OK  UNNEEDED, same version is already published
machv2macOS 10.14.6 Mojave / x86_64  OK    OK    OK    OK  UNNEEDED, same version is already published
Package 23/86HostnameOS / ArchINSTALLBUILDCHECKBUILD BIN
EDASeq 2.26.1  (landing page)
Davide Risso
git_last_commit: 49df07d
git_last_commit_date: 2021-06-18 04:56:09 -0400
nebbiolo1Linux (Ubuntu 20.04.2 LTS) / x86_64  OK    OK    OK  UNNEEDED, same version is already published
tokay2Windows Server 2012 R2 Standard / x64  OK    OK    OK    OK  UNNEEDED, same version is already published
machv2macOS 10.14.6 Mojave / x86_64  OK    OK    OK    OK  UNNEEDED, same version is already published
Package 24/86HostnameOS / ArchINSTALLBUILDCHECKBUILD BIN
ELMER 2.16.0  (landing page)
Tiago Chedraoui Silva
git_last_commit: 31e996d
git_last_commit_date: 2021-05-19 12:13:57 -0400
nebbiolo1Linux (Ubuntu 20.04.2 LTS) / x86_64  OK    OK    OK  UNNEEDED, same version is already published
tokay2Windows Server 2012 R2 Standard / x64  OK    OK    OK    OK  UNNEEDED, same version is already published
machv2macOS 10.14.6 Mojave / x86_64  OK    OK    OK    OK  UNNEEDED, same version is already published
Package 25/86HostnameOS / ArchINSTALLBUILDCHECKBUILD BIN
EWCE 1.0.1  (landing page)
Alan Murphy
git_last_commit: 680dd7d
git_last_commit_date: 2021-06-17 12:23:07 -0400
nebbiolo1Linux (Ubuntu 20.04.2 LTS) / x86_64  OK    OK    OK  UNNEEDED, same version is already published
tokay2Windows Server 2012 R2 Standard / x64  OK    OK    OK    OK  UNNEEDED, same version is already published
machv2macOS 10.14.6 Mojave / x86_64  OK    OK    OK    OK  UNNEEDED, same version is already published
Package 26/86HostnameOS / ArchINSTALLBUILDCHECKBUILD BIN
FRASER 1.4.0  (landing page)
Christian Mertes
git_last_commit: 926f313
git_last_commit_date: 2021-05-19 12:51:54 -0400
nebbiolo1Linux (Ubuntu 20.04.2 LTS) / x86_64  OK    OK    OK  UNNEEDED, same version is already published
tokay2Windows Server 2012 R2 Standard / x64  OK    OK    OK    OK  UNNEEDED, same version is already published
machv2macOS 10.14.6 Mojave / x86_64  OK    OK    OK    OK  UNNEEDED, same version is already published
Package 27/86HostnameOS / ArchINSTALLBUILDCHECKBUILD BIN
GDCRNATools 1.13.1  (landing page)
Ruidong Li
git_last_commit: 48bda50
git_last_commit_date: 2021-08-03 03:35:39 -0400
nebbiolo1Linux (Ubuntu 20.04.2 LTS) / x86_64  OK    OK    OK  UNNEEDED, same version is already published
tokay2Windows Server 2012 R2 Standard / x64  OK    OK    OK    OK  UNNEEDED, same version is already published
machv2macOS 10.14.6 Mojave / x86_64  OK    OK    OK    OK  UNNEEDED, same version is already published
Package 28/86HostnameOS / ArchINSTALLBUILDCHECKBUILD BIN
GeneAccord 1.10.0  (landing page)
Ariane L. Moore
git_last_commit: cfc8768
git_last_commit_date: 2021-05-19 12:37:11 -0400
nebbiolo1Linux (Ubuntu 20.04.2 LTS) / x86_64  OK    OK    OK  UNNEEDED, same version is already published
tokay2Windows Server 2012 R2 Standard / x64  OK    OK    OK    OK  UNNEEDED, same version is already published
machv2macOS 10.14.6 Mojave / x86_64  OK    OK    OK    OK  UNNEEDED, same version is already published
Package 29/86HostnameOS / ArchINSTALLBUILDCHECKBUILD BIN
genefu 2.24.2  (landing page)
Benjamin Haibe-Kains
git_last_commit: 829a30e
git_last_commit_date: 2021-05-21 19:30:17 -0400
nebbiolo1Linux (Ubuntu 20.04.2 LTS) / x86_64  OK    OK    OK  UNNEEDED, same version is already published
tokay2Windows Server 2012 R2 Standard / x64  OK    OK    OK    OK  UNNEEDED, same version is already published
machv2macOS 10.14.6 Mojave / x86_64  OK    OK    OK    OK  UNNEEDED, same version is already published
Package 30/86HostnameOS / ArchINSTALLBUILDCHECKBUILD BIN
GenomicFeatures 1.44.2  (landing page)
Bioconductor Package Maintainer
git_last_commit: 49566bc
git_last_commit_date: 2021-08-26 00:53:36 -0400
nebbiolo1Linux (Ubuntu 20.04.2 LTS) / x86_64  OK    OK    WARNINGS  UNNEEDED, same version is already published
tokay2Windows Server 2012 R2 Standard / x64  OK    OK    WARNINGS    OK  UNNEEDED, same version is already published
machv2macOS 10.14.6 Mojave / x86_64  OK    OK    WARNINGS    OK  UNNEEDED, same version is already published
Package 31/86HostnameOS / ArchINSTALLBUILDCHECKBUILD BIN
GenomicOZone 1.6.0  (landing page)
Hua Zhong, Mingzhou Song
git_last_commit: a1e58fc
git_last_commit_date: 2021-05-19 12:45:28 -0400
nebbiolo1Linux (Ubuntu 20.04.2 LTS) / x86_64  OK    OK    OK  UNNEEDED, same version is already published
tokay2Windows Server 2012 R2 Standard / x64  OK    OK    OK    OK  UNNEEDED, same version is already published
machv2macOS 10.14.6 Mojave / x86_64  OK    OK    OK    OK  UNNEEDED, same version is already published
Package 32/86HostnameOS / ArchINSTALLBUILDCHECKBUILD BIN
GenVisR 1.24.0  (landing page)
Zachary Skidmore
git_last_commit: 3b6abcf
git_last_commit_date: 2021-05-19 12:17:38 -0400
nebbiolo1Linux (Ubuntu 20.04.2 LTS) / x86_64  OK    OK    ERROR  
tokay2Windows Server 2012 R2 Standard / x64  OK    OK    OK    OK  UNNEEDED, same version is already published
machv2macOS 10.14.6 Mojave / x86_64  OK    OK    OK    OK  UNNEEDED, same version is already published
Package 33/86HostnameOS / ArchINSTALLBUILDCHECKBUILD BIN
gespeR 1.24.0  (landing page)
Fabian Schmich
git_last_commit: 59abb7c
git_last_commit_date: 2021-05-19 12:10:27 -0400
nebbiolo1Linux (Ubuntu 20.04.2 LTS) / x86_64  OK    OK    WARNINGS  UNNEEDED, same version is already published
tokay2Windows Server 2012 R2 Standard / x64  OK    OK    WARNINGS    OK  UNNEEDED, same version is already published
machv2macOS 10.14.6 Mojave / x86_64  OK    OK    WARNINGS    OK  UNNEEDED, same version is already published
Package 34/86HostnameOS / ArchINSTALLBUILDCHECKBUILD BIN
glmSparseNet 1.10.0  (landing page)
André Veríssimo
git_last_commit: 68fb0a1
git_last_commit_date: 2021-05-19 12:38:09 -0400
nebbiolo1Linux (Ubuntu 20.04.2 LTS) / x86_64  OK    OK    OK  UNNEEDED, same version is already published
tokay2Windows Server 2012 R2 Standard / x64  OK    OK    OK    OK  UNNEEDED, same version is already published
machv2macOS 10.14.6 Mojave / x86_64  OK    OK    OK    OK  UNNEEDED, same version is already published
Package 35/86HostnameOS / ArchINSTALLBUILDCHECKBUILD BIN
GOexpress 1.26.0  (landing page)
Kevin Rue-Albrecht
git_last_commit: 9aca228
git_last_commit_date: 2021-05-19 12:07:39 -0400
nebbiolo1Linux (Ubuntu 20.04.2 LTS) / x86_64  OK    OK    OK  UNNEEDED, same version is already published
tokay2Windows Server 2012 R2 Standard / x64  OK    OK    OK    OK  UNNEEDED, same version is already published
machv2macOS 10.14.6 Mojave / x86_64  OK    OK    OK    OK  UNNEEDED, same version is already published
Package 36/86HostnameOS / ArchINSTALLBUILDCHECKBUILD BIN
goSTAG 1.16.0  (landing page)
Brian D. Bennett
git_last_commit: 01e14e9
git_last_commit_date: 2021-05-19 12:25:30 -0400
nebbiolo1Linux (Ubuntu 20.04.2 LTS) / x86_64  OK    OK    OK  UNNEEDED, same version is already published
tokay2Windows Server 2012 R2 Standard / x64  OK    OK    OK    OK  UNNEEDED, same version is already published
machv2macOS 10.14.6 Mojave / x86_64  OK    OK    OK    OK  UNNEEDED, same version is already published
Package 37/86HostnameOS / ArchINSTALLBUILDCHECKBUILD BIN
gpart 1.10.0  (landing page)
Sun Ah Kim
git_last_commit: 39e0086
git_last_commit_date: 2021-05-19 12:38:06 -0400
nebbiolo1Linux (Ubuntu 20.04.2 LTS) / x86_64  OK    OK    OK  UNNEEDED, same version is already published
tokay2Windows Server 2012 R2 Standard / x64  OK    OK    OK    OK  UNNEEDED, same version is already published
machv2macOS 10.14.6 Mojave / x86_64  OK    OK    OK    OK  UNNEEDED, same version is already published
Package 38/86HostnameOS / ArchINSTALLBUILDCHECKBUILD BIN
Gviz 1.36.2  (landing page)
Robert Ivanek
git_last_commit: 742ed80
git_last_commit_date: 2021-07-02 05:34:16 -0400
nebbiolo1Linux (Ubuntu 20.04.2 LTS) / x86_64  OK    OK    OK  UNNEEDED, same version is already published
tokay2Windows Server 2012 R2 Standard / x64  OK    OK    OK    OK  UNNEEDED, same version is already published
machv2macOS 10.14.6 Mojave / x86_64  OK    OK    OK    OK  UNNEEDED, same version is already published
Package 39/86HostnameOS / ArchINSTALLBUILDCHECKBUILD BIN
InterCellar 1.0.0  (landing page)
Marta Interlandi
git_last_commit: 094f1da
git_last_commit_date: 2021-05-19 13:00:45 -0400
nebbiolo1Linux (Ubuntu 20.04.2 LTS) / x86_64  OK    OK    OK  UNNEEDED, same version is already published
tokay2Windows Server 2012 R2 Standard / x64  OK    OK    OK    OK  UNNEEDED, same version is already published
machv2macOS 10.14.6 Mojave / x86_64  OK    OK    OK    OK  UNNEEDED, same version is already published
Package 40/86HostnameOS / ArchINSTALLBUILDCHECKBUILD BIN
isobar 1.38.0  (landing page)
Florian P Breitwieser
git_last_commit: 444a501
git_last_commit_date: 2021-05-19 11:50:32 -0400
nebbiolo1Linux (Ubuntu 20.04.2 LTS) / x86_64  OK    OK    WARNINGS  UNNEEDED, same version is already published
tokay2Windows Server 2012 R2 Standard / x64  OK    OK    WARNINGS    OK  UNNEEDED, same version is already published
machv2macOS 10.14.6 Mojave / x86_64  OK    OK    WARNINGS    OK  UNNEEDED, same version is already published
Package 41/86HostnameOS / ArchINSTALLBUILDCHECKBUILD BIN
KEGGprofile 1.34.0  (landing page)
Shilin Zhao
git_last_commit: ba84540
git_last_commit_date: 2021-05-19 11:52:53 -0400
nebbiolo1Linux (Ubuntu 20.04.2 LTS) / x86_64  ERROR    ERROR  skipped
tokay2Windows Server 2012 R2 Standard / x64  ERROR    ERROR  skippedskipped
machv2macOS 10.14.6 Mojave / x86_64  ERROR    ERROR  skippedskipped
Package 42/86HostnameOS / ArchINSTALLBUILDCHECKBUILD BIN
mCSEA 1.12.0  (landing page)
Jordi Martorell-Marugán
git_last_commit: 63a7b6c
git_last_commit_date: 2021-05-19 12:32:43 -0400
nebbiolo1Linux (Ubuntu 20.04.2 LTS) / x86_64  OK    OK    OK  UNNEEDED, same version is already published
tokay2Windows Server 2012 R2 Standard / x64  OK    OK    OK    OK  UNNEEDED, same version is already published
machv2macOS 10.14.6 Mojave / x86_64  OK    OK    OK    OK  UNNEEDED, same version is already published
Package 43/86HostnameOS / ArchINSTALLBUILDCHECKBUILD BIN
MEDIPS 1.44.0  (landing page)
Lukas Chavez
git_last_commit: 4df0aee
git_last_commit_date: 2021-05-19 11:46:46 -0400
nebbiolo1Linux (Ubuntu 20.04.2 LTS) / x86_64  OK    OK    OK  UNNEEDED, same version is already published
tokay2Windows Server 2012 R2 Standard / x64  OK    OK    OK    OK  UNNEEDED, same version is already published
machv2macOS 10.14.6 Mojave / x86_64  OK    OK    OK    OK  UNNEEDED, same version is already published
Package 44/86HostnameOS / ArchINSTALLBUILDCHECKBUILD BIN
MetaboSignal 1.22.0  (landing page)
Andrea Rodriguez-Martinez
git_last_commit: b02adbe
git_last_commit_date: 2021-05-19 12:22:49 -0400
nebbiolo1Linux (Ubuntu 20.04.2 LTS) / x86_64  OK    OK    OK  UNNEEDED, same version is already published
tokay2Windows Server 2012 R2 Standard / x64  OK    OK    OK    OK  UNNEEDED, same version is already published
machv2macOS 10.14.6 Mojave / x86_64  OK    OK    OK    OK  UNNEEDED, same version is already published
Package 45/86HostnameOS / ArchINSTALLBUILDCHECKBUILD BIN
metaseqR2 1.4.14  (landing page)
Panagiotis Moulos
git_last_commit: 1690bc0
git_last_commit_date: 2021-10-13 12:29:04 -0400
nebbiolo1Linux (Ubuntu 20.04.2 LTS) / x86_64  OK    ERROR  skipped
tokay2Windows Server 2012 R2 Standard / x64  OK    OK    OK    OK  YES
machv2macOS 10.14.6 Mojave / x86_64  OK    OK    ERROR    OK  
Package 46/86HostnameOS / ArchINSTALLBUILDCHECKBUILD BIN
methyAnalysis 1.34.0  (landing page)
Lei Huang
git_last_commit: 96aa183
git_last_commit_date: 2021-05-19 11:53:36 -0400
nebbiolo1Linux (Ubuntu 20.04.2 LTS) / x86_64  OK    OK    WARNINGS  UNNEEDED, same version is already published
tokay2Windows Server 2012 R2 Standard / x64... NOT SUPPORTED ...
machv2macOS 10.14.6 Mojave / x86_64  OK    OK    WARNINGS    OK  UNNEEDED, same version is already published
Package 47/86HostnameOS / ArchINSTALLBUILDCHECKBUILD BIN
MGFR 1.18.0  (landing page)
Khadija El Amrani
git_last_commit: 9cc8ca1
git_last_commit_date: 2021-05-19 12:21:31 -0400
nebbiolo1Linux (Ubuntu 20.04.2 LTS) / x86_64  OK    OK    OK  UNNEEDED, same version is already published
tokay2Windows Server 2012 R2 Standard / x64  OK    OK    OK    OK  UNNEEDED, same version is already published
machv2macOS 10.14.6 Mojave / x86_64  OK    OK    OK    OK  UNNEEDED, same version is already published
Package 48/86HostnameOS / ArchINSTALLBUILDCHECKBUILD BIN
MineICA 1.32.0  (landing page)
Anne Biton
git_last_commit: def84c7
git_last_commit_date: 2021-05-19 11:57:33 -0400
nebbiolo1Linux (Ubuntu 20.04.2 LTS) / x86_64  OK    OK    WARNINGS  UNNEEDED, same version is already published
tokay2Windows Server 2012 R2 Standard / x64  OK    OK    WARNINGS    OK  UNNEEDED, same version is already published
machv2macOS 10.14.6 Mojave / x86_64  OK    OK    WARNINGS    OK  UNNEEDED, same version is already published
Package 49/86HostnameOS / ArchINSTALLBUILDCHECKBUILD BIN
MouseFM 1.2.0  (landing page)
Matthias Munz
git_last_commit: b73aa9e
git_last_commit_date: 2021-05-19 12:53:20 -0400
nebbiolo1Linux (Ubuntu 20.04.2 LTS) / x86_64  OK    OK    ERROR  
tokay2Windows Server 2012 R2 Standard / x64  OK    OK    ERROR    OK  
machv2macOS 10.14.6 Mojave / x86_64  OK    OK    ERROR    OK  
Package 50/86HostnameOS / ArchINSTALLBUILDCHECKBUILD BIN
NetSAM 1.32.0  (landing page)
Zhiao Shi
git_last_commit: f04aab5
git_last_commit_date: 2021-05-19 11:59:14 -0400
nebbiolo1Linux (Ubuntu 20.04.2 LTS) / x86_64  OK    OK    OK  UNNEEDED, same version is already published
tokay2Windows Server 2012 R2 Standard / x64  OK    OK    ERROR    OK  
machv2macOS 10.14.6 Mojave / x86_64  OK    OK    OK    OK  UNNEEDED, same version is already published
Package 51/86HostnameOS / ArchINSTALLBUILDCHECKBUILD BIN
NoRCE 1.4.0  (landing page)
Gulden Olgun
git_last_commit: 1bfbc5e
git_last_commit_date: 2021-09-27 16:57:20 -0400
nebbiolo1Linux (Ubuntu 20.04.2 LTS) / x86_64  OK    OK    OK  UNNEEDED, same version is already published
tokay2Windows Server 2012 R2 Standard / x64  OK    OK    ERROR    OK  
machv2macOS 10.14.6 Mojave / x86_64  OK    OK    OK    OK  UNNEEDED, same version is already published
Package 52/86HostnameOS / ArchINSTALLBUILDCHECKBUILD BIN
OncoScore 1.20.0  (landing page)
Luca De Sano
git_last_commit: f0fc479
git_last_commit_date: 2021-05-19 12:19:03 -0400
nebbiolo1Linux (Ubuntu 20.04.2 LTS) / x86_64  OK    OK    OK  UNNEEDED, same version is already published
tokay2Windows Server 2012 R2 Standard / x64  OK    OK    OK    OK  UNNEEDED, same version is already published
machv2macOS 10.14.6 Mojave / x86_64  OK    OK    OK    OK  UNNEEDED, same version is already published
Package 53/86HostnameOS / ArchINSTALLBUILDCHECKBUILD BIN
oposSOM 2.10.0  (landing page)
Henry Loeffler-Wirth
git_last_commit: 8a2b436
git_last_commit_date: 2021-05-19 12:05:49 -0400
nebbiolo1Linux (Ubuntu 20.04.2 LTS) / x86_64  OK    OK    WARNINGS  UNNEEDED, same version is already published
tokay2Windows Server 2012 R2 Standard / x64  OK    OK    WARNINGS    OK  UNNEEDED, same version is already published
machv2macOS 10.14.6 Mojave / x86_64  OK    OK    WARNINGS    OK  UNNEEDED, same version is already published
Package 54/86HostnameOS / ArchINSTALLBUILDCHECKBUILD BIN
pcaExplorer 2.18.0  (landing page)
Federico Marini
git_last_commit: 724482a
git_last_commit_date: 2021-05-19 12:19:46 -0400
nebbiolo1Linux (Ubuntu 20.04.2 LTS) / x86_64  OK    OK    OK  UNNEEDED, same version is already published
tokay2Windows Server 2012 R2 Standard / x64  OK    OK    OK    OK  UNNEEDED, same version is already published
machv2macOS 10.14.6 Mojave / x86_64  OK    OK    OK    OK  UNNEEDED, same version is already published
Package 55/86HostnameOS / ArchINSTALLBUILDCHECKBUILD BIN
phenoTest 1.40.0  (landing page)
Evarist Planet
git_last_commit: 2fbc5e7
git_last_commit_date: 2021-05-19 11:47:14 -0400
nebbiolo1Linux (Ubuntu 20.04.2 LTS) / x86_64  OK    OK    WARNINGS  UNNEEDED, same version is already published
tokay2Windows Server 2012 R2 Standard / x64  OK    OK    WARNINGS    OK  UNNEEDED, same version is already published
machv2macOS 10.14.6 Mojave / x86_64  OK    OK    WARNINGS    OK  UNNEEDED, same version is already published
Package 56/86HostnameOS / ArchINSTALLBUILDCHECKBUILD BIN
PPInfer 1.18.0  (landing page)
Dongmin Jung
git_last_commit: 7713f20
git_last_commit_date: 2021-05-19 12:27:35 -0400
nebbiolo1Linux (Ubuntu 20.04.2 LTS) / x86_64  OK    OK    OK  UNNEEDED, same version is already published
tokay2Windows Server 2012 R2 Standard / x64  OK    OK    OK    OK  UNNEEDED, same version is already published
machv2macOS 10.14.6 Mojave / x86_64  OK    OK    OK    OK  UNNEEDED, same version is already published
Package 57/86HostnameOS / ArchINSTALLBUILDCHECKBUILD BIN
PrecisionTrialDrawer 1.8.0  (landing page)
Giorgio Melloni
git_last_commit: 8690c66
git_last_commit_date: 2021-05-19 12:39:54 -0400
nebbiolo1Linux (Ubuntu 20.04.2 LTS) / x86_64  OK    OK    OK  UNNEEDED, same version is already published
tokay2Windows Server 2012 R2 Standard / x64  OK    OK    OK    OK  UNNEEDED, same version is already published
machv2macOS 10.14.6 Mojave / x86_64  OK    OK    OK    OK  UNNEEDED, same version is already published
Package 58/86HostnameOS / ArchINSTALLBUILDCHECKBUILD BIN
pRoloc 1.32.0  (landing page)
Laurent Gatto
git_last_commit: 637f4c7
git_last_commit_date: 2021-05-19 11:54:49 -0400
nebbiolo1Linux (Ubuntu 20.04.2 LTS) / x86_64  OK    OK    OK  UNNEEDED, same version is already published
tokay2Windows Server 2012 R2 Standard / x64  OK    OK    OK    OK  UNNEEDED, same version is already published
machv2macOS 10.14.6 Mojave / x86_64  OK    OK    OK    OK  UNNEEDED, same version is already published
Package 59/86HostnameOS / ArchINSTALLBUILDCHECKBUILD BIN
ProteoMM 1.10.0  (landing page)
Yuliya V Karpievitch
git_last_commit: 0521464
git_last_commit_date: 2021-05-19 12:39:00 -0400
nebbiolo1Linux (Ubuntu 20.04.2 LTS) / x86_64  OK    OK    OK  UNNEEDED, same version is already published
tokay2Windows Server 2012 R2 Standard / x64  OK    OK    OK    OK  UNNEEDED, same version is already published
machv2macOS 10.14.6 Mojave / x86_64  OK    OK    OK    OK  UNNEEDED, same version is already published
Package 60/86HostnameOS / ArchINSTALLBUILDCHECKBUILD BIN
PSICQUIC 1.30.0  (landing page)
Paul Shannon
git_last_commit: 3d77738
git_last_commit_date: 2021-05-19 12:01:47 -0400
nebbiolo1Linux (Ubuntu 20.04.2 LTS) / x86_64  OK    OK    WARNINGS  UNNEEDED, same version is already published
tokay2Windows Server 2012 R2 Standard / x64  OK    OK    WARNINGS    OK  UNNEEDED, same version is already published
machv2macOS 10.14.6 Mojave / x86_64  OK    OK    WARNINGS    OK  UNNEEDED, same version is already published
Package 61/86HostnameOS / ArchINSTALLBUILDCHECKBUILD BIN
psygenet2r 1.24.0  (landing page)
Alba Gutierrez-Sacristan
git_last_commit: 7a013f8
git_last_commit_date: 2021-05-19 12:18:38 -0400
nebbiolo1Linux (Ubuntu 20.04.2 LTS) / x86_64  OK    OK    OK  UNNEEDED, same version is already published
tokay2Windows Server 2012 R2 Standard / x64  OK    OK    OK    OK  UNNEEDED, same version is already published
machv2macOS 10.14.6 Mojave / x86_64  OK    OK    OK    OK  UNNEEDED, same version is already published
Package 62/86HostnameOS / ArchINSTALLBUILDCHECKBUILD BIN
pwOmics 1.24.0  (landing page)
Maren Sitte
git_last_commit: 9b1e369
git_last_commit_date: 2021-05-19 12:13:37 -0400
nebbiolo1Linux (Ubuntu 20.04.2 LTS) / x86_64  OK    OK    WARNINGS  UNNEEDED, same version is already published
tokay2Windows Server 2012 R2 Standard / x64  OK    OK    WARNINGS    OK  UNNEEDED, same version is already published
machv2macOS 10.14.6 Mojave / x86_64  OK    OK    WARNINGS    OK  UNNEEDED, same version is already published
Package 63/86HostnameOS / ArchINSTALLBUILDCHECKBUILD BIN
R453Plus1Toolbox 1.42.0  (landing page)
Hans-Ulrich Klein
git_last_commit: 02482b8
git_last_commit_date: 2021-05-19 11:46:40 -0400
nebbiolo1Linux (Ubuntu 20.04.2 LTS) / x86_64  OK    OK    OK  UNNEEDED, same version is already published
tokay2Windows Server 2012 R2 Standard / x64  OK    OK    OK    OK  UNNEEDED, same version is already published
machv2macOS 10.14.6 Mojave / x86_64  OK    OK    OK    OK  UNNEEDED, same version is already published
Package 64/86HostnameOS / ArchINSTALLBUILDCHECKBUILD BIN
ramwas 1.16.0  (landing page)
Andrey A Shabalin
git_last_commit: 239ad35
git_last_commit_date: 2021-05-19 12:24:59 -0400
nebbiolo1Linux (Ubuntu 20.04.2 LTS) / x86_64  OK    OK    OK  UNNEEDED, same version is already published
tokay2Windows Server 2012 R2 Standard / x64  OK    OK    OK    OK  UNNEEDED, same version is already published
machv2macOS 10.14.6 Mojave / x86_64  OK    OK    OK    OK  UNNEEDED, same version is already published
Package 65/86HostnameOS / ArchINSTALLBUILDCHECKBUILD BIN
recoup 1.20.1  (landing page)
Panagiotis Moulos
git_last_commit: ab6d090
git_last_commit_date: 2021-10-06 15:09:30 -0400
nebbiolo1Linux (Ubuntu 20.04.2 LTS) / x86_64  OK    OK    OK  UNNEEDED, same version is already published
tokay2Windows Server 2012 R2 Standard / x64  OK    OK    OK    OK  UNNEEDED, same version is already published
machv2macOS 10.14.6 Mojave / x86_64  OK    OK    OK    OK  UNNEEDED, same version is already published
Package 66/86HostnameOS / ArchINSTALLBUILDCHECKBUILD BIN
RepViz 1.8.0  (landing page)
Thomas Faux, Asta Laiho
git_last_commit: 700aac6
git_last_commit_date: 2021-05-19 12:42:56 -0400
nebbiolo1Linux (Ubuntu 20.04.2 LTS) / x86_64  OK    OK    WARNINGS  UNNEEDED, same version is already published
tokay2Windows Server 2012 R2 Standard / x64  OK    OK    WARNINGS    OK  UNNEEDED, same version is already published
machv2macOS 10.14.6 Mojave / x86_64  OK    OK    WARNINGS    OK  UNNEEDED, same version is already published
Package 67/86HostnameOS / ArchINSTALLBUILDCHECKBUILD BIN
rgsepd 1.24.0  (landing page)
Karl Stamm
git_last_commit: a30ee67
git_last_commit_date: 2021-05-19 12:10:16 -0400
nebbiolo1Linux (Ubuntu 20.04.2 LTS) / x86_64  OK    OK    OK  UNNEEDED, same version is already published
tokay2Windows Server 2012 R2 Standard / x64  OK    OK    OK    OK  UNNEEDED, same version is already published
machv2macOS 10.14.6 Mojave / x86_64  OK    OK    OK    OK  UNNEEDED, same version is already published
Package 68/86HostnameOS / ArchINSTALLBUILDCHECKBUILD BIN
RIPAT 1.2.0  (landing page)
Min-Jeong Baek
git_last_commit: 1c308b1
git_last_commit_date: 2021-05-19 12:54:50 -0400
nebbiolo1Linux (Ubuntu 20.04.2 LTS) / x86_64  OK    OK    OK  UNNEEDED, same version is already published
tokay2Windows Server 2012 R2 Standard / x64  OK    OK    OK    OK  UNNEEDED, same version is already published
machv2macOS 10.14.6 Mojave / x86_64  OK    OK    OK    OK  UNNEEDED, same version is already published
Package 69/86HostnameOS / ArchINSTALLBUILDCHECKBUILD BIN
RNAither 2.40.0  (landing page)
Lars Kaderali
git_last_commit: b624de8
git_last_commit_date: 2021-05-19 11:41:51 -0400
nebbiolo1Linux (Ubuntu 20.04.2 LTS) / x86_64  ERROR    ERROR  skipped
tokay2Windows Server 2012 R2 Standard / x64  ERROR    ERROR  skippedskipped
machv2macOS 10.14.6 Mojave / x86_64  ERROR    ERROR  skippedskipped
Package 70/86HostnameOS / ArchINSTALLBUILDCHECKBUILD BIN
RnaSeqSampleSize 2.2.0  (landing page)
Shilin Zhao Developer
git_last_commit: 88b5b96
git_last_commit_date: 2021-05-19 12:56:33 -0400
nebbiolo1Linux (Ubuntu 20.04.2 LTS) / x86_64  OK    OK    OK  UNNEEDED, same version is already published
tokay2Windows Server 2012 R2 Standard / x64  OK    OK    OK    OK  UNNEEDED, same version is already published
machv2macOS 10.14.6 Mojave / x86_64  OK    OK    OK    OK  UNNEEDED, same version is already published
Package 71/86HostnameOS / ArchINSTALLBUILDCHECKBUILD BIN
scPipe 1.14.0  (landing page)
Luyi Tian
git_last_commit: 998ffca
git_last_commit_date: 2021-05-19 12:31:10 -0400
nebbiolo1Linux (Ubuntu 20.04.2 LTS) / x86_64  OK    OK    OK  UNNEEDED, same version is already published
tokay2Windows Server 2012 R2 Standard / x64  OK    OK    OK    OK  UNNEEDED, same version is already published
machv2macOS 10.14.6 Mojave / x86_64  OK    OK    OK    OK  UNNEEDED, same version is already published
Package 72/86HostnameOS / ArchINSTALLBUILDCHECKBUILD BIN
seq2pathway 1.24.0  (landing page)
Arjun Kinstlick
git_last_commit: 61596ef
git_last_commit_date: 2021-05-19 12:10:49 -0400
nebbiolo1Linux (Ubuntu 20.04.2 LTS) / x86_64  OK    OK    WARNINGS  UNNEEDED, same version is already published
tokay2Windows Server 2012 R2 Standard / x64  OK    OK    WARNINGS    OK  UNNEEDED, same version is already published
machv2macOS 10.14.6 Mojave / x86_64  OK    OK    WARNINGS    OK  UNNEEDED, same version is already published
Package 73/86HostnameOS / ArchINSTALLBUILDCHECKBUILD BIN
SeqGSEA 1.32.0  (landing page)
Xi Wang
git_last_commit: 2ecabac
git_last_commit_date: 2021-05-19 11:58:27 -0400
nebbiolo1Linux (Ubuntu 20.04.2 LTS) / x86_64  OK    OK    OK  UNNEEDED, same version is already published
tokay2Windows Server 2012 R2 Standard / x64  OK    OK    OK    OK  UNNEEDED, same version is already published
machv2macOS 10.14.6 Mojave / x86_64  OK    OK    OK    OK  UNNEEDED, same version is already published
Package 74/86HostnameOS / ArchINSTALLBUILDCHECKBUILD BIN
sitadela 1.0.31  (landing page)
Panagiotis Moulos
git_last_commit: 4dcef7f
git_last_commit_date: 2021-10-13 12:19:09 -0400
nebbiolo1Linux (Ubuntu 20.04.2 LTS) / x86_64  ERROR    ERROR  skipped
tokay2Windows Server 2012 R2 Standard / x64  ERROR    ERROR  skippedskipped
machv2macOS 10.14.6 Mojave / x86_64  ERROR    ERROR  skippedskipped
Package 75/86HostnameOS / ArchINSTALLBUILDCHECKBUILD BIN
SPLINTER 1.18.0  (landing page)
Diana Low
git_last_commit: 9bb1aee
git_last_commit_date: 2021-05-19 12:23:18 -0400
nebbiolo1Linux (Ubuntu 20.04.2 LTS) / x86_64  OK    OK    OK  UNNEEDED, same version is already published
tokay2Windows Server 2012 R2 Standard / x64  OK    OK    WARNINGS    OK  UNNEEDED, same version is already published
machv2macOS 10.14.6 Mojave / x86_64  OK    OK    OK    OK  UNNEEDED, same version is already published
Package 76/86HostnameOS / ArchINSTALLBUILDCHECKBUILD BIN
Sushi 1.30.0  (landing page)
Douglas H Phanstiel
git_last_commit: 817131b
git_last_commit_date: 2021-05-19 12:04:34 -0400
nebbiolo1Linux (Ubuntu 20.04.2 LTS) / x86_64  OK    ERROR  skipped
tokay2Windows Server 2012 R2 Standard / x64  OK    ERROR  skippedskipped
machv2macOS 10.14.6 Mojave / x86_64  OK    ERROR  skippedskipped
Package 77/86HostnameOS / ArchINSTALLBUILDCHECKBUILD BIN
SWATH2stats 1.22.0  (landing page)
Peter Blattmann
git_last_commit: 9dd20d3
git_last_commit_date: 2021-05-19 12:16:16 -0400
nebbiolo1Linux (Ubuntu 20.04.2 LTS) / x86_64  OK    OK    ERROR  
tokay2Windows Server 2012 R2 Standard / x64  OK    OK    OK    OK  UNNEEDED, same version is already published
machv2macOS 10.14.6 Mojave / x86_64  OK    OK    OK    OK  UNNEEDED, same version is already published
Package 78/86HostnameOS / ArchINSTALLBUILDCHECKBUILD BIN
TCGAbiolinks 2.20.1  (landing page)
Tiago Chedraoui Silva
git_last_commit: d7830c91
git_last_commit_date: 2021-10-04 16:09:51 -0400
nebbiolo1Linux (Ubuntu 20.04.2 LTS) / x86_64  OK    OK    WARNINGS  UNNEEDED, same version is already published
tokay2Windows Server 2012 R2 Standard / x64  OK    OK    WARNINGS    OK  UNNEEDED, same version is already published
machv2macOS 10.14.6 Mojave / x86_64  OK    OK    WARNINGS    OK  UNNEEDED, same version is already published
Package 79/86HostnameOS / ArchINSTALLBUILDCHECKBUILD BIN
TFEA.ChIP 1.12.0  (landing page)
Laura Puente Santamaría
git_last_commit: ef83d9d
git_last_commit_date: 2021-05-19 12:32:25 -0400
nebbiolo1Linux (Ubuntu 20.04.2 LTS) / x86_64  OK    OK    OK  UNNEEDED, same version is already published
tokay2Windows Server 2012 R2 Standard / x64  OK    OK    OK    OK  UNNEEDED, same version is already published
machv2macOS 10.14.6 Mojave / x86_64  OK    OK    OK    OK  UNNEEDED, same version is already published
Package 80/86HostnameOS / ArchINSTALLBUILDCHECKBUILD BIN
TimiRGeN 1.2.0  (landing page)
Krutik Patel
git_last_commit: b07ea29
git_last_commit_date: 2021-05-19 12:55:19 -0400
nebbiolo1Linux (Ubuntu 20.04.2 LTS) / x86_64  OK    OK    OK  UNNEEDED, same version is already published
tokay2Windows Server 2012 R2 Standard / x64  OK    OK    OK    OK  UNNEEDED, same version is already published
machv2macOS 10.14.6 Mojave / x86_64  OK    OK    ERROR    OK  
Package 81/86HostnameOS / ArchINSTALLBUILDCHECKBUILD BIN
transcriptogramer 1.14.0  (landing page)
Diego Morais
git_last_commit: 33f0ca5
git_last_commit_date: 2021-05-19 12:31:57 -0400
nebbiolo1Linux (Ubuntu 20.04.2 LTS) / x86_64  OK    OK    OK  UNNEEDED, same version is already published
tokay2Windows Server 2012 R2 Standard / x64  OK    OK    OK    OK  UNNEEDED, same version is already published
machv2macOS 10.14.6 Mojave / x86_64  OK    OK    OK    OK  UNNEEDED, same version is already published
Package 82/86HostnameOS / ArchINSTALLBUILDCHECKBUILD BIN
trena 1.14.0  (landing page)
Paul Shannon
git_last_commit: c848203
git_last_commit_date: 2021-05-19 12:27:55 -0400
nebbiolo1Linux (Ubuntu 20.04.2 LTS) / x86_64  OK    ERROR  skipped
tokay2Windows Server 2012 R2 Standard / x64  OK    ERROR  skippedskipped
machv2macOS 10.14.6 Mojave / x86_64  OK    ERROR  skippedskipped
Package 83/86HostnameOS / ArchINSTALLBUILDCHECKBUILD BIN
VegaMC 3.30.0  (landing page)
Sandro Morganella
git_last_commit: 37e7f4f
git_last_commit_date: 2021-05-19 11:51:55 -0400
nebbiolo1Linux (Ubuntu 20.04.2 LTS) / x86_64  OK    OK    OK  UNNEEDED, same version is already published
tokay2Windows Server 2012 R2 Standard / x64  OK    OK    OK    OK  UNNEEDED, same version is already published
machv2macOS 10.14.6 Mojave / x86_64  OK    OK    WARNINGS    OK  UNNEEDED, same version is already published
Package 84/86HostnameOS / ArchINSTALLBUILDCHECKBUILD BIN
ViSEAGO 1.6.0  (landing page)
Aurelien Brionne
git_last_commit: 320ba38
git_last_commit_date: 2021-05-19 12:44:50 -0400
nebbiolo1Linux (Ubuntu 20.04.2 LTS) / x86_64  OK    OK    WARNINGS  UNNEEDED, same version is already published
tokay2Windows Server 2012 R2 Standard / x64  OK    OK    WARNINGS    OK  UNNEEDED, same version is already published
machv2macOS 10.14.6 Mojave / x86_64  OK    OK    WARNINGS    OK  UNNEEDED, same version is already published
Package 85/86HostnameOS / ArchINSTALLBUILDCHECKBUILD BIN
XCIR 1.6.0  (landing page)
Renan Sauteraud
git_last_commit: a1c5af3
git_last_commit_date: 2021-05-19 12:44:13 -0400
nebbiolo1Linux (Ubuntu 20.04.2 LTS) / x86_64  OK    OK    OK  UNNEEDED, same version is already published
tokay2Windows Server 2012 R2 Standard / x64  OK    OK    OK    OK  UNNEEDED, same version is already published
machv2macOS 10.14.6 Mojave / x86_64  OK    OK    OK    OK  UNNEEDED, same version is already published
Package 86/86HostnameOS / ArchINSTALLBUILDCHECKBUILD BIN
yarn 1.18.0  (landing page)
Joseph N Paulson
git_last_commit: a8b8b57
git_last_commit_date: 2021-05-19 12:24:27 -0400
nebbiolo1Linux (Ubuntu 20.04.2 LTS) / x86_64  OK    OK    OK  UNNEEDED, same version is already published
tokay2Windows Server 2012 R2 Standard / x64  OK    OK    OK    OK  UNNEEDED, same version is already published
machv2macOS 10.14.6 Mojave / x86_64  OK    OK    OK    OK  UNNEEDED, same version is already published