Back to Multiple platform build/check report for BioC 3.13
ABCDEFGHIJKLMNOP[Q]RSTUVWXYZ

This page was generated on 2021-09-22 15:04:36 -0400 (Wed, 22 Sep 2021).

All results for package QSutils

To the developers/maintainers of the QSutils package:
- Please allow up to 24 hours (and sometimes 48 hours) for your latest push to git@git.bioconductor.org:packages/QSutils.git to
reflect on this report. See How and When does the builder pull? When will my changes propagate? here for more information.
- Make sure to use the following settings in order to reproduce any error or warning you see on this page.

raw results

Package 1478/2041HostnameOS / ArchINSTALLBUILDCHECKBUILD BIN
QSutils 1.10.0  (landing page)
Mercedes Guerrero-Murillo
Snapshot Date: 2021-09-21 04:50:12 -0400 (Tue, 21 Sep 2021)
git_url: https://git.bioconductor.org/packages/QSutils
git_branch: RELEASE_3_13
git_last_commit: 74dbca7
git_last_commit_date: 2021-05-19 12:38:58 -0400 (Wed, 19 May 2021)
nebbiolo1Linux (Ubuntu 20.04.2 LTS) / x86_64  OK    OK    OK  UNNEEDED, same version is already published
tokay2Windows Server 2012 R2 Standard / x64  OK    OK    OK    OK  UNNEEDED, same version is already published
machv2macOS 10.14.6 Mojave / x86_64  OK    OK    OK    OK  UNNEEDED, same version is already published