Back to Multiple platform build/check report for BioC 3.13 |
|
This page was generated on 2021-10-15 15:06:15 -0400 (Fri, 15 Oct 2021).
To the developers/maintainers of the panelcn.mops package: - Please allow up to 24 hours (and sometimes 48 hours) for your latest push to git@git.bioconductor.org:packages/panelcn.mops.git to reflect on this report. See How and When does the builder pull? When will my changes propagate? here for more information. - Make sure to use the following settings in order to reproduce any error or warning you see on this page. |
Package 1340/2041 | Hostname | OS / Arch | INSTALL | BUILD | CHECK | BUILD BIN | ||||||||
panelcn.mops 1.14.0 (landing page) Gundula Povysil
| nebbiolo1 | Linux (Ubuntu 20.04.2 LTS) / x86_64 | OK | OK | OK | |||||||||
tokay2 | Windows Server 2012 R2 Standard / x64 | OK | OK | OK | OK | |||||||||
machv2 | macOS 10.14.6 Mojave / x86_64 | OK | OK | OK | OK | |||||||||
Package: panelcn.mops |
Version: 1.14.0 |
Command: C:\cygwin\bin\curl.exe -O http://155.52.207.165/BBS/3.13/bioc/src/contrib/panelcn.mops_1.14.0.tar.gz && rm -rf panelcn.mops.buildbin-libdir && mkdir panelcn.mops.buildbin-libdir && C:\Users\biocbuild\bbs-3.13-bioc\R\bin\R.exe CMD INSTALL --merge-multiarch --build --library=panelcn.mops.buildbin-libdir panelcn.mops_1.14.0.tar.gz && C:\Users\biocbuild\bbs-3.13-bioc\R\bin\R.exe CMD INSTALL panelcn.mops_1.14.0.zip && rm panelcn.mops_1.14.0.tar.gz panelcn.mops_1.14.0.zip |
StartedAt: 2021-10-14 08:06:47 -0400 (Thu, 14 Oct 2021) |
EndedAt: 2021-10-14 08:08:01 -0400 (Thu, 14 Oct 2021) |
EllapsedTime: 74.0 seconds |
RetCode: 0 |
Status: OK |
############################################################################## ############################################################################## ### ### Running command: ### ### C:\cygwin\bin\curl.exe -O http://155.52.207.165/BBS/3.13/bioc/src/contrib/panelcn.mops_1.14.0.tar.gz && rm -rf panelcn.mops.buildbin-libdir && mkdir panelcn.mops.buildbin-libdir && C:\Users\biocbuild\bbs-3.13-bioc\R\bin\R.exe CMD INSTALL --merge-multiarch --build --library=panelcn.mops.buildbin-libdir panelcn.mops_1.14.0.tar.gz && C:\Users\biocbuild\bbs-3.13-bioc\R\bin\R.exe CMD INSTALL panelcn.mops_1.14.0.zip && rm panelcn.mops_1.14.0.tar.gz panelcn.mops_1.14.0.zip ### ############################################################################## ############################################################################## % Total % Received % Xferd Average Speed Time Time Time Current Dload Upload Total Spent Left Speed 0 0 0 0 0 0 0 0 --:--:-- --:--:-- --:--:-- 0 10 421k 10 45689 0 0 293k 0 0:00:01 --:--:-- 0:00:01 293k 100 421k 100 421k 0 0 944k 0 --:--:-- --:--:-- --:--:-- 943k install for i386 * installing *source* package 'panelcn.mops' ... ** using staged installation ** R ** data *** moving datasets to lazyload DB ** inst ** byte-compile and prepare package for lazy loading ** help *** installing help indices converting help for package 'panelcn.mops' finding HTML links ... done control html countBamListInGRanges html countWindows html createResultTable html getWindows html panelcn.mops html plotBoxplot html read.width html resultlist html runPanelcnMops html splitROIs html test html ** building package indices ** installing vignettes ** testing if installed package can be loaded from temporary location ** testing if installed package can be loaded from final location ** testing if installed package keeps a record of temporary installation path install for x64 * installing *source* package 'panelcn.mops' ... ** testing if installed package can be loaded * MD5 sums packaged installation of 'panelcn.mops' as panelcn.mops_1.14.0.zip * DONE (panelcn.mops) * installing to library 'C:/Users/biocbuild/bbs-3.13-bioc/R/library' package 'panelcn.mops' successfully unpacked and MD5 sums checked