Back to Multiple platform build/check report for BioC 3.13
A[B]CDEFGHIJKLMNOPQRSTUVWXYZ

This page was generated on 2021-09-17 15:05:07 -0400 (Fri, 17 Sep 2021).

All results for package BiocFileCache

To the developers/maintainers of the BiocFileCache package:
- Please allow up to 24 hours (and sometimes 48 hours) for your latest push to git@git.bioconductor.org:packages/BiocFileCache.git to
reflect on this report. See How and When does the builder pull? When will my changes propagate? here for more information.
- Make sure to use the following settings in order to reproduce any error or warning you see on this page.

raw results

Package 161/2041HostnameOS / ArchINSTALLBUILDCHECKBUILD BIN
BiocFileCache 2.0.0  (landing page)
Lori Shepherd
Snapshot Date: 2021-09-16 04:50:11 -0400 (Thu, 16 Sep 2021)
git_url: https://git.bioconductor.org/packages/BiocFileCache
git_branch: RELEASE_3_13
git_last_commit: 280a8f9
git_last_commit_date: 2021-05-19 12:26:36 -0400 (Wed, 19 May 2021)
nebbiolo1Linux (Ubuntu 20.04.2 LTS) / x86_64  OK    OK    OK  UNNEEDED, same version is already published
tokay2Windows Server 2012 R2 Standard / x64  OK    OK    OK    OK  UNNEEDED, same version is already published
machv2macOS 10.14.6 Mojave / x86_64  OK    OK    OK    OK  UNNEEDED, same version is already published

Results for Bioconductor software packages that depend directly on package BiocFileCache

QUICK STATSOS / ArchINSTALLBUILDCHECKBUILD BIN
nebbiolo1Linux (Ubuntu 20.04.2 LTS) / x86_64
0050
0545
12438
tokay2Windows Server 2012 R2 Standard / x64
0048
0840
03334
0040
machv2macOS 10.14.6 Mojave / x86_64
0050
0545
00738
0045
Package 1/50HostnameOS / ArchINSTALLBUILDCHECKBUILD BIN
AMARETTO 1.8.0  (landing page)
Olivier Gevaert
git_last_commit: 3a94300
git_last_commit_date: 2021-05-19 12:42:00 -0400
nebbiolo1Linux (Ubuntu 20.04.2 LTS) / x86_64  OK    OK    OK  UNNEEDED, same version is already published
tokay2Windows Server 2012 R2 Standard / x64  OK    OK    OK    OK  UNNEEDED, same version is already published
machv2macOS 10.14.6 Mojave / x86_64  OK    OK    OK    OK  UNNEEDED, same version is already published
Package 2/50HostnameOS / ArchINSTALLBUILDCHECKBUILD BIN
AnnotationHub 3.0.1  (landing page)
Bioconductor Package Maintainer
git_last_commit: c9a2947
git_last_commit_date: 2021-06-18 12:27:17 -0400
nebbiolo1Linux (Ubuntu 20.04.2 LTS) / x86_64  OK    OK    WARNINGS  UNNEEDED, same version is already published
tokay2Windows Server 2012 R2 Standard / x64  OK    OK    WARNINGS    OK  UNNEEDED, same version is already published
machv2macOS 10.14.6 Mojave / x86_64  OK    OK    WARNINGS    OK  UNNEEDED, same version is already published
Package 3/50HostnameOS / ArchINSTALLBUILDCHECKBUILD BIN
atSNP 1.8.0  (landing page)
Sunyoung Shin
git_last_commit: 813c1c6
git_last_commit_date: 2021-05-19 12:41:05 -0400
nebbiolo1Linux (Ubuntu 20.04.2 LTS) / x86_64  OK    OK    OK  UNNEEDED, same version is already published
tokay2Windows Server 2012 R2 Standard / x64  OK    OK    OK    OK  UNNEEDED, same version is already published
machv2macOS 10.14.6 Mojave / x86_64  OK    OK    OK    OK  UNNEEDED, same version is already published
Package 4/50HostnameOS / ArchINSTALLBUILDCHECKBUILD BIN
autonomics 1.0.1  (landing page)
Aditya Bhagwat
git_last_commit: 5df16f7
git_last_commit_date: 2021-05-25 07:57:21 -0400
nebbiolo1Linux (Ubuntu 20.04.2 LTS) / x86_64  OK    OK    WARNINGS  UNNEEDED, same version is already published
tokay2Windows Server 2012 R2 Standard / x64  OK    OK    ERROR    OK  
machv2macOS 10.14.6 Mojave / x86_64  OK    OK    WARNINGS    OK  UNNEEDED, same version is already published
Package 5/50HostnameOS / ArchINSTALLBUILDCHECKBUILD BIN
BayesSpace 1.2.0  (landing page)
Matt Stone
git_last_commit: 53377bd
git_last_commit_date: 2021-05-19 12:56:21 -0400
nebbiolo1Linux (Ubuntu 20.04.2 LTS) / x86_64  OK    OK    OK  UNNEEDED, same version is already published
tokay2Windows Server 2012 R2 Standard / x64  OK    OK    OK    OK  UNNEEDED, same version is already published
machv2macOS 10.14.6 Mojave / x86_64  OK    OK    OK    OK  UNNEEDED, same version is already published
Package 6/50HostnameOS / ArchINSTALLBUILDCHECKBUILD BIN
BiocPkgTools 1.10.1  (landing page)
Sean Davis
git_last_commit: bba81c9
git_last_commit_date: 2021-05-22 15:29:12 -0400
nebbiolo1Linux (Ubuntu 20.04.2 LTS) / x86_64  OK    ERROR  skipped
tokay2Windows Server 2012 R2 Standard / x64  OK    ERROR  skippedskipped
machv2macOS 10.14.6 Mojave / x86_64  OK    ERROR  skippedskipped
Package 7/50HostnameOS / ArchINSTALLBUILDCHECKBUILD BIN
biomaRt 2.48.3  (landing page)
Mike Smith
git_last_commit: 66a592e
git_last_commit_date: 2021-08-12 09:34:37 -0400
nebbiolo1Linux (Ubuntu 20.04.2 LTS) / x86_64  OK    OK    OK  UNNEEDED, same version is already published
tokay2Windows Server 2012 R2 Standard / x64  OK    OK    OK    OK  UNNEEDED, same version is already published
machv2macOS 10.14.6 Mojave / x86_64  OK    OK    OK    OK  UNNEEDED, same version is already published
Package 8/50HostnameOS / ArchINSTALLBUILDCHECKBUILD BIN
BrainSABER 1.2.0  (landing page)
USD Biomedical Engineering
git_last_commit: 0c1b22d
git_last_commit_date: 2021-05-19 12:52:45 -0400
nebbiolo1Linux (Ubuntu 20.04.2 LTS) / x86_64  OK    OK    OK  UNNEEDED, same version is already published
tokay2Windows Server 2012 R2 Standard / x64  OK    OK    OK    OK  UNNEEDED, same version is already published
machv2macOS 10.14.6 Mojave / x86_64  OK    OK    OK    OK  UNNEEDED, same version is already published
Package 9/50HostnameOS / ArchINSTALLBUILDCHECKBUILD BIN
brendaDb 1.6.0  (landing page)
Yi Zhou
git_last_commit: afc5e0a
git_last_commit_date: 2021-05-19 12:45:36 -0400
nebbiolo1Linux (Ubuntu 20.04.2 LTS) / x86_64  OK    OK    OK  UNNEEDED, same version is already published
tokay2Windows Server 2012 R2 Standard / x64  OK    OK    OK    OK  UNNEEDED, same version is already published
machv2macOS 10.14.6 Mojave / x86_64  OK    OK    OK    OK  UNNEEDED, same version is already published
Package 10/50HostnameOS / ArchINSTALLBUILDCHECKBUILD BIN
cbaf 1.14.0  (landing page)
Arman Shahrisa
git_last_commit: 3fcea28
git_last_commit_date: 2021-05-19 12:30:42 -0400
nebbiolo1Linux (Ubuntu 20.04.2 LTS) / x86_64  OK    OK    OK  UNNEEDED, same version is already published
tokay2Windows Server 2012 R2 Standard / x64  OK    OK    OK    OK  UNNEEDED, same version is already published
machv2macOS 10.14.6 Mojave / x86_64  OK    OK    OK    OK  UNNEEDED, same version is already published
Package 11/50HostnameOS / ArchINSTALLBUILDCHECKBUILD BIN
cBioPortalData 2.4.8  (landing page)
Marcel Ramos
git_last_commit: 3a43ce4
git_last_commit_date: 2021-08-23 15:35:27 -0400
nebbiolo1Linux (Ubuntu 20.04.2 LTS) / x86_64  OK    OK    WARNINGS  UNNEEDED, same version is already published
tokay2Windows Server 2012 R2 Standard / x64  OK    OK    WARNINGS    OK  UNNEEDED, same version is already published
machv2macOS 10.14.6 Mojave / x86_64  OK    OK    WARNINGS    OK  UNNEEDED, same version is already published
Package 12/50HostnameOS / ArchINSTALLBUILDCHECKBUILD BIN
CellBench 1.8.0  (landing page)
Shian Su
git_last_commit: aa35afe
git_last_commit_date: 2021-05-19 12:41:27 -0400
nebbiolo1Linux (Ubuntu 20.04.2 LTS) / x86_64  OK    OK    OK  UNNEEDED, same version is already published
tokay2Windows Server 2012 R2 Standard / x64  OK    OK    OK    OK  UNNEEDED, same version is already published
machv2macOS 10.14.6 Mojave / x86_64  OK    OK    OK    OK  UNNEEDED, same version is already published
Package 13/50HostnameOS / ArchINSTALLBUILDCHECKBUILD BIN
conclus 1.0.0  (landing page)
Ilyess Rachedi
git_last_commit: 1336595
git_last_commit_date: 2021-05-19 13:01:43 -0400
nebbiolo1Linux (Ubuntu 20.04.2 LTS) / x86_64  OK    OK    OK  UNNEEDED, same version is already published
tokay2Windows Server 2012 R2 Standard / x64  OK    OK    ERROR    OK  
machv2macOS 10.14.6 Mojave / x86_64  OK    OK    OK    OK  UNNEEDED, same version is already published
Package 14/50HostnameOS / ArchINSTALLBUILDCHECKBUILD BIN
CTDquerier 2.0.0  (landing page)
Xavier EscribĂ -Montagut
git_last_commit: 54a0a69
git_last_commit_date: 2021-05-19 13:00:36 -0400
nebbiolo1Linux (Ubuntu 20.04.2 LTS) / x86_64  OK    OK    TIMEOUT  
tokay2Windows Server 2012 R2 Standard / x64  OK    OK    WARNINGS    OK  UNNEEDED, same version is already published
machv2macOS 10.14.6 Mojave / x86_64  OK    OK    WARNINGS    OK  UNNEEDED, same version is already published
Package 15/50HostnameOS / ArchINSTALLBUILDCHECKBUILD BIN
customCMPdb 1.2.0  (landing page)
Yuzhu Duan
git_last_commit: 3357c4d
git_last_commit_date: 2021-05-19 12:56:23 -0400
nebbiolo1Linux (Ubuntu 20.04.2 LTS) / x86_64  OK    OK    OK  UNNEEDED, same version is already published
tokay2Windows Server 2012 R2 Standard / x64  OK    OK    OK    OK  UNNEEDED, same version is already published
machv2macOS 10.14.6 Mojave / x86_64  OK    OK    OK    OK  UNNEEDED, same version is already published
Package 16/50HostnameOS / ArchINSTALLBUILDCHECKBUILD BIN
dasper 1.2.0  (landing page)
David Zhang
git_last_commit: 9bf018b
git_last_commit_date: 2021-05-19 12:57:36 -0400
nebbiolo1Linux (Ubuntu 20.04.2 LTS) / x86_64  OK    OK    ERROR  
tokay2Windows Server 2012 R2 Standard / x64  OK    OK    OK    OK  UNNEEDED, same version is already published
machv2macOS 10.14.6 Mojave / x86_64  OK    OK    OK    OK  UNNEEDED, same version is already published
Package 17/50HostnameOS / ArchINSTALLBUILDCHECKBUILD BIN
drugTargetInteractions 1.0.2  (landing page)
Thomas Girke
git_last_commit: dd1665a
git_last_commit_date: 2021-08-26 14:37:10 -0400
nebbiolo1Linux (Ubuntu 20.04.2 LTS) / x86_64  OK    OK    OK  UNNEEDED, same version is already published
tokay2Windows Server 2012 R2 Standard / x64  OK    OK    OK    OK  NO, package depends on 'UniProt.ws' which is not available
machv2macOS 10.14.6 Mojave / x86_64  OK    OK    OK    OK  UNNEEDED, same version is already published
Package 18/50HostnameOS / ArchINSTALLBUILDCHECKBUILD BIN
easyRNASeq 2.28.0  (landing page)
Nicolas Delhomme
git_last_commit: 6d18522
git_last_commit_date: 2021-05-19 11:51:10 -0400
nebbiolo1Linux (Ubuntu 20.04.2 LTS) / x86_64  OK    OK    OK  UNNEEDED, same version is already published
tokay2Windows Server 2012 R2 Standard / x64  OK    OK    OK    OK  UNNEEDED, same version is already published
machv2macOS 10.14.6 Mojave / x86_64  OK    OK    OK    OK  UNNEEDED, same version is already published
Package 19/50HostnameOS / ArchINSTALLBUILDCHECKBUILD BIN
EnrichmentBrowser 2.22.2  (landing page)
Ludwig Geistlinger
git_last_commit: e3ba414
git_last_commit_date: 2021-07-21 08:44:59 -0400
nebbiolo1Linux (Ubuntu 20.04.2 LTS) / x86_64  OK    OK    OK  UNNEEDED, same version is already published
tokay2Windows Server 2012 R2 Standard / x64  OK    OK    OK    OK  UNNEEDED, same version is already published
machv2macOS 10.14.6 Mojave / x86_64  OK    OK    OK    OK  UNNEEDED, same version is already published
Package 20/50HostnameOS / ArchINSTALLBUILDCHECKBUILD BIN
EpiTxDb 1.4.0  (landing page)
Felix G.M. Ernst
git_last_commit: 14681e3
git_last_commit_date: 2021-05-19 12:50:24 -0400
nebbiolo1Linux (Ubuntu 20.04.2 LTS) / x86_64  OK    OK    OK  UNNEEDED, same version is already published
tokay2Windows Server 2012 R2 Standard / x64  OK    OK    OK    OK  UNNEEDED, same version is already published
machv2macOS 10.14.6 Mojave / x86_64  OK    OK    OK    OK  UNNEEDED, same version is already published
Package 21/50HostnameOS / ArchINSTALLBUILDCHECKBUILD BIN
ExperimentHub 2.0.0  (landing page)
Bioconductor Package Maintainer
git_last_commit: a899441
git_last_commit_date: 2021-05-19 12:18:19 -0400
nebbiolo1Linux (Ubuntu 20.04.2 LTS) / x86_64  OK    OK    OK  UNNEEDED, same version is already published
tokay2Windows Server 2012 R2 Standard / x64  OK    OK    OK    OK  UNNEEDED, same version is already published
machv2macOS 10.14.6 Mojave / x86_64  OK    OK    OK    OK  UNNEEDED, same version is already published
Package 22/50HostnameOS / ArchINSTALLBUILDCHECKBUILD BIN
fgga 1.0.0  (landing page)
Spetale Flavio
git_last_commit: aefd8a8
git_last_commit_date: 2021-05-19 13:03:00 -0400
nebbiolo1Linux (Ubuntu 20.04.2 LTS) / x86_64  OK    OK    OK  UNNEEDED, same version is already published
tokay2Windows Server 2012 R2 Standard / x64  OK    OK    OK    OK  UNNEEDED, same version is already published
machv2macOS 10.14.6 Mojave / x86_64  OK    OK    WARNINGS    OK  UNNEEDED, same version is already published
Package 23/50HostnameOS / ArchINSTALLBUILDCHECKBUILD BIN
GAPGOM 1.8.0  (landing page)
Rezvan Ehsani
git_last_commit: e8e35ed
git_last_commit_date: 2021-05-19 12:40:41 -0400
nebbiolo1Linux (Ubuntu 20.04.2 LTS) / x86_64  OK    OK    OK  UNNEEDED, same version is already published
tokay2Windows Server 2012 R2 Standard / x64  OK    OK    OK    OK  UNNEEDED, same version is already published
machv2macOS 10.14.6 Mojave / x86_64  OK    OK    OK    OK  UNNEEDED, same version is already published
Package 24/50HostnameOS / ArchINSTALLBUILDCHECKBUILD BIN
GenomicScores 2.4.0  (landing page)
Robert Castelo
git_last_commit: 4b46561
git_last_commit_date: 2021-05-19 12:27:15 -0400
nebbiolo1Linux (Ubuntu 20.04.2 LTS) / x86_64  OK    OK    OK  UNNEEDED, same version is already published
tokay2Windows Server 2012 R2 Standard / x64  OK    OK    OK    OK  UNNEEDED, same version is already published
machv2macOS 10.14.6 Mojave / x86_64  OK    OK    OK    OK  UNNEEDED, same version is already published
Package 25/50HostnameOS / ArchINSTALLBUILDCHECKBUILD BIN
GenomicSuperSignature 1.0.1  (landing page)
Sehyun Oh
git_last_commit: 56891d8
git_last_commit_date: 2021-05-27 00:42:16 -0400
nebbiolo1Linux (Ubuntu 20.04.2 LTS) / x86_64  OK    OK    OK  UNNEEDED, same version is already published
tokay2Windows Server 2012 R2 Standard / x64  OK    OK    OK    OK  UNNEEDED, same version is already published
machv2macOS 10.14.6 Mojave / x86_64  OK    OK    OK    OK  UNNEEDED, same version is already published
Package 26/50HostnameOS / ArchINSTALLBUILDCHECKBUILD BIN
GSEABenchmarkeR 1.12.1  (landing page)
Ludwig Geistlinger
git_last_commit: 06d448c
git_last_commit_date: 2021-07-16 17:21:02 -0400
nebbiolo1Linux (Ubuntu 20.04.2 LTS) / x86_64  OK    OK    OK  UNNEEDED, same version is already published
tokay2Windows Server 2012 R2 Standard / x64  OK    OK    OK    OK  UNNEEDED, same version is already published
machv2macOS 10.14.6 Mojave / x86_64  OK    OK    OK    OK  UNNEEDED, same version is already published
Package 27/50HostnameOS / ArchINSTALLBUILDCHECKBUILD BIN
gwascat 2.24.0  (landing page)
VJ Carey
git_last_commit: d251baa
git_last_commit_date: 2021-05-19 11:51:31 -0400
nebbiolo1Linux (Ubuntu 20.04.2 LTS) / x86_64  OK    OK    OK  UNNEEDED, same version is already published
tokay2Windows Server 2012 R2 Standard / x64  OK    OK    OK    OK  UNNEEDED, same version is already published
machv2macOS 10.14.6 Mojave / x86_64  OK    OK    OK    OK  UNNEEDED, same version is already published
Package 28/50HostnameOS / ArchINSTALLBUILDCHECKBUILD BIN
hca 1.0.3  (landing page)
Maya McDaniel
git_last_commit: d0d0c9c
git_last_commit_date: 2021-08-20 12:48:19 -0400
nebbiolo1Linux (Ubuntu 20.04.2 LTS) / x86_64  OK    OK    OK  UNNEEDED, same version is already published
tokay2Windows Server 2012 R2 Standard / x64  OK    OK    OK    OK  UNNEEDED, same version is already published
machv2macOS 10.14.6 Mojave / x86_64  OK    OK    OK    OK  UNNEEDED, same version is already published
Package 29/50HostnameOS / ArchINSTALLBUILDCHECKBUILD BIN
HCABrowser 1.8.0  (landing page)
Bioconductor Package Maintainer
git_last_commit: db714c6
git_last_commit_date: 2021-05-19 12:44:02 -0400
nebbiolo1Linux (Ubuntu 20.04.2 LTS) / x86_64  OK    ERROR  skipped
tokay2Windows Server 2012 R2 Standard / x64  OK    ERROR  skippedskipped
machv2macOS 10.14.6 Mojave / x86_64  OK    ERROR  skippedskipped
Package 30/50HostnameOS / ArchINSTALLBUILDCHECKBUILD BIN
HCAExplorer 1.6.0  (landing page)
Bioconductor Package Maintainer
git_last_commit: 7b9e6f8
git_last_commit_date: 2021-05-19 12:48:08 -0400
nebbiolo1Linux (Ubuntu 20.04.2 LTS) / x86_64  OK    ERROR  skipped
tokay2Windows Server 2012 R2 Standard / x64  OK    ERROR  skippedskipped
machv2macOS 10.14.6 Mojave / x86_64  OK    ERROR  skippedskipped
Package 31/50HostnameOS / ArchINSTALLBUILDCHECKBUILD BIN
HCAMatrixBrowser 1.2.0  (landing page)
Marcel Ramos
git_last_commit: 708a166
git_last_commit_date: 2021-05-19 12:53:14 -0400
nebbiolo1Linux (Ubuntu 20.04.2 LTS) / x86_64  OK    ERROR  skipped
tokay2Windows Server 2012 R2 Standard / x64  OK    ERROR  skippedskipped
machv2macOS 10.14.6 Mojave / x86_64  OK    ERROR  skippedskipped
Package 32/50HostnameOS / ArchINSTALLBUILDCHECKBUILD BIN
MBQN 2.4.0  (landing page)
Ariane Schad
git_last_commit: 5d61122
git_last_commit_date: 2021-05-19 12:47:21 -0400
nebbiolo1Linux (Ubuntu 20.04.2 LTS) / x86_64  OK    ERROR  skipped
tokay2Windows Server 2012 R2 Standard / x64  OK    ERROR  skippedskipped
machv2macOS 10.14.6 Mojave / x86_64  OK    ERROR  skippedskipped
Package 33/50HostnameOS / ArchINSTALLBUILDCHECKBUILD BIN
netDx 1.4.3  (landing page)
Shraddha Pai
git_last_commit: 4f053f2
git_last_commit_date: 2021-08-18 18:41:08 -0400
nebbiolo1Linux (Ubuntu 20.04.2 LTS) / x86_64  OK    OK    WARNINGS  UNNEEDED, same version is already published
tokay2Windows Server 2012 R2 Standard / x64... NOT SUPPORTED ...
machv2macOS 10.14.6 Mojave / x86_64  OK    OK    WARNINGS    OK  UNNEEDED, same version is already published
Package 34/50HostnameOS / ArchINSTALLBUILDCHECKBUILD BIN
ontoProc 1.14.0  (landing page)
VJ Carey
git_last_commit: 2ba1033
git_last_commit_date: 2021-05-19 12:31:28 -0400
nebbiolo1Linux (Ubuntu 20.04.2 LTS) / x86_64  OK    OK    OK  UNNEEDED, same version is already published
tokay2Windows Server 2012 R2 Standard / x64  OK    OK    OK    OK  UNNEEDED, same version is already published
machv2macOS 10.14.6 Mojave / x86_64  OK    OK    OK    OK  UNNEEDED, same version is already published
Package 35/50HostnameOS / ArchINSTALLBUILDCHECKBUILD BIN
Organism.dplyr 1.20.0  (landing page)
Martin Morgan
git_last_commit: 1806248
git_last_commit_date: 2021-05-19 12:26:12 -0400
nebbiolo1Linux (Ubuntu 20.04.2 LTS) / x86_64  OK    OK    OK  UNNEEDED, same version is already published
tokay2Windows Server 2012 R2 Standard / x64  OK    OK    OK    OK  UNNEEDED, same version is already published
machv2macOS 10.14.6 Mojave / x86_64  OK    OK    OK    OK  UNNEEDED, same version is already published
Package 36/50HostnameOS / ArchINSTALLBUILDCHECKBUILD BIN
psichomics 1.18.5  (landing page)
Nuno Saraiva-Agostinho
git_last_commit: 76fad5a
git_last_commit_date: 2021-08-24 18:45:01 -0400
nebbiolo1Linux (Ubuntu 20.04.2 LTS) / x86_64  OK    OK    OK  UNNEEDED, same version is already published
tokay2Windows Server 2012 R2 Standard / x64  OK    OK    OK    OK  UNNEEDED, same version is already published
machv2macOS 10.14.6 Mojave / x86_64  OK    OK    OK    OK  UNNEEDED, same version is already published
Package 37/50HostnameOS / ArchINSTALLBUILDCHECKBUILD BIN
RcwlPipelines 1.8.0  (landing page)
Qiang Hu
git_last_commit: 4e08b9e
git_last_commit_date: 2021-05-19 12:41:49 -0400
nebbiolo1Linux (Ubuntu 20.04.2 LTS) / x86_64  OK    OK    OK  UNNEEDED, same version is already published
tokay2Windows Server 2012 R2 Standard / x64... NOT SUPPORTED ...
machv2macOS 10.14.6 Mojave / x86_64  OK    OK    OK    OK  UNNEEDED, same version is already published
Package 38/50HostnameOS / ArchINSTALLBUILDCHECKBUILD BIN
recount3 1.2.5  (landing page)
Leonardo Collado-Torres
git_last_commit: 5338a44
git_last_commit_date: 2021-09-14 16:28:55 -0400
nebbiolo1Linux (Ubuntu 20.04.2 LTS) / x86_64  OK    OK    OK  YES
tokay2Windows Server 2012 R2 Standard / x64  OK    OK    OK    OK  YES
machv2macOS 10.14.6 Mojave / x86_64  OK    OK    OK    OK  YES
Package 39/50HostnameOS / ArchINSTALLBUILDCHECKBUILD BIN
recountmethylation 1.2.0  (landing page)
Sean K Maden
git_last_commit: de6fb2f
git_last_commit_date: 2021-05-19 12:55:10 -0400
nebbiolo1Linux (Ubuntu 20.04.2 LTS) / x86_64  OK    OK    OK  UNNEEDED, same version is already published
tokay2Windows Server 2012 R2 Standard / x64  OK    ERROR  skippedskipped
machv2macOS 10.14.6 Mojave / x86_64  OK    OK    OK    OK  UNNEEDED, same version is already published
Package 40/50HostnameOS / ArchINSTALLBUILDCHECKBUILD BIN
regutools 1.4.0  (landing page)
Joselyn Chavez
git_last_commit: fe87b86
git_last_commit_date: 2021-05-19 12:52:12 -0400
nebbiolo1Linux (Ubuntu 20.04.2 LTS) / x86_64  OK    OK    OK  UNNEEDED, same version is already published
tokay2Windows Server 2012 R2 Standard / x64  OK    OK    OK    OK  UNNEEDED, same version is already published
machv2macOS 10.14.6 Mojave / x86_64  OK    OK    OK    OK  UNNEEDED, same version is already published
Package 41/50HostnameOS / ArchINSTALLBUILDCHECKBUILD BIN
RiboDiPA 1.0.0  (landing page)
Ji-Ping Wang
git_last_commit: a39b378
git_last_commit_date: 2021-05-19 12:59:17 -0400
nebbiolo1Linux (Ubuntu 20.04.2 LTS) / x86_64  OK    OK    OK  UNNEEDED, same version is already published
tokay2Windows Server 2012 R2 Standard / x64  OK    OK    OK    OK  UNNEEDED, same version is already published
machv2macOS 10.14.6 Mojave / x86_64  OK    OK    OK    OK  UNNEEDED, same version is already published
Package 42/50HostnameOS / ArchINSTALLBUILDCHECKBUILD BIN
rpx 2.0.3  (landing page)
Laurent Gatto
git_last_commit: 9d84fbe
git_last_commit_date: 2021-08-17 03:17:52 -0400
nebbiolo1Linux (Ubuntu 20.04.2 LTS) / x86_64  OK    OK    ERROR  
tokay2Windows Server 2012 R2 Standard / x64  OK    OK    ERROR    OK  
machv2macOS 10.14.6 Mojave / x86_64  OK    OK    OK    OK  UNNEEDED, same version is already published
Package 43/50HostnameOS / ArchINSTALLBUILDCHECKBUILD BIN
SpatialExperiment 1.2.1  (landing page)
Dario Righelli
git_last_commit: 625ce87
git_last_commit_date: 2021-06-08 09:59:17 -0400
nebbiolo1Linux (Ubuntu 20.04.2 LTS) / x86_64  OK    OK    OK  UNNEEDED, same version is already published
tokay2Windows Server 2012 R2 Standard / x64  OK    OK    OK    OK  UNNEEDED, same version is already published
machv2macOS 10.14.6 Mojave / x86_64  OK    OK    OK    OK  UNNEEDED, same version is already published
Package 44/50HostnameOS / ArchINSTALLBUILDCHECKBUILD BIN
spatialHeatmap 1.2.0  (landing page)
Jianhai Zhang
git_last_commit: a2af50d
git_last_commit_date: 2021-05-19 12:56:16 -0400
nebbiolo1Linux (Ubuntu 20.04.2 LTS) / x86_64  OK    OK    OK  UNNEEDED, same version is already published
tokay2Windows Server 2012 R2 Standard / x64  OK    OK    OK    OK  UNNEEDED, same version is already published
machv2macOS 10.14.6 Mojave / x86_64  OK    OK    OK    OK  UNNEEDED, same version is already published
Package 45/50HostnameOS / ArchINSTALLBUILDCHECKBUILD BIN
TFutils 1.12.2  (landing page)
Vincent Carey
git_last_commit: df013ae
git_last_commit_date: 2021-08-03 17:29:35 -0400
nebbiolo1Linux (Ubuntu 20.04.2 LTS) / x86_64  OK    OK    OK  UNNEEDED, same version is already published
tokay2Windows Server 2012 R2 Standard / x64  OK    ERROR  skippedskipped
machv2macOS 10.14.6 Mojave / x86_64  OK    OK    OK    OK  UNNEEDED, same version is already published
Package 46/50HostnameOS / ArchINSTALLBUILDCHECKBUILD BIN
tximeta 1.10.0  (landing page)
Michael Love
git_last_commit: da94a30
git_last_commit_date: 2021-05-19 12:37:40 -0400
nebbiolo1Linux (Ubuntu 20.04.2 LTS) / x86_64  OK    OK    OK  UNNEEDED, same version is already published
tokay2Windows Server 2012 R2 Standard / x64  OK    OK    OK    OK  UNNEEDED, same version is already published
machv2macOS 10.14.6 Mojave / x86_64  OK    OK    OK    OK  UNNEEDED, same version is already published
Package 47/50HostnameOS / ArchINSTALLBUILDCHECKBUILD BIN
UMI4Cats 1.2.1  (landing page)
Mireia Ramos-Rodriguez
git_last_commit: a8ed2ca
git_last_commit_date: 2021-06-11 09:01:25 -0400
nebbiolo1Linux (Ubuntu 20.04.2 LTS) / x86_64  OK    OK    OK  UNNEEDED, same version is already published
tokay2Windows Server 2012 R2 Standard / x64  OK    OK    OK    OK  UNNEEDED, same version is already published
machv2macOS 10.14.6 Mojave / x86_64  OK    OK    OK    OK  UNNEEDED, same version is already published
Package 48/50HostnameOS / ArchINSTALLBUILDCHECKBUILD BIN
uncoverappLib 1.2.0  (landing page)
Emanuela Iovino
git_last_commit: eac9828
git_last_commit_date: 2021-05-19 12:54:28 -0400
nebbiolo1Linux (Ubuntu 20.04.2 LTS) / x86_64  OK    OK    OK  UNNEEDED, same version is already published
tokay2Windows Server 2012 R2 Standard / x64  OK    OK    OK    OK  UNNEEDED, same version is already published
machv2macOS 10.14.6 Mojave / x86_64  OK    OK    OK    OK  UNNEEDED, same version is already published
Package 49/50HostnameOS / ArchINSTALLBUILDCHECKBUILD BIN
UniProt.ws 2.32.0  (landing page)
Bioconductor Package Maintainer
git_last_commit: f289fbf
git_last_commit_date: 2021-05-19 11:54:41 -0400
nebbiolo1Linux (Ubuntu 20.04.2 LTS) / x86_64  OK    OK    OK  UNNEEDED, same version is already published
tokay2Windows Server 2012 R2 Standard / x64  OK    ERROR  skippedskipped
machv2macOS 10.14.6 Mojave / x86_64  OK    OK    OK    OK  UNNEEDED, same version is already published
Package 50/50HostnameOS / ArchINSTALLBUILDCHECKBUILD BIN
waddR 1.6.1  (landing page)
Julian Flesch
git_last_commit: 90d967f
git_last_commit_date: 2021-05-28 18:08:13 -0400
nebbiolo1Linux (Ubuntu 20.04.2 LTS) / x86_64  OK    OK    OK  UNNEEDED, same version is already published
tokay2Windows Server 2012 R2 Standard / x64  OK    OK    OK    OK  UNNEEDED, same version is already published
machv2macOS 10.14.6 Mojave / x86_64  OK    OK    WARNINGS    OK  UNNEEDED, same version is already published