Back to Multiple platform build/check report for BioC 3.13
ABCD[E]FGHIJKLMNOPQRSTUVWXYZ

This page was generated on 2021-09-27 15:05:31 -0400 (Mon, 27 Sep 2021).

All results for package EDDA

To the developers/maintainers of the EDDA package:
- Please allow up to 24 hours (and sometimes 48 hours) for your latest push to git@git.bioconductor.org:packages/EDDA.git to
reflect on this report. See How and When does the builder pull? When will my changes propagate? here for more information.
- Make sure to use the following settings in order to reproduce any error or warning you see on this page.

raw results

Package 555/2041HostnameOS / ArchINSTALLBUILDCHECKBUILD BIN
EDDA 1.30.0  (landing page)
Chia Kuan Hui Burton , Niranjan Nagarajan
Snapshot Date: 2021-09-26 04:50:10 -0400 (Sun, 26 Sep 2021)
git_url: https://git.bioconductor.org/packages/EDDA
git_branch: RELEASE_3_13
git_last_commit: 86026fb
git_last_commit_date: 2021-05-19 12:03:09 -0400 (Wed, 19 May 2021)
nebbiolo1Linux (Ubuntu 20.04.2 LTS) / x86_64  ERROR    ERROR  skipped
tokay2Windows Server 2012 R2 Standard / x64  ERROR    ERROR  skippedskipped
machv2macOS 10.14.6 Mojave / x86_64  ERROR    ERROR  skippedskipped