Back to Multiple platform build/check report for BioC 3.13
ABCDEFGHIJKLMNOPQR[S]TUVWXYZ

This page was generated on 2021-10-15 15:06:22 -0400 (Fri, 15 Oct 2021).

BUILD results for SeqGate on tokay2

To the developers/maintainers of the SeqGate package:
- Please allow up to 24 hours (and sometimes 48 hours) for your latest push to git@git.bioconductor.org:packages/SeqGate.git to
reflect on this report. See How and When does the builder pull? When will my changes propagate? here for more information.
- Make sure to use the following settings in order to reproduce any error or warning you see on this page.

raw results

Package 1736/2041HostnameOS / ArchINSTALLBUILDCHECKBUILD BIN
SeqGate 1.2.0  (landing page)
St├ęphanie Rialle
Snapshot Date: 2021-10-14 04:50:12 -0400 (Thu, 14 Oct 2021)
git_url: https://git.bioconductor.org/packages/SeqGate
git_branch: RELEASE_3_13
git_last_commit: 7196a0b
git_last_commit_date: 2021-05-19 12:55:53 -0400 (Wed, 19 May 2021)
nebbiolo1Linux (Ubuntu 20.04.2 LTS) / x86_64  OK    OK    OK  UNNEEDED, same version is already published
tokay2Windows Server 2012 R2 Standard / x64  OK    OK    OK    OK  UNNEEDED, same version is already published
machv2macOS 10.14.6 Mojave / x86_64  OK    OK    OK    OK  UNNEEDED, same version is already published

Summary

Package: SeqGate
Version: 1.2.0
Command: chmod a+r SeqGate -R && C:\Users\biocbuild\bbs-3.13-bioc\R\bin\R.exe CMD build --keep-empty-dirs --no-resave-data SeqGate
StartedAt: 2021-10-14 18:11:10 -0400 (Thu, 14 Oct 2021)
EndedAt: 2021-10-14 18:12:21 -0400 (Thu, 14 Oct 2021)
EllapsedTime: 71.7 seconds
RetCode: 0
Status:   OK  
PackageFile: SeqGate_1.2.0.tar.gz
PackageFileSize: 248.3 KiB

Command output

##############################################################################
##############################################################################
###
### Running command:
###
###   chmod a+r SeqGate -R && C:\Users\biocbuild\bbs-3.13-bioc\R\bin\R.exe CMD build --keep-empty-dirs --no-resave-data SeqGate
###
##############################################################################
##############################################################################


* checking for file 'SeqGate/DESCRIPTION' ... OK
* preparing 'SeqGate':
* checking DESCRIPTION meta-information ... OK
* installing the package to process help pages
* saving partial Rd database
* creating vignettes ... OK
* checking for LF line-endings in source and make files and shell scripts
* checking for empty or unneeded directories
* looking to see if a 'data/datalist' file should be added
* building 'SeqGate_1.2.0.tar.gz'