Back to Multiple platform build/check report for BioC 3.13 |
|
This page was generated on 2021-10-15 15:06:05 -0400 (Fri, 15 Oct 2021).
To the developers/maintainers of the flowVS package: - Please allow up to 24 hours (and sometimes 48 hours) for your latest push to git@git.bioconductor.org:packages/flowVS.git to reflect on this report. See How and When does the builder pull? When will my changes propagate? here for more information. - Make sure to use the following settings in order to reproduce any error or warning you see on this page. |
Package 668/2041 | Hostname | OS / Arch | INSTALL | BUILD | CHECK | BUILD BIN | ||||||||
flowVS 1.24.0 (landing page) Ariful Azad
| nebbiolo1 | Linux (Ubuntu 20.04.2 LTS) / x86_64 | OK | OK | OK | |||||||||
tokay2 | Windows Server 2012 R2 Standard / x64 | OK | OK | OK | OK | |||||||||
machv2 | macOS 10.14.6 Mojave / x86_64 | OK | OK | OK | OK | |||||||||
Package: flowVS |
Version: 1.24.0 |
Command: C:\cygwin\bin\curl.exe -O http://155.52.207.165/BBS/3.13/bioc/src/contrib/flowVS_1.24.0.tar.gz && rm -rf flowVS.buildbin-libdir && mkdir flowVS.buildbin-libdir && C:\Users\biocbuild\bbs-3.13-bioc\R\bin\R.exe CMD INSTALL --merge-multiarch --build --library=flowVS.buildbin-libdir flowVS_1.24.0.tar.gz && C:\Users\biocbuild\bbs-3.13-bioc\R\bin\R.exe CMD INSTALL flowVS_1.24.0.zip && rm flowVS_1.24.0.tar.gz flowVS_1.24.0.zip |
StartedAt: 2021-10-14 11:16:48 -0400 (Thu, 14 Oct 2021) |
EndedAt: 2021-10-14 11:18:02 -0400 (Thu, 14 Oct 2021) |
EllapsedTime: 74.4 seconds |
RetCode: 0 |
Status: OK |
############################################################################## ############################################################################## ### ### Running command: ### ### C:\cygwin\bin\curl.exe -O http://155.52.207.165/BBS/3.13/bioc/src/contrib/flowVS_1.24.0.tar.gz && rm -rf flowVS.buildbin-libdir && mkdir flowVS.buildbin-libdir && C:\Users\biocbuild\bbs-3.13-bioc\R\bin\R.exe CMD INSTALL --merge-multiarch --build --library=flowVS.buildbin-libdir flowVS_1.24.0.tar.gz && C:\Users\biocbuild\bbs-3.13-bioc\R\bin\R.exe CMD INSTALL flowVS_1.24.0.zip && rm flowVS_1.24.0.tar.gz flowVS_1.24.0.zip ### ############################################################################## ############################################################################## % Total % Received % Xferd Average Speed Time Time Time Current Dload Upload Total Spent Left Speed 0 0 0 0 0 0 0 0 --:--:-- --:--:-- --:--:-- 0 28 3442k 28 966k 0 0 1512k 0 0:00:02 --:--:-- 0:00:02 1511k 100 3442k 100 3442k 0 0 2185k 0 0:00:01 0:00:01 --:--:-- 2187k install for i386 * installing *source* package 'flowVS' ... ** using staged installation ** R ** data ** byte-compile and prepare package for lazy loading ** help *** installing help indices converting help for package 'flowVS' finding HTML links ... done HD html estParamFlowVS html flowVS-package html lymphs html microVS html plotMeanSd html transFlowVS html ** building package indices ** installing vignettes ** testing if installed package can be loaded from temporary location ** testing if installed package can be loaded from final location ** testing if installed package keeps a record of temporary installation path install for x64 * installing *source* package 'flowVS' ... ** testing if installed package can be loaded * MD5 sums packaged installation of 'flowVS' as flowVS_1.24.0.zip * DONE (flowVS) * installing to library 'C:/Users/biocbuild/bbs-3.13-bioc/R/library' package 'flowVS' successfully unpacked and MD5 sums checked