Multiple platform build/check report for BioC 3.11

This page was generated on 2020-01-17 14:03:27 -0500 (Fri, 17 Jan 2020).

git log

Snapshot Date: 2020-01-16 16:45:49 -0500 (Thu, 16 Jan 2020)

HostnameOSArch (*)Platform label (**)R versionInstalled pkgs
malbec2Linux (Ubuntu 18.04.3 LTS)x86_64x86_64-linux-gnuR Under development (unstable) (2019-12-14 r77569) -- "Unsuffered Consequences" 3751
tokay2Windows Server 2012 R2 Standardx64mingw32 / x86_64-w64-mingw32R Under development (unstable) (2019-12-14 r77569) -- "Unsuffered Consequences" 3534
Click on any hostname to see more info about the system (e.g. compilers)      (*) as reported by 'uname -p', except on Windows and Mac OS X      (**) as reported by 'gcc -v'

Package status is indicated by one of the following glyphs
 TIMEOUT  INSTALL, BUILD, CHECK or BUILD BIN of package took more than 40 minutes Use the check boxes to show only packages with the selected status types.
 ERROR  Bad DESCRIPTION file or INSTALL, BUILD or BUILD BIN of package failed, or CHECK produced errors
 WARNINGS  CHECK of package produced warnings
 OK  INSTALL, BUILD, CHECK or BUILD BIN of package was OK
 skipped  CHECK or BUILD BIN of package was skipped because the BUILD step failed
 NA  BUILD, CHECK or BUILD BIN result is not available because of an anomaly in the Build System
Click on any glyph in the report below to access the detailed results.
Package propagation status is indicated by one of the following LEDs
YES YES: Package was propagated because it didn't previously exist or version was bumped
NO NO: Package was not propagated because of a problem (impossible dependencies, or version lower than what is already propagated)
UNNEEDED UNNEEDED: Package was not propagated because it is already in the repository with this version. A version bump is required in order to propagate it

A crossed-out package name indicates the package is deprecated


SUMMARYOS / ArchINSTALLBUILDCHECKBUILD BIN
malbec2 Linux (Ubuntu 18.04.3 LTS) / x86_64 
0111807
01061712
1232731415
tokay2 Windows Server 2012 R2 Standard / x64 
0171772
41481637
8383691222
051632
A
ABCDEFGHIJKLMNOPQRSTUVWXYZ
Package 1/1819HostnameOS / ArchINSTALLBUILDCHECKBUILD BIN
a4 1.35.0
Tobias Verbeke
Last Commit: fe980d9
Last Changed Date: 2019-10-29 13:35:31 -0500
malbec2 Linux (Ubuntu 18.04.3 LTS) / x86_64  OK  OK  WARNINGS UNNEEDED, same version exists in internal repository
tokay2 Windows Server 2012 R2 Standard / x64  OK  OK  WARNINGS  OK UNNEEDED, same version exists in internal repository
Package 2/1819HostnameOS / ArchINSTALLBUILDCHECKBUILD BIN
a4Base 1.35.0
Tobias Verbeke
Last Commit: bdeb4c7
Last Changed Date: 2019-10-29 13:35:28 -0500
malbec2 Linux (Ubuntu 18.04.3 LTS) / x86_64  OK  OK  WARNINGS UNNEEDED, same version exists in internal repository
tokay2 Windows Server 2012 R2 Standard / x64  OK  OK  ERROR  OK 
Package 3/1819HostnameOS / ArchINSTALLBUILDCHECKBUILD BIN
a4Classif 1.35.0
Tobias Verbeke
Last Commit: 65e253a
Last Changed Date: 2019-10-29 13:35:29 -0500
malbec2 Linux (Ubuntu 18.04.3 LTS) / x86_64  OK  OK  OK UNNEEDED, same version exists in internal repository
tokay2 Windows Server 2012 R2 Standard / x64  OK  OK  OK  OK UNNEEDED, same version exists in internal repository
Package 4/1819HostnameOS / ArchINSTALLBUILDCHECKBUILD BIN
a4Core 1.35.0
Tobias Verbeke
Last Commit: 4ad07ec
Last Changed Date: 2019-10-29 13:35:30 -0500
malbec2 Linux (Ubuntu 18.04.3 LTS) / x86_64  OK  OK  OK UNNEEDED, same version exists in internal repository
tokay2 Windows Server 2012 R2 Standard / x64  OK  OK  OK  OK UNNEEDED, same version exists in internal repository
Package 5/1819HostnameOS / ArchINSTALLBUILDCHECKBUILD BIN
a4Preproc 1.35.0
Tobias Verbeke
Last Commit: ebb6363
Last Changed Date: 2019-10-29 13:35:29 -0500
malbec2 Linux (Ubuntu 18.04.3 LTS) / x86_64  OK  OK  OK UNNEEDED, same version exists in internal repository
tokay2 Windows Server 2012 R2 Standard / x64  OK  OK  OK  OK UNNEEDED, same version exists in internal repository
Package 6/1819HostnameOS / ArchINSTALLBUILDCHECKBUILD BIN
a4Reporting 1.35.0
Tobias Verbeke , Willem Ligtenberg
Last Commit: 4c6c1d4
Last Changed Date: 2019-10-29 13:35:30 -0500
malbec2 Linux (Ubuntu 18.04.3 LTS) / x86_64  OK  OK  WARNINGS UNNEEDED, same version exists in internal repository
tokay2 Windows Server 2012 R2 Standard / x64  OK  OK  WARNINGS  OK UNNEEDED, same version exists in internal repository
Package 7/1819HostnameOS / ArchINSTALLBUILDCHECKBUILD BIN
ABAEnrichment 1.17.0
Steffi Grote
Last Commit: 5510f35
Last Changed Date: 2019-10-29 13:39:46 -0500
malbec2 Linux (Ubuntu 18.04.3 LTS) / x86_64  OK  OK  OK UNNEEDED, same version exists in internal repository
tokay2 Windows Server 2012 R2 Standard / x64  OK  OK  OK  OK UNNEEDED, same version exists in internal repository
Package 8/1819HostnameOS / ArchINSTALLBUILDCHECKBUILD BIN
ABarray 1.55.0
Yongming Andrew Sun
Last Commit: f1cbb49
Last Changed Date: 2019-10-29 13:34:43 -0500
malbec2 Linux (Ubuntu 18.04.3 LTS) / x86_64  OK  OK  OK UNNEEDED, same version exists in internal repository
tokay2 Windows Server 2012 R2 Standard / x64  OK  OK  OK  OK UNNEEDED, same version exists in internal repository
Package 9/1819HostnameOS / ArchINSTALLBUILDCHECKBUILD BIN
abseqR 1.5.0
JiaHong Fong
Last Commit: a00770a
Last Changed Date: 2019-10-29 13:43:21 -0500
malbec2 Linux (Ubuntu 18.04.3 LTS) / x86_64  OK  OK  OK UNNEEDED, same version exists in internal repository
tokay2 Windows Server 2012 R2 Standard / x64  OK  OK  OK  OK UNNEEDED, same version exists in internal repository
Package 10/1819HostnameOS / ArchINSTALLBUILDCHECKBUILD BIN
ABSSeq 1.41.0
Wentao Yang
Last Commit: c32f4db
Last Changed Date: 2019-10-29 13:37:20 -0500
malbec2 Linux (Ubuntu 18.04.3 LTS) / x86_64  OK  OK  OK UNNEEDED, same version exists in internal repository
tokay2 Windows Server 2012 R2 Standard / x64  OK  OK  OK  OK UNNEEDED, same version exists in internal repository
Package 11/1819HostnameOS / ArchINSTALLBUILDCHECKBUILD BIN
acde 1.17.0
Juan Pablo Acosta
Last Commit: 058a96e
Last Changed Date: 2019-10-29 13:39:28 -0500
malbec2 Linux (Ubuntu 18.04.3 LTS) / x86_64  OK  OK  OK UNNEEDED, same version exists in internal repository
tokay2 Windows Server 2012 R2 Standard / x64  OK  OK  OK  OK UNNEEDED, same version exists in internal repository
Package 12/1819HostnameOS / ArchINSTALLBUILDCHECKBUILD BIN
ACE 1.5.0
Jos B Poell
Last Commit: 7c75968
Last Changed Date: 2019-10-29 13:43:16 -0500
malbec2 Linux (Ubuntu 18.04.3 LTS) / x86_64  OK  OK  OK UNNEEDED, same version exists in internal repository
tokay2 Windows Server 2012 R2 Standard / x64  OK  OK  OK  OK UNNEEDED, same version exists in internal repository
Package 13/1819HostnameOS / ArchINSTALLBUILDCHECKBUILD BIN
aCGH 1.65.1
Peter Dimitrov
Last Commit: 7fe0ee1
Last Changed Date: 2019-11-28 12:52:22 -0500
malbec2 Linux (Ubuntu 18.04.3 LTS) / x86_64  OK  OK  OK UNNEEDED, same version exists in internal repository
tokay2 Windows Server 2012 R2 Standard / x64  OK  OK  OK  OK UNNEEDED, same version exists in internal repository
Package 14/1819HostnameOS / ArchINSTALLBUILDCHECKBUILD BIN
ACME 2.43.0
Sean Davis
Last Commit: 32eaf49
Last Changed Date: 2019-10-29 13:34:46 -0500
malbec2 Linux (Ubuntu 18.04.3 LTS) / x86_64  OK  OK  WARNINGS UNNEEDED, same version exists in internal repository
tokay2 Windows Server 2012 R2 Standard / x64  OK  OK  WARNINGS  OK UNNEEDED, same version exists in internal repository
Package 15/1819HostnameOS / ArchINSTALLBUILDCHECKBUILD BIN
ADaCGH2 2.27.0
Ramon Diaz-Uriarte
Last Commit: a25d4f4
Last Changed Date: 2019-10-29 13:35:20 -0500
malbec2 Linux (Ubuntu 18.04.3 LTS) / x86_64  OK  OK  OK UNNEEDED, same version exists in internal repository
tokay2 Windows Server 2012 R2 Standard / x64  OK  OK  OK  OK UNNEEDED, same version exists in internal repository
Package 16/1819HostnameOS / ArchINSTALLBUILDCHECKBUILD BIN
ADAM 1.3.0
Jose Luiz Rybarczyk Filho
Last Commit: 8fbec27
Last Changed Date: 2019-10-29 13:43:23 -0500
malbec2 Linux (Ubuntu 18.04.3 LTS) / x86_64  OK  OK  OK UNNEEDED, same version exists in internal repository
tokay2 Windows Server 2012 R2 Standard / x64  OK  OK  OK  OK UNNEEDED, same version exists in internal repository
Package 17/1819HostnameOS / ArchINSTALLBUILDCHECKBUILD BIN
ADAMgui 1.3.0
Jose Luiz Rybarczyk Filho
Last Commit: b995f25
Last Changed Date: 2019-10-29 13:43:34 -0500
malbec2 Linux (Ubuntu 18.04.3 LTS) / x86_64  OK  OK  OK UNNEEDED, same version exists in internal repository
tokay2 Windows Server 2012 R2 Standard / x64  OK  OK  OK  OK UNNEEDED, same version exists in internal repository
Package 18/1819HostnameOS / ArchINSTALLBUILDCHECKBUILD BIN
adaptest 1.7.1
Weixin Cai
Last Commit: 671363e
Last Changed Date: 2020-01-05 18:34:06 -0500
malbec2 Linux (Ubuntu 18.04.3 LTS) / x86_64  OK  OK  OK UNNEEDED, same version exists in internal repository
tokay2 Windows Server 2012 R2 Standard / x64  OK  OK  OK  OK UNNEEDED, same version exists in internal repository
Package 19/1819HostnameOS / ArchINSTALLBUILDCHECKBUILD BIN
adductomicsR 1.3.0
Josie Hayes
Last Commit: 51b14ac
Last Changed Date: 2019-10-29 13:43:27 -0500
malbec2 Linux (Ubuntu 18.04.3 LTS) / x86_64  OK  OK  OK UNNEEDED, same version exists in internal repository
tokay2 Windows Server 2012 R2 Standard / x64  OK  OK  OK  OK UNNEEDED, same version exists in internal repository
Package 20/1819HostnameOS / ArchINSTALLBUILDCHECKBUILD BIN
adSplit 1.57.0
Claudio Lottaz
Last Commit: 02e2361
Last Changed Date: 2019-10-29 13:34:41 -0500
malbec2 Linux (Ubuntu 18.04.3 LTS) / x86_64  OK  OK  WARNINGS UNNEEDED, same version exists in internal repository
tokay2 Windows Server 2012 R2 Standard / x64  OK  OK  OK  OK UNNEEDED, same version exists in internal repository
Package 21/1819HostnameOS / ArchINSTALLBUILDCHECKBUILD BIN
AffiXcan 1.5.0
Alessandro Lussana
Last Commit: 3c7dba5
Last Changed Date: 2019-10-29 13:43:20 -0500
malbec2 Linux (Ubuntu 18.04.3 LTS) / x86_64  OK  OK  OK UNNEEDED, same version exists in internal repository
tokay2 Windows Server 2012 R2 Standard / x64  OK  OK  OK  OK UNNEEDED, same version exists in internal repository
Package 22/1819HostnameOS / ArchINSTALLBUILDCHECKBUILD BIN
affxparser 1.59.0
Kasper Daniel Hansen
Last Commit: 96db6df
Last Changed Date: 2019-10-29 13:34:39 -0500
malbec2 Linux (Ubuntu 18.04.3 LTS) / x86_64  OK  OK  WARNINGS UNNEEDED, same version exists in internal repository
tokay2 Windows Server 2012 R2 Standard / x64  OK  OK  WARNINGS  OK UNNEEDED, same version exists in internal repository
Package 23/1819HostnameOS / ArchINSTALLBUILDCHECKBUILD BIN
affy 1.65.1
Rafael A. Irizarry
Last Commit: e384fca
Last Changed Date: 2019-11-05 18:10:29 -0500
malbec2 Linux (Ubuntu 18.04.3 LTS) / x86_64  OK  OK  WARNINGS UNNEEDED, same version exists in internal repository
tokay2 Windows Server 2012 R2 Standard / x64  OK  OK  WARNINGS  OK UNNEEDED, same version exists in internal repository
Package 24/1819HostnameOS / ArchINSTALLBUILDCHECKBUILD BIN
affycomp 1.63.0
Rafael A. Irizarry
Last Commit: 40c85dd
Last Changed Date: 2019-10-29 13:34:31 -0500
malbec2 Linux (Ubuntu 18.04.3 LTS) / x86_64  OK  OK  OK UNNEEDED, same version exists in internal repository
tokay2 Windows Server 2012 R2 Standard / x64  OK  OK  WARNINGS  OK UNNEEDED, same version exists in internal repository
Package 25/1819HostnameOS / ArchINSTALLBUILDCHECKBUILD BIN
AffyCompatible 1.47.0
Martin Morgan
Last Commit: f9dd1bc
Last Changed Date: 2019-10-29 13:34:49 -0500
malbec2 Linux (Ubuntu 18.04.3 LTS) / x86_64  OK  OK  OK UNNEEDED, same version exists in internal repository
tokay2 Windows Server 2012 R2 Standard / x64  OK  OK  OK  OK UNNEEDED, same version exists in internal repository
Package 26/1819HostnameOS / ArchINSTALLBUILDCHECKBUILD BIN
affyContam 1.45.0
V. Carey
Last Commit: c1d31cf
Last Changed Date: 2019-12-23 18:03:18 -0500
malbec2 Linux (Ubuntu 18.04.3 LTS) / x86_64  OK  OK  OK UNNEEDED, same version exists in internal repository
tokay2 Windows Server 2012 R2 Standard / x64  OK  OK  OK  OK UNNEEDED, same version exists in internal repository
Package 27/1819HostnameOS / ArchINSTALLBUILDCHECKBUILD BIN
affycoretools 1.59.4
James W. MacDonald
Last Commit: 8868870
Last Changed Date: 2020-01-06 15:03:06 -0500
malbec2 Linux (Ubuntu 18.04.3 LTS) / x86_64  OK  OK  OK UNNEEDED, same version exists in internal repository
tokay2 Windows Server 2012 R2 Standard / x64  OK  OK  WARNINGS  OK UNNEEDED, same version exists in internal repository
Package 28/1819HostnameOS / ArchINSTALLBUILDCHECKBUILD BIN
AffyExpress 1.53.0
Xuejun Arthur Li
Last Commit: bbc2a3f
Last Changed Date: 2019-10-29 13:34:46 -0500
malbec2 Linux (Ubuntu 18.04.3 LTS) / x86_64  OK  OK  OK UNNEEDED, same version exists in internal repository
tokay2 Windows Server 2012 R2 Standard / x64  OK  OK  OK  OK UNNEEDED, same version exists in internal repository
Package 29/1819HostnameOS / ArchINSTALLBUILDCHECKBUILD BIN
affyILM 1.39.0
Myriam Kroll and Fabrice Berger
Last Commit: 9784489
Last Changed Date: 2019-10-29 13:35:17 -0500
malbec2 Linux (Ubuntu 18.04.3 LTS) / x86_64  OK  OK  OK UNNEEDED, same version exists in internal repository
tokay2 Windows Server 2012 R2 Standard / x64  OK  OK  OK  OK UNNEEDED, same version exists in internal repository
Package 30/1819HostnameOS / ArchINSTALLBUILDCHECKBUILD BIN
affyio 1.57.0
Ben Bolstad
Last Commit: 2c4359d
Last Changed Date: 2019-10-29 13:34:30 -0500
malbec2 Linux (Ubuntu 18.04.3 LTS) / x86_64  OK  OK  OK UNNEEDED, same version exists in internal repository
tokay2 Windows Server 2012 R2 Standard / x64  OK  OK  OK  OK UNNEEDED, same version exists in internal repository
Package 31/1819HostnameOS / ArchINSTALLBUILDCHECKBUILD BIN
affylmGUI 1.61.0
Gordon Smyth
Last Commit: 7e0392d
Last Changed Date: 2019-10-29 13:34:35 -0500
malbec2 Linux (Ubuntu 18.04.3 LTS) / x86_64  OK  OK  OK UNNEEDED, same version exists in internal repository
tokay2 Windows Server 2012 R2 Standard / x64  OK  OK  OK  OK UNNEEDED, same version exists in internal repository
Package 32/1819HostnameOS / ArchINSTALLBUILDCHECKBUILD BIN
affyPara 1.47.0
Markus Schmidberger
Last Commit: d4fbb61
Last Changed Date: 2019-10-29 13:34:49 -0500
malbec2 Linux (Ubuntu 18.04.3 LTS) / x86_64  OK  OK  OK UNNEEDED, same version exists in internal repository
tokay2 Windows Server 2012 R2 Standard / x64  OK  OK  OK  OK UNNEEDED, same version exists in internal repository
Package 33/1819HostnameOS / ArchINSTALLBUILDCHECKBUILD BIN
affypdnn 1.61.1
Laurent Gautier
Last Commit: 8d34720
Last Changed Date: 2020-01-06 10:15:15 -0500
malbec2 Linux (Ubuntu 18.04.3 LTS) / x86_64  OK  OK  ERROR 
tokay2 Windows Server 2012 R2 Standard / x64  OK  OK  ERROR  OK 
Package 34/1819HostnameOS / ArchINSTALLBUILDCHECKBUILD BIN
affyPLM 1.63.0
Ben Bolstad
Last Commit: fd3585e
Last Changed Date: 2019-10-29 13:34:32 -0500
malbec2 Linux (Ubuntu 18.04.3 LTS) / x86_64  OK  OK  OK UNNEEDED, same version exists in internal repository
tokay2 Windows Server 2012 R2 Standard / x64  OK  OK  OK  OK UNNEEDED, same version exists in internal repository
Package 35/1819HostnameOS / ArchINSTALLBUILDCHECKBUILD BIN
affyQCReport 1.65.0
Craig Parman
Last Commit: efe3e73
Last Changed Date: 2019-10-29 13:34:39 -0500
malbec2 Linux (Ubuntu 18.04.3 LTS) / x86_64  OK  OK  OK UNNEEDED, same version exists in internal repository
tokay2 Windows Server 2012 R2 Standard / x64  OK  OK  OK  OK UNNEEDED, same version exists in internal repository
Package 36/1819HostnameOS / ArchINSTALLBUILDCHECKBUILD BIN
AffyRNADegradation 1.33.0
Mario Fasold
Last Commit: 601156f
Last Changed Date: 2019-10-29 13:36:03 -0500
malbec2 Linux (Ubuntu 18.04.3 LTS) / x86_64  OK  OK  OK UNNEEDED, same version exists in internal repository
tokay2 Windows Server 2012 R2 Standard / x64  OK  OK  OK  OK UNNEEDED, same version exists in internal repository
Package 37/1819HostnameOS / ArchINSTALLBUILDCHECKBUILD BIN
AGDEX 1.35.0
Cuilan lani Gao
Last Commit: ec845d7
Last Changed Date: 2019-10-29 13:35:54 -0500
malbec2 Linux (Ubuntu 18.04.3 LTS) / x86_64  OK  OK  OK UNNEEDED, same version exists in internal repository
tokay2 Windows Server 2012 R2 Standard / x64  OK  OK  WARNINGS  OK UNNEEDED, same version exists in internal repository
Package 38/1819HostnameOS / ArchINSTALLBUILDCHECKBUILD BIN
agilp 3.19.0
Benny Chain
Last Commit: 57567df
Last Changed Date: 2019-10-29 13:36:23 -0500
malbec2 Linux (Ubuntu 18.04.3 LTS) / x86_64  OK  OK  OK UNNEEDED, same version exists in internal repository
tokay2 Windows Server 2012 R2 Standard / x64  OK  OK  OK  OK UNNEEDED, same version exists in internal repository
Package 39/1819HostnameOS / ArchINSTALLBUILDCHECKBUILD BIN
AgiMicroRna 2.37.0
Pedro Lopez-Romero
Last Commit: d4c75ee
Last Changed Date: 2019-10-29 13:35:06 -0500
malbec2 Linux (Ubuntu 18.04.3 LTS) / x86_64  OK  OK  OK UNNEEDED, same version exists in internal repository
tokay2 Windows Server 2012 R2 Standard / x64  OK  OK  OK  OK UNNEEDED, same version exists in internal repository
Package 40/1819HostnameOS / ArchINSTALLBUILDCHECKBUILD BIN
AIMS 1.19.0
Eric R Paquet
Last Commit: 70c15c4
Last Changed Date: 2019-10-29 13:38:39 -0500
malbec2 Linux (Ubuntu 18.04.3 LTS) / x86_64  OK  OK  OK UNNEEDED, same version exists in internal repository
tokay2 Windows Server 2012 R2 Standard / x64  OK  OK  OK  OK UNNEEDED, same version exists in internal repository
Package 41/1819HostnameOS / ArchINSTALLBUILDCHECKBUILD BIN
ALDEx2 1.19.1
Greg Gloor
Last Commit: 8657ab1
Last Changed Date: 2019-11-17 15:42:04 -0500
malbec2 Linux (Ubuntu 18.04.3 LTS) / x86_64  OK  OK  OK UNNEEDED, same version exists in internal repository
tokay2 Windows Server 2012 R2 Standard / x64  OK  OK  OK  OK UNNEEDED, same version exists in internal repository
Package 42/1819HostnameOS / ArchINSTALLBUILDCHECKBUILD BIN
alevinQC 1.3.0
Charlotte Soneson
Last Commit: 53a56cb
Last Changed Date: 2019-10-29 13:43:30 -0500
malbec2 Linux (Ubuntu 18.04.3 LTS) / x86_64  OK  OK  OK UNNEEDED, same version exists in internal repository
tokay2 Windows Server 2012 R2 Standard / x64  OK  OK  OK  OK UNNEEDED, same version exists in internal repository
Package 43/1819HostnameOS / ArchINSTALLBUILDCHECKBUILD BIN
AllelicImbalance 1.25.0
Jesper R Gadin
Last Commit: 9468c29
Last Changed Date: 2019-10-29 13:37:05 -0500
malbec2 Linux (Ubuntu 18.04.3 LTS) / x86_64  OK  OK  OK UNNEEDED, same version exists in internal repository
tokay2 Windows Server 2012 R2 Standard / x64  OK  OK  OK  OK UNNEEDED, same version exists in internal repository
Package 44/1819HostnameOS / ArchINSTALLBUILDCHECKBUILD BIN
AlphaBeta 1.1.0
Yadollah Shahryary Dizaji
Last Commit: 18da94c
Last Changed Date: 2019-10-29 13:43:38 -0500
malbec2 Linux (Ubuntu 18.04.3 LTS) / x86_64  OK  OK  OK UNNEEDED, same version exists in internal repository
tokay2 Windows Server 2012 R2 Standard / x64  OK  OK  OK  OK UNNEEDED, same version exists in internal repository
Package 45/1819HostnameOS / ArchINSTALLBUILDCHECKBUILD BIN
alpine 1.13.0
Michael Love
Last Commit: b96b97e
Last Changed Date: 2019-10-29 13:42:04 -0500
malbec2 Linux (Ubuntu 18.04.3 LTS) / x86_64  OK  OK  OK UNNEEDED, same version exists in internal repository
tokay2 Windows Server 2012 R2 Standard / x64  OK  OK  OK  OK UNNEEDED, same version exists in internal repository
Package 46/1819HostnameOS / ArchINSTALLBUILDCHECKBUILD BIN
ALPS 1.1.0
Venu Thatikonda
Last Commit: 197e20b
Last Changed Date: 2019-10-29 13:43:45 -0500
malbec2 Linux (Ubuntu 18.04.3 LTS) / x86_64  OK  OK  OK UNNEEDED, same version exists in internal repository
tokay2 Windows Server 2012 R2 Standard / x64  OK  OK  OK  OK UNNEEDED, same version exists in internal repository
Package 47/1819HostnameOS / ArchINSTALLBUILDCHECKBUILD BIN
alsace 1.23.1
Ron Wehrens
Last Commit: 4d015a9
Last Changed Date: 2019-11-26 05:19:13 -0500
malbec2 Linux (Ubuntu 18.04.3 LTS) / x86_64  OK  OK  OK UNNEEDED, same version exists in internal repository
tokay2 Windows Server 2012 R2 Standard / x64  OK  OK  OK  OK UNNEEDED, same version exists in internal repository
Package 48/1819HostnameOS / ArchINSTALLBUILDCHECKBUILD BIN
altcdfenvs 2.49.0
Laurent Gautier
Last Commit: 70d7986
Last Changed Date: 2019-10-29 13:34:34 -0500
malbec2 Linux (Ubuntu 18.04.3 LTS) / x86_64  OK  OK  OK UNNEEDED, same version exists in internal repository
tokay2 Windows Server 2012 R2 Standard / x64  OK  OK  OK  OK UNNEEDED, same version exists in internal repository
Package 49/1819HostnameOS / ArchINSTALLBUILDCHECKBUILD BIN
AMARETTO 1.3.0
Olivier Gevaert
Last Commit: 5fd31b0
Last Changed Date: 2019-11-22 16:31:41 -0500
malbec2 Linux (Ubuntu 18.04.3 LTS) / x86_64  OK  OK  OK UNNEEDED, same version exists in internal repository
tokay2 Windows Server 2012 R2 Standard / x64  OK  OK  OK  OK UNNEEDED, same version exists in internal repository
Package 50/1819HostnameOS / ArchINSTALLBUILDCHECKBUILD BIN
AMOUNTAIN 1.13.0
Dong Li
Last Commit: 99e4655
Last Changed Date: 2019-10-29 13:41:49 -0500
malbec2 Linux (Ubuntu 18.04.3 LTS) / x86_64  OK  OK  OK UNNEEDED, same version exists in internal repository
tokay2 Windows Server 2012 R2 Standard / x64  OK  OK  OK  OK UNNEEDED, same version exists in internal repository
Package 51/1819HostnameOS / ArchINSTALLBUILDCHECKBUILD BIN
amplican 1.9.2
Eivind Valen
Last Commit: 041cf8c
Last Changed Date: 2019-12-10 08:04:29 -0500
malbec2 Linux (Ubuntu 18.04.3 LTS) / x86_64  OK  OK  OK UNNEEDED, same version exists in internal repository
tokay2 Windows Server 2012 R2 Standard / x64  OK  OK  OK  OK UNNEEDED, same version exists in internal repository
Package 52/1819HostnameOS / ArchINSTALLBUILDCHECKBUILD BIN
AnalysisPageServer 1.21.0
Brad Friedman
Last Commit: 131be4b
Last Changed Date: 2019-10-29 13:38:43 -0500
malbec2 Linux (Ubuntu 18.04.3 LTS) / x86_64  OK  OK  OK UNNEEDED, same version exists in internal repository
tokay2 Windows Server 2012 R2 Standard / x64  OK  OK  WARNINGS  OK UNNEEDED, same version exists in internal repository
Package 53/1819HostnameOS / ArchINSTALLBUILDCHECKBUILD BIN
anamiR 1.15.1
Ti-Tai Wang
Last Commit: 506147e
Last Changed Date: 2020-01-06 09:55:25 -0500
malbec2 Linux (Ubuntu 18.04.3 LTS) / x86_64  OK  ERROR  skipped 
tokay2 Windows Server 2012 R2 Standard / x64  OK  ERROR  skipped  skipped 
Package 54/1819HostnameOS / ArchINSTALLBUILDCHECKBUILD BIN
Anaquin 2.11.0
Ted Wong
Last Commit: d92f423
Last Changed Date: 2019-10-29 13:42:05 -0500
malbec2 Linux (Ubuntu 18.04.3 LTS) / x86_64  OK  OK  OK UNNEEDED, same version exists in internal repository
tokay2 Windows Server 2012 R2 Standard / x64  OK  OK  OK  OK UNNEEDED, same version exists in internal repository
Package 55/1819HostnameOS / ArchINSTALLBUILDCHECKBUILD BIN
AneuFinder 1.15.0
Aaron Taudt
Last Commit: f69b1b9
Last Changed Date: 2019-10-29 13:40:43 -0500
malbec2 Linux (Ubuntu 18.04.3 LTS) / x86_64  OK  OK  OK UNNEEDED, same version exists in internal repository
tokay2 Windows Server 2012 R2 Standard / x64  OK  OK  OK  OK UNNEEDED, same version exists in internal repository
Package 56/1819HostnameOS / ArchINSTALLBUILDCHECKBUILD BIN
ANF 1.9.0
Tianle Ma
Last Commit: 840bb36
Last Changed Date: 2019-10-29 13:42:30 -0500
malbec2 Linux (Ubuntu 18.04.3 LTS) / x86_64  OK  OK  OK UNNEEDED, same version exists in internal repository
tokay2 Windows Server 2012 R2 Standard / x64  OK  OK  OK  OK UNNEEDED, same version exists in internal repository
Package 57/1819HostnameOS / ArchINSTALLBUILDCHECKBUILD BIN
animalcules 1.3.4
Yue Zhao
Last Commit: 19a67c4
Last Changed Date: 2020-01-11 15:13:17 -0500
malbec2 Linux (Ubuntu 18.04.3 LTS) / x86_64  OK  OK  OK UNNEEDED, same version exists in internal repository
tokay2 Windows Server 2012 R2 Standard / x64  OK  OK  OK  OK UNNEEDED, same version exists in internal repository
Package 58/1819HostnameOS / ArchINSTALLBUILDCHECKBUILD BIN
annaffy 1.59.0
Colin A. Smith
Last Commit: 3ce0020
Last Changed Date: 2019-10-29 13:34:32 -0500
malbec2 Linux (Ubuntu 18.04.3 LTS) / x86_64  OK  OK  WARNINGS UNNEEDED, same version exists in internal repository
tokay2 Windows Server 2012 R2 Standard / x64  OK  OK  WARNINGS  OK UNNEEDED, same version exists in internal repository
Package 59/1819HostnameOS / ArchINSTALLBUILDCHECKBUILD BIN
annmap 1.29.0
Chris Wirth
Last Commit: 72c8c2f
Last Changed Date: 2019-12-23 18:06:19 -0500
malbec2 Linux (Ubuntu 18.04.3 LTS) / x86_64  OK  OK  WARNINGS UNNEEDED, same version exists in internal repository
tokay2 Windows Server 2012 R2 Standard / x64 ...NOT SUPPORTED...
Package 60/1819HostnameOS / ArchINSTALLBUILDCHECKBUILD BIN
annotate 1.65.0
Bioconductor Package Maintainer
Last Commit: a089c9f
Last Changed Date: 2019-10-29 13:34:29 -0500
malbec2 Linux (Ubuntu 18.04.3 LTS) / x86_64  OK  OK  OK UNNEEDED, same version exists in internal repository
tokay2 Windows Server 2012 R2 Standard / x64  OK  OK  OK  OK UNNEEDED, same version exists in internal repository
Package 61/1819HostnameOS / ArchINSTALLBUILDCHECKBUILD BIN
AnnotationDbi 1.49.0
Bioconductor Package Maintainer
Last Commit: d4429fd
Last Changed Date: 2019-10-29 13:34:44 -0500
malbec2 Linux (Ubuntu 18.04.3 LTS) / x86_64  OK  OK  OK UNNEEDED, same version exists in internal repository
tokay2 Windows Server 2012 R2 Standard / x64  OK  OK  OK  OK UNNEEDED, same version exists in internal repository
Package 62/1819HostnameOS / ArchINSTALLBUILDCHECKBUILD BIN
AnnotationFilter 1.11.0
Bioconductor Package Maintainer
Last Commit: 5c2ac36
Last Changed Date: 2019-10-29 13:42:18 -0500
malbec2 Linux (Ubuntu 18.04.3 LTS) / x86_64  OK  OK  OK UNNEEDED, same version exists in internal repository
tokay2 Windows Server 2012 R2 Standard / x64  OK  OK  OK  OK UNNEEDED, same version exists in internal repository
Package 63/1819HostnameOS / ArchINSTALLBUILDCHECKBUILD BIN
AnnotationForge 1.29.2
Bioconductor Package Maintainer
Last Commit: 6a20485
Last Changed Date: 2019-11-21 14:32:55 -0500
malbec2 Linux (Ubuntu 18.04.3 LTS) / x86_64  OK  OK  OK UNNEEDED, same version exists in internal repository
tokay2 Windows Server 2012 R2 Standard / x64  OK  OK  OK  OK UNNEEDED, same version exists in internal repository
Package 64/1819HostnameOS / ArchINSTALLBUILDCHECKBUILD BIN
AnnotationFuncs 1.37.0
Stefan McKinnon Edwards
Last Commit: e13be91
Last Changed Date: 2019-10-29 13:35:24 -0500
malbec2 Linux (Ubuntu 18.04.3 LTS) / x86_64  OK  OK  OK UNNEEDED, same version exists in internal repository
tokay2 Windows Server 2012 R2 Standard / x64  OK  OK  OK  OK UNNEEDED, same version exists in internal repository
Package 65/1819HostnameOS / ArchINSTALLBUILDCHECKBUILD BIN
AnnotationHub 2.19.5
Bioconductor Package Maintainer
Last Commit: b74e310
Last Changed Date: 2020-01-16 07:36:03 -0500
malbec2 Linux (Ubuntu 18.04.3 LTS) / x86_64  OK  OK  WARNINGS YES, new version is higher than in internal repository
tokay2 Windows Server 2012 R2 Standard / x64  OK  OK  WARNINGS  OK YES, new version is higher than in internal repository
Package 66/1819HostnameOS / ArchINSTALLBUILDCHECKBUILD BIN
AnnotationHubData 1.17.0
Bioconductor Package Maintainer
Last Commit: e8c219c
Last Changed Date: 2019-10-29 13:39:50 -0500
malbec2 Linux (Ubuntu 18.04.3 LTS) / x86_64  OK  OK  WARNINGS UNNEEDED, same version exists in internal repository
tokay2 Windows Server 2012 R2 Standard / x64  OK  OK  WARNINGS  OK UNNEEDED, same version exists in internal repository
Package 67/1819HostnameOS / ArchINSTALLBUILDCHECKBUILD BIN
annotationTools 1.61.0
Alexandre Kuhn
Last Commit: 0c3a0e5
Last Changed Date: 2019-10-29 13:34:45 -0500
malbec2 Linux (Ubuntu 18.04.3 LTS) / x86_64  OK  OK  OK UNNEEDED, same version exists in internal repository
tokay2 Windows Server 2012 R2 Standard / x64  OK  OK  OK  OK UNNEEDED, same version exists in internal repository
Package 68/1819HostnameOS / ArchINSTALLBUILDCHECKBUILD BIN
annotatr 1.13.1
Raymond G. Cavalcante
Last Commit: 611fc8d
Last Changed Date: 2019-11-12 09:57:11 -0500
malbec2 Linux (Ubuntu 18.04.3 LTS) / x86_64  OK  OK  OK UNNEEDED, same version exists in internal repository
tokay2 Windows Server 2012 R2 Standard / x64  OK  OK  OK  OK UNNEEDED, same version exists in internal repository
Package 69/1819HostnameOS / ArchINSTALLBUILDCHECKBUILD BIN
anota 1.35.0
Ola Larsson
Last Commit: db818e6
Last Changed Date: 2019-10-29 13:35:31 -0500
malbec2 Linux (Ubuntu 18.04.3 LTS) / x86_64  OK  OK  OK UNNEEDED, same version exists in internal repository
tokay2 Windows Server 2012 R2 Standard / x64  OK  OK  OK  OK UNNEEDED, same version exists in internal repository
Package 70/1819HostnameOS / ArchINSTALLBUILDCHECKBUILD BIN
anota2seq 1.9.0
Christian Oertlin , Julie Lorent
Last Commit: c242668
Last Changed Date: 2019-10-29 13:42:30 -0500
malbec2 Linux (Ubuntu 18.04.3 LTS) / x86_64  OK  OK  OK UNNEEDED, same version exists in internal repository
tokay2 Windows Server 2012 R2 Standard / x64  OK  OK  OK  OK UNNEEDED, same version exists in internal repository
Package 71/1819HostnameOS / ArchINSTALLBUILDCHECKBUILD BIN
antiProfiles 1.27.0
Hector Corrada Bravo
Last Commit: 922e347
Last Changed Date: 2019-10-29 13:36:49 -0500
malbec2 Linux (Ubuntu 18.04.3 LTS) / x86_64  OK  OK  OK UNNEEDED, same version exists in internal repository
tokay2 Windows Server 2012 R2 Standard / x64  OK  OK  OK  OK UNNEEDED, same version exists in internal repository
Package 72/1819HostnameOS / ArchINSTALLBUILDCHECKBUILD BIN
APAlyzer 1.1.0
Ruijia Wang
Last Commit: a430e09
Last Changed Date: 2019-10-29 13:43:38 -0500
malbec2 Linux (Ubuntu 18.04.3 LTS) / x86_64  OK  OK  OK UNNEEDED, same version exists in internal repository
tokay2 Windows Server 2012 R2 Standard / x64  OK  OK  OK  OK UNNEEDED, same version exists in internal repository
Package 73/1819HostnameOS / ArchINSTALLBUILDCHECKBUILD BIN
apComplex 2.53.0
Denise Scholtens
Last Commit: 752fb2c
Last Changed Date: 2019-10-29 13:34:37 -0500
malbec2 Linux (Ubuntu 18.04.3 LTS) / x86_64  OK  OK  OK UNNEEDED, same version exists in internal repository
tokay2 Windows Server 2012 R2 Standard / x64  OK  OK  OK  OK UNNEEDED, same version exists in internal repository
Package 74/1819HostnameOS / ArchINSTALLBUILDCHECKBUILD BIN
apeglm 1.9.0
Anqi Zhu
Last Commit: aa9e2e0
Last Changed Date: 2019-10-29 13:42:25 -0500
malbec2 Linux (Ubuntu 18.04.3 LTS) / x86_64  OK  OK  OK UNNEEDED, same version exists in internal repository
tokay2 Windows Server 2012 R2 Standard / x64  OK  OK  OK  OK UNNEEDED, same version exists in internal repository
Package 75/1819HostnameOS / ArchINSTALLBUILDCHECKBUILD BIN
appreci8R 1.5.1
Sarah Sandmann
Last Commit: f12505a
Last Changed Date: 2020-01-07 04:13:40 -0500
malbec2 Linux (Ubuntu 18.04.3 LTS) / x86_64  OK  OK  OK UNNEEDED, same version exists in internal repository
tokay2 Windows Server 2012 R2 Standard / x64  OK  OK  OK  OK UNNEEDED, same version exists in internal repository
Package 76/1819HostnameOS / ArchINSTALLBUILDCHECKBUILD BIN
aroma.light 3.17.1
Henrik Bengtsson
Last Commit: cb02554
Last Changed Date: 2019-12-09 10:10:20 -0500
malbec2 Linux (Ubuntu 18.04.3 LTS) / x86_64  OK  OK  OK UNNEEDED, same version exists in internal repository
tokay2 Windows Server 2012 R2 Standard / x64  OK  OK  OK  OK UNNEEDED, same version exists in internal repository
Package 77/1819HostnameOS / ArchINSTALLBUILDCHECKBUILD BIN
ArrayExpress 1.47.0
Suhaib Mohammed
Last Commit: 6e4ef41
Last Changed Date: 2019-10-29 13:34:51 -0500
malbec2 Linux (Ubuntu 18.04.3 LTS) / x86_64  OK  OK  OK UNNEEDED, same version exists in internal repository
tokay2 Windows Server 2012 R2 Standard / x64  OK  ERROR  skipped  skipped 
Package 78/1819HostnameOS / ArchINSTALLBUILDCHECKBUILD BIN
ArrayExpressHTS 1.37.0
Angela Goncalves , Andrew Tikhonov
Last Commit: d45c165
Last Changed Date: 2019-10-29 13:35:32 -0500
malbec2 Linux (Ubuntu 18.04.3 LTS) / x86_64  OK  OK  WARNINGS UNNEEDED, same version exists in internal repository
tokay2 Windows Server 2012 R2 Standard / x64 ...NOT SUPPORTED...
Package 79/1819HostnameOS / ArchINSTALLBUILDCHECKBUILD BIN
arrayMvout 1.45.0
V. Carey
Last Commit: 263b766
Last Changed Date: 2019-12-23 18:34:21 -0500
malbec2 Linux (Ubuntu 18.04.3 LTS) / x86_64  OK  OK  OK UNNEEDED, same version exists in internal repository
tokay2 Windows Server 2012 R2 Standard / x64  OK  OK  OK  OK UNNEEDED, same version exists in internal repository
Package 80/1819HostnameOS / ArchINSTALLBUILDCHECKBUILD BIN
arrayQuality 1.65.0
Agnes Paquet
Last Commit: d766ed7
Last Changed Date: 2019-10-29 13:34:34 -0500
malbec2 Linux (Ubuntu 18.04.3 LTS) / x86_64  OK  OK  WARNINGS UNNEEDED, same version exists in internal repository
tokay2 Windows Server 2012 R2 Standard / x64  OK  OK  WARNINGS  OK UNNEEDED, same version exists in internal repository
Package 81/1819HostnameOS / ArchINSTALLBUILDCHECKBUILD BIN
arrayQualityMetrics 3.43.0
Mike Smith
Last Commit: bc65f71
Last Changed Date: 2019-10-29 13:34:46 -0500
malbec2 Linux (Ubuntu 18.04.3 LTS) / x86_64  OK  OK  OK UNNEEDED, same version exists in internal repository
tokay2 Windows Server 2012 R2 Standard / x64  OK  OK  OK  OK UNNEEDED, same version exists in internal repository
Package 82/1819HostnameOS / ArchINSTALLBUILDCHECKBUILD BIN
ArrayTools 1.47.0
Arthur Li
Last Commit: bb55f35
Last Changed Date: 2019-12-23 18:33:23 -0500
malbec2 Linux (Ubuntu 18.04.3 LTS) / x86_64  OK  OK  OK UNNEEDED, same version exists in internal repository
tokay2 Windows Server 2012 R2 Standard / x64  OK  OK  OK  OK UNNEEDED, same version exists in internal repository
Package 83/1819HostnameOS / ArchINSTALLBUILDCHECKBUILD BIN
ArrayTV 1.25.0
Eitan Halper-Stromberg
Last Commit: 3a2ed57
Last Changed Date: 2019-10-29 13:37:01 -0500
malbec2 Linux (Ubuntu 18.04.3 LTS) / x86_64  OK  OK  OK UNNEEDED, same version exists in internal repository
tokay2 Windows Server 2012 R2 Standard / x64  OK  OK  OK  OK UNNEEDED, same version exists in internal repository
Package 84/1819HostnameOS / ArchINSTALLBUILDCHECKBUILD BIN
ARRmNormalization 1.27.0
Jean-Philippe Fortin
Last Commit: 615bd8d
Last Changed Date: 2019-10-29 13:36:40 -0500
malbec2 Linux (Ubuntu 18.04.3 LTS) / x86_64  OK  OK  OK UNNEEDED, same version exists in internal repository
tokay2 Windows Server 2012 R2 Standard / x64  OK  OK  OK  OK UNNEEDED, same version exists in internal repository
Package 85/1819HostnameOS / ArchINSTALLBUILDCHECKBUILD BIN
artMS 1.5.1
David Jimenez-Morales
Last Commit: 294217f
Last Changed Date: 2019-12-06 19:29:34 -0500
malbec2 Linux (Ubuntu 18.04.3 LTS) / x86_64  OK  OK  OK UNNEEDED, same version exists in internal repository
tokay2 Windows Server 2012 R2 Standard / x64  OK  OK  OK  OK UNNEEDED, same version exists in internal repository
Package 86/1819HostnameOS / ArchINSTALLBUILDCHECKBUILD BIN
ASAFE 1.13.0
Qian Zhang
Last Commit: 742227c
Last Changed Date: 2019-10-29 13:41:53 -0500
malbec2 Linux (Ubuntu 18.04.3 LTS) / x86_64  OK  OK  OK UNNEEDED, same version exists in internal repository
tokay2 Windows Server 2012 R2 Standard / x64  OK  OK  OK  OK UNNEEDED, same version exists in internal repository
Package 87/1819HostnameOS / ArchINSTALLBUILDCHECKBUILD BIN
ASEB 1.31.0
Likun Wang
Last Commit: cc043c1
Last Changed Date: 2019-10-29 13:36:03 -0500
malbec2 Linux (Ubuntu 18.04.3 LTS) / x86_64  OK  OK  OK UNNEEDED, same version exists in internal repository
tokay2 Windows Server 2012 R2 Standard / x64  OK  OK  OK  OK UNNEEDED, same version exists in internal repository
Package 88/1819HostnameOS / ArchINSTALLBUILDCHECKBUILD BIN
ASGSCA 1.21.0
Hela Romdhani
Last Commit: 98cd1ff
Last Changed Date: 2019-10-29 13:38:18 -0500
malbec2 Linux (Ubuntu 18.04.3 LTS) / x86_64  OK  OK  OK UNNEEDED, same version exists in internal repository
tokay2 Windows Server 2012 R2 Standard / x64  OK  OK  OK  OK UNNEEDED, same version exists in internal repository
Package 89/1819HostnameOS / ArchINSTALLBUILDCHECKBUILD BIN
ASICS 2.3.0
Gaëlle Lefort
Last Commit: e067e00
Last Changed Date: 2019-10-29 13:43:00 -0500
malbec2 Linux (Ubuntu 18.04.3 LTS) / x86_64  OK  OK  OK UNNEEDED, same version exists in internal repository
tokay2 Windows Server 2012 R2 Standard / x64  OK  OK  OK  OK UNNEEDED, same version exists in internal repository
Package 90/1819HostnameOS / ArchINSTALLBUILDCHECKBUILD BIN
ASpediaFI 1.1.1
Doyeong Yu
Last Commit: abd375d
Last Changed Date: 2019-12-11 21:43:28 -0500
malbec2 Linux (Ubuntu 18.04.3 LTS) / x86_64  OK  OK  OK UNNEEDED, same version exists in internal repository
tokay2 Windows Server 2012 R2 Standard / x64  OK  OK  OK  OK UNNEEDED, same version exists in internal repository
Package 91/1819HostnameOS / ArchINSTALLBUILDCHECKBUILD BIN
ASpli 1.13.0
Estefania Mancini
Last Commit: ec17f91
Last Changed Date: 2019-10-29 13:42:01 -0500
malbec2 Linux (Ubuntu 18.04.3 LTS) / x86_64  OK  OK  OK UNNEEDED, same version exists in internal repository
tokay2 Windows Server 2012 R2 Standard / x64  OK  OK  OK  OK UNNEEDED, same version exists in internal repository
Package 92/1819HostnameOS / ArchINSTALLBUILDCHECKBUILD BIN
AssessORF 1.5.0
Deepank Korandla
Last Commit: f425701
Last Changed Date: 2019-10-29 13:43:21 -0500
malbec2 Linux (Ubuntu 18.04.3 LTS) / x86_64  OK  OK  OK UNNEEDED, same version exists in internal repository
tokay2 Windows Server 2012 R2 Standard / x64  OK  OK  OK  OK UNNEEDED, same version exists in internal repository
Package 93/1819HostnameOS / ArchINSTALLBUILDCHECKBUILD BIN
ASSET 2.5.0
Samsiddhi Bhattacharjee
Last Commit: b6740ab
Last Changed Date: 2019-10-29 13:36:55 -0500
malbec2 Linux (Ubuntu 18.04.3 LTS) / x86_64  OK  OK  WARNINGS UNNEEDED, same version exists in internal repository
tokay2 Windows Server 2012 R2 Standard / x64  OK  OK  WARNINGS  OK UNNEEDED, same version exists in internal repository
Package 94/1819HostnameOS / ArchINSTALLBUILDCHECKBUILD BIN
ASSIGN 1.23.0
Ying Shen , W. Evan Johnson
Last Commit: 34fd6fd
Last Changed Date: 2019-10-29 13:37:20 -0500
malbec2 Linux (Ubuntu 18.04.3 LTS) / x86_64  OK  OK  OK UNNEEDED, same version exists in internal repository
tokay2 Windows Server 2012 R2 Standard / x64  OK  OK  OK  OK UNNEEDED, same version exists in internal repository
Package 95/1819HostnameOS / ArchINSTALLBUILDCHECKBUILD BIN
ATACseqQC 1.11.1
Jianhong Ou
Last Commit: a9c6339
Last Changed Date: 2019-11-11 08:55:20 -0500
malbec2 Linux (Ubuntu 18.04.3 LTS) / x86_64  OK  OK  OK UNNEEDED, same version exists in internal repository
tokay2 Windows Server 2012 R2 Standard / x64  OK  OK  OK  OK UNNEEDED, same version exists in internal repository
Package 96/1819HostnameOS / ArchINSTALLBUILDCHECKBUILD BIN
atSNP 1.3.0
Sunyoung Shin
Last Commit: 9dc873a
Last Changed Date: 2019-10-29 13:43:29 -0500
malbec2 Linux (Ubuntu 18.04.3 LTS) / x86_64  OK  OK  OK UNNEEDED, same version exists in internal repository
tokay2 Windows Server 2012 R2 Standard / x64  OK  OK  OK  OK UNNEEDED, same version exists in internal repository
Package 97/1819HostnameOS / ArchINSTALLBUILDCHECKBUILD BIN
attract 1.39.0
Samuel Zimmerman
Last Commit: 69da30e
Last Changed Date: 2019-10-29 13:35:17 -0500
malbec2 Linux (Ubuntu 18.04.3 LTS) / x86_64  OK  OK  OK UNNEEDED, same version exists in internal repository
tokay2 Windows Server 2012 R2 Standard / x64  OK  OK  OK  OK UNNEEDED, same version exists in internal repository
Package 98/1819HostnameOS / ArchINSTALLBUILDCHECKBUILD BIN
AUCell 1.9.0
Sara Aibar
Last Commit: 3da3e3e
Last Changed Date: 2019-10-29 13:42:27 -0500
malbec2 Linux (Ubuntu 18.04.3 LTS) / x86_64  OK  OK  WARNINGS UNNEEDED, same version exists in internal repository
tokay2 Windows Server 2012 R2 Standard / x64  OK  OK  WARNINGS  OK UNNEEDED, same version exists in internal repository
Package 99/1819HostnameOS / ArchINSTALLBUILDCHECKBUILD BIN
Autotuner 1.1.0
Craig McLean
Last Commit: 85881a7
Last Changed Date: 2019-10-29 13:43:37 -0500
malbec2 Linux (Ubuntu 18.04.3 LTS) / x86_64  OK  OK  OK UNNEEDED, same version exists in internal repository
tokay2 Windows Server 2012 R2 Standard / x64  OK  OK  OK  OK UNNEEDED, same version exists in internal repository
Package 100/1819HostnameOS / ArchINSTALLBUILDCHECKBUILD BIN
AWFisher 1.1.0
Zhiguang Huo
Last Commit: 3c50216
Last Changed Date: 2019-10-29 13:43:36 -0500
malbec2 Linux (Ubuntu 18.04.3 LTS) / x86_64  OK  OK  OK UNNEEDED, same version exists in internal repository
tokay2 Windows Server 2012 R2 Standard / x64  OK  OK  OK  OK UNNEEDED, same version exists in internal repository
B
ABCDEFGHIJKLMNOPQRSTUVWXYZ
Package 101/1819HostnameOS / ArchINSTALLBUILDCHECKBUILD BIN
BaalChIP 1.13.0
Ines de Santiago
Last Commit: 382eaf5
Last Changed Date: 2019-10-29 13:42:06 -0500
malbec2 Linux (Ubuntu 18.04.3 LTS) / x86_64  OK  OK  WARNINGS UNNEEDED, same version exists in internal repository
tokay2 Windows Server 2012 R2 Standard / x64  OK  OK  WARNINGS  OK UNNEEDED, same version exists in internal repository
Package 102/1819HostnameOS / ArchINSTALLBUILDCHECKBUILD BIN
BAC 1.47.0
Raphael Gottardo
Last Commit: add14e6
Last Changed Date: 2019-10-29 13:34:48 -0500
malbec2 Linux (Ubuntu 18.04.3 LTS) / x86_64  OK  OK  OK UNNEEDED, same version exists in internal repository
tokay2 Windows Server 2012 R2 Standard / x64  OK  OK  OK  OK UNNEEDED, same version exists in internal repository
Package 103/1819HostnameOS / ArchINSTALLBUILDCHECKBUILD BIN
bacon 1.15.0
Maarten van Iterson
Last Commit: a60f044
Last Changed Date: 2019-10-29 13:40:37 -0500
malbec2 Linux (Ubuntu 18.04.3 LTS) / x86_64  OK  OK  OK UNNEEDED, same version exists in internal repository
tokay2 Windows Server 2012 R2 Standard / x64  OK  OK  OK  OK UNNEEDED, same version exists in internal repository
Package 104/1819HostnameOS / ArchINSTALLBUILDCHECKBUILD BIN
BADER 1.25.0
Andreas Neudecker
Last Commit: 65df235
Last Changed Date: 2019-10-29 13:36:59 -0500
malbec2 Linux (Ubuntu 18.04.3 LTS) / x86_64  OK  OK  OK UNNEEDED, same version exists in internal repository
tokay2 Windows Server 2012 R2 Standard / x64  OK  OK  OK  OK UNNEEDED, same version exists in internal repository
Package 105/1819HostnameOS / ArchINSTALLBUILDCHECKBUILD BIN
BadRegionFinder 1.15.0
Sarah Sandmann
Last Commit: a811b41
Last Changed Date: 2019-10-29 13:40:53 -0500
malbec2 Linux (Ubuntu 18.04.3 LTS) / x86_64  OK  OK  OK UNNEEDED, same version exists in internal repository
tokay2 Windows Server 2012 R2 Standard / x64  OK  OK  OK  OK UNNEEDED, same version exists in internal repository
Package 106/1819HostnameOS / ArchINSTALLBUILDCHECKBUILD BIN
BAGS 2.27.0
Alejandro Quiroz-Zarate
Last Commit: 844c8a2
Last Changed Date: 2019-10-29 13:36:04 -0500
malbec2 Linux (Ubuntu 18.04.3 LTS) / x86_64  OK  OK  OK UNNEEDED, same version exists in internal repository
tokay2 Windows Server 2012 R2 Standard / x64  OK  OK  OK  OK UNNEEDED, same version exists in internal repository
Package 107/1819HostnameOS / ArchINSTALLBUILDCHECKBUILD BIN
ballgown 2.19.0
Jack Fu
Last Commit: c2fd3ce
Last Changed Date: 2019-10-29 13:37:46 -0500
malbec2 Linux (Ubuntu 18.04.3 LTS) / x86_64  OK  OK  OK UNNEEDED, same version exists in internal repository
tokay2 Windows Server 2012 R2 Standard / x64  OK  OK  OK  OK UNNEEDED, same version exists in internal repository
Package 108/1819HostnameOS / ArchINSTALLBUILDCHECKBUILD BIN
bamsignals 1.19.0
Johannes Helmuth
Last Commit: ae7c669
Last Changed Date: 2019-10-29 13:39:08 -0500
malbec2 Linux (Ubuntu 18.04.3 LTS) / x86_64  OK  OK  OK UNNEEDED, same version exists in internal repository
tokay2 Windows Server 2012 R2 Standard / x64  OK  OK  OK  OK UNNEEDED, same version exists in internal repository
Package 109/1819HostnameOS / ArchINSTALLBUILDCHECKBUILD BIN
BANDITS 1.3.2
Simone Tiberi
Last Commit: 9794a9a
Last Changed Date: 2019-12-31 10:54:54 -0500
malbec2 Linux (Ubuntu 18.04.3 LTS) / x86_64  OK  OK  OK UNNEEDED, same version exists in internal repository
tokay2 Windows Server 2012 R2 Standard / x64  OK  OK  OK  OK UNNEEDED, same version exists in internal repository
Package 110/1819HostnameOS / ArchINSTALLBUILDCHECKBUILD BIN
banocc 1.11.0
George Weingart
Last Commit: 274b43b
Last Changed Date: 2019-10-29 13:42:18 -0500
malbec2 Linux (Ubuntu 18.04.3 LTS) / x86_64  OK  OK  OK UNNEEDED, same version exists in internal repository
tokay2 Windows Server 2012 R2 Standard / x64  OK  ERROR  skipped  skipped 
Package 111/1819HostnameOS / ArchINSTALLBUILDCHECKBUILD BIN
basecallQC 1.11.0
Thomas Carroll
Last Commit: 96b6882
Last Changed Date: 2019-10-29 13:42:18 -0500
malbec2 Linux (Ubuntu 18.04.3 LTS) / x86_64  OK  OK  OK UNNEEDED, same version exists in internal repository
tokay2 Windows Server 2012 R2 Standard / x64  OK  OK  OK  OK UNNEEDED, same version exists in internal repository
Package 112/1819HostnameOS / ArchINSTALLBUILDCHECKBUILD BIN
BaseSpaceR 1.31.0
Jared O'Connell
Last Commit: 480fdf2
Last Changed Date: 2019-10-29 13:36:45 -0500
malbec2 Linux (Ubuntu 18.04.3 LTS) / x86_64  OK  OK  OK UNNEEDED, same version exists in internal repository
tokay2 Windows Server 2012 R2 Standard / x64  OK  OK  OK  OK UNNEEDED, same version exists in internal repository
Package 113/1819HostnameOS / ArchINSTALLBUILDCHECKBUILD BIN
Basic4Cseq 1.23.0
Carolin Walter
Last Commit: 37f87be
Last Changed Date: 2019-10-29 13:37:18 -0500
malbec2 Linux (Ubuntu 18.04.3 LTS) / x86_64  OK  OK  OK UNNEEDED, same version exists in internal repository
tokay2 Windows Server 2012 R2 Standard / x64  OK  OK  OK  OK UNNEEDED, same version exists in internal repository
Package 114/1819HostnameOS / ArchINSTALLBUILDCHECKBUILD BIN
BASiCS 1.9.10
Catalina Vallejos
Last Commit: 7835661
Last Changed Date: 2019-12-13 05:56:29 -0500
malbec2 Linux (Ubuntu 18.04.3 LTS) / x86_64  OK  OK  OK UNNEEDED, same version exists in internal repository
tokay2 Windows Server 2012 R2 Standard / x64  OK  OK  OK  OK UNNEEDED, same version exists in internal repository
Package 115/1819HostnameOS / ArchINSTALLBUILDCHECKBUILD BIN
BasicSTARRseq 1.15.0
Annika Buerger
Last Commit: 2213652
Last Changed Date: 2019-10-29 13:40:24 -0500
malbec2 Linux (Ubuntu 18.04.3 LTS) / x86_64  OK  OK  OK UNNEEDED, same version exists in internal repository
tokay2 Windows Server 2012 R2 Standard / x64  OK  OK  OK  OK UNNEEDED, same version exists in internal repository
Package 116/1819HostnameOS / ArchINSTALLBUILDCHECKBUILD BIN
batchelor 1.3.9
Aaron Lun
Last Commit: 86153dd
Last Changed Date: 2020-01-10 02:29:01 -0500
malbec2 Linux (Ubuntu 18.04.3 LTS) / x86_64  OK  OK  OK UNNEEDED, same version exists in internal repository
tokay2 Windows Server 2012 R2 Standard / x64  OK  OK  OK  OK UNNEEDED, same version exists in internal repository
Package 117/1819HostnameOS / ArchINSTALLBUILDCHECKBUILD BIN
BatchQC 1.15.0
Solaiappan Manimaran
Last Commit: 04555ae
Last Changed Date: 2019-10-29 13:40:58 -0500
malbec2 Linux (Ubuntu 18.04.3 LTS) / x86_64  OK  OK  OK UNNEEDED, same version exists in internal repository
tokay2 Windows Server 2012 R2 Standard / x64  OK  OK  ERROR  OK 
Package 118/1819HostnameOS / ArchINSTALLBUILDCHECKBUILD BIN
BayesKnockdown 1.13.0
William Chad Young
Last Commit: 4c0f1f9
Last Changed Date: 2019-10-29 13:42:02 -0500
malbec2 Linux (Ubuntu 18.04.3 LTS) / x86_64  OK  OK  OK UNNEEDED, same version exists in internal repository
tokay2 Windows Server 2012 R2 Standard / x64  OK  OK  OK  OK UNNEEDED, same version exists in internal repository
Package 119/1819HostnameOS / ArchINSTALLBUILDCHECKBUILD BIN
BayesPeak 1.39.1
Jonathan Cairns
Last Commit: ccc4106
Last Changed Date: 2020-01-06 12:13:54 -0500
malbec2 Linux (Ubuntu 18.04.3 LTS) / x86_64  OK  ERROR  skipped 
tokay2 Windows Server 2012 R2 Standard / x64  OK  ERROR  skipped  skipped 
Package 120/1819HostnameOS / ArchINSTALLBUILDCHECKBUILD BIN
bayNorm 1.5.14
Wenhao Tang
Last Commit: 5026087
Last Changed Date: 2020-01-09 05:09:00 -0500
malbec2 Linux (Ubuntu 18.04.3 LTS) / x86_64  OK  OK  OK UNNEEDED, same version exists in internal repository
tokay2 Windows Server 2012 R2 Standard / x64  OK  OK  OK  OK UNNEEDED, same version exists in internal repository
Package 121/1819HostnameOS / ArchINSTALLBUILDCHECKBUILD BIN
baySeq 2.21.0
Thomas J. Hardcastle
Last Commit: 708c02c
Last Changed Date: 2019-10-29 13:35:09 -0500
malbec2 Linux (Ubuntu 18.04.3 LTS) / x86_64  OK  OK  OK UNNEEDED, same version exists in internal repository
tokay2 Windows Server 2012 R2 Standard / x64  OK  OK  OK  OK UNNEEDED, same version exists in internal repository
Package 122/1819HostnameOS / ArchINSTALLBUILDCHECKBUILD BIN
BBCAnalyzer 1.17.0
Sarah Sandmann
Last Commit: 66e232a
Last Changed Date: 2019-10-29 13:39:47 -0500
malbec2 Linux (Ubuntu 18.04.3 LTS) / x86_64  OK  OK  OK UNNEEDED, same version exists in internal repository
tokay2 Windows Server 2012 R2 Standard / x64  OK  OK  WARNINGS  OK UNNEEDED, same version exists in internal repository
Package 123/1819HostnameOS / ArchINSTALLBUILDCHECKBUILD BIN
BCRANK 1.49.0
Adam Ameur
Last Commit: e130978
Last Changed Date: 2019-10-29 13:34:48 -0500
malbec2 Linux (Ubuntu 18.04.3 LTS) / x86_64  OK  OK  OK UNNEEDED, same version exists in internal repository
tokay2 Windows Server 2012 R2 Standard / x64  OK  OK  OK  OK UNNEEDED, same version exists in internal repository
Package 124/1819HostnameOS / ArchINSTALLBUILDCHECKBUILD BIN
bcSeq 1.9.0
Jiaxing Lin
Last Commit: d89d30f
Last Changed Date: 2019-10-29 13:42:35 -0500
malbec2 Linux (Ubuntu 18.04.3 LTS) / x86_64  OK  OK  OK UNNEEDED, same version exists in internal repository
tokay2 Windows Server 2012 R2 Standard / x64  OK  OK  OK  OK UNNEEDED, same version exists in internal repository
Package 125/1819HostnameOS / ArchINSTALLBUILDCHECKBUILD BIN
BDMMAcorrect 1.5.0
ZHENWEI DAI
Last Commit: 843532c
Last Changed Date: 2019-10-29 13:43:22 -0500
malbec2 Linux (Ubuntu 18.04.3 LTS) / x86_64  OK  OK  OK UNNEEDED, same version exists in internal repository
tokay2 Windows Server 2012 R2 Standard / x64  OK  OK  OK  OK UNNEEDED, same version exists in internal repository
Package 126/1819HostnameOS / ArchINSTALLBUILDCHECKBUILD BIN
beachmat 2.3.1
Aaron Lun
Last Commit: 0fa67d6
Last Changed Date: 2019-11-27 02:01:01 -0500
malbec2 Linux (Ubuntu 18.04.3 LTS) / x86_64  OK  OK  OK UNNEEDED, same version exists in internal repository
tokay2 Windows Server 2012 R2 Standard / x64  OK  OK  OK  OK UNNEEDED, same version exists in internal repository
Package 127/1819HostnameOS / ArchINSTALLBUILDCHECKBUILD BIN
beadarray 2.37.0
Mark Dunning
Last Commit: 1ec2778
Last Changed Date: 2019-10-29 13:34:41 -0500
malbec2 Linux (Ubuntu 18.04.3 LTS) / x86_64  OK  OK  OK UNNEEDED, same version exists in internal repository
tokay2 Windows Server 2012 R2 Standard / x64  OK  OK  OK  OK UNNEEDED, same version exists in internal repository
Package 128/1819HostnameOS / ArchINSTALLBUILDCHECKBUILD BIN
beadarraySNP 1.53.0
Jan Oosting
Last Commit: d954161
Last Changed Date: 2019-10-29 13:34:44 -0500
malbec2 Linux (Ubuntu 18.04.3 LTS) / x86_64  OK  OK  OK UNNEEDED, same version exists in internal repository
tokay2 Windows Server 2012 R2 Standard / x64  OK  OK  OK  OK UNNEEDED, same version exists in internal repository
Package 129/1819HostnameOS / ArchINSTALLBUILDCHECKBUILD BIN
BeadDataPackR 1.39.0
Mike Smith
Last Commit: edbf0cf
Last Changed Date: 2019-10-29 13:35:15 -0500
malbec2 Linux (Ubuntu 18.04.3 LTS) / x86_64  OK  OK  OK UNNEEDED, same version exists in internal repository
tokay2 Windows Server 2012 R2 Standard / x64  OK  OK  OK  OK UNNEEDED, same version exists in internal repository
Package 130/1819HostnameOS / ArchINSTALLBUILDCHECKBUILD BIN
BEARscc 1.7.0
Benjamin Schuster-Boeckler
Last Commit: 4e552c9
Last Changed Date: 2019-10-29 13:42:40 -0500
malbec2 Linux (Ubuntu 18.04.3 LTS) / x86_64  OK  OK  WARNINGS UNNEEDED, same version exists in internal repository
tokay2 Windows Server 2012 R2 Standard / x64  OK  OK  WARNINGS  OK UNNEEDED, same version exists in internal repository
Package 131/1819HostnameOS / ArchINSTALLBUILDCHECKBUILD BIN
BEAT 1.25.0
Kemal Akman
Last Commit: 8e7c85d
Last Changed Date: 2019-10-29 13:37:16 -0500
malbec2 Linux (Ubuntu 18.04.3 LTS) / x86_64  OK  OK  OK UNNEEDED, same version exists in internal repository
tokay2 Windows Server 2012 R2 Standard / x64  OK  OK  OK  OK UNNEEDED, same version exists in internal repository
Package 132/1819HostnameOS / ArchINSTALLBUILDCHECKBUILD BIN
BEclear 2.3.0
David Rasp
Last Commit: 7447bfa
Last Changed Date: 2019-10-29 13:39:26 -0500
malbec2 Linux (Ubuntu 18.04.3 LTS) / x86_64  OK  OK  OK UNNEEDED, same version exists in internal repository
tokay2 Windows Server 2012 R2 Standard / x64  OK  OK  OK  OK UNNEEDED, same version exists in internal repository
Package 133/1819HostnameOS / ArchINSTALLBUILDCHECKBUILD BIN
bgafun 1.49.0
Iain Wallace
Last Commit: 6226b01
Last Changed Date: 2019-10-29 13:34:47 -0500
malbec2 Linux (Ubuntu 18.04.3 LTS) / x86_64  OK  OK  OK UNNEEDED, same version exists in internal repository
tokay2 Windows Server 2012 R2 Standard / x64  OK  OK  OK  OK UNNEEDED, same version exists in internal repository
Package 134/1819HostnameOS / ArchINSTALLBUILDCHECKBUILD BIN
BgeeCall 1.3.1
Julien Wollbrett
Last Commit: f21d7ee
Last Changed Date: 2020-01-16 10:53:02 -0500
malbec2 Linux (Ubuntu 18.04.3 LTS) / x86_64  OK  OK  WARNINGS YES, package does not exist in internal repository.
tokay2 Windows Server 2012 R2 Standard / x64  OK  OK  WARNINGS  OK YES, package does not exist in internal repository.
Package 135/1819HostnameOS / ArchINSTALLBUILDCHECKBUILD BIN
BgeeDB 2.13.0
Julien Wollbrett , Julien Roux , Andrea Komljenovic , Frederic Bastian
Last Commit: b3486f3
Last Changed Date: 2019-10-29 13:40:59 -0500
malbec2 Linux (Ubuntu 18.04.3 LTS) / x86_64  OK  OK  OK UNNEEDED, same version exists in internal repository
tokay2 Windows Server 2012 R2 Standard / x64  OK  OK  OK  OK UNNEEDED, same version exists in internal repository
Package 136/1819HostnameOS / ArchINSTALLBUILDCHECKBUILD BIN
BGmix 1.47.0
Alex Lewin
Last Commit: f3567e1
Last Changed Date: 2019-10-29 13:34:47 -0500
malbec2 Linux (Ubuntu 18.04.3 LTS) / x86_64  OK  OK  WARNINGS UNNEEDED, same version exists in internal repository
tokay2 Windows Server 2012 R2 Standard / x64 ...NOT SUPPORTED...
Package 137/1819HostnameOS / ArchINSTALLBUILDCHECKBUILD BIN
bgx 1.53.0
Ernest Turro
Last Commit: cb7d957
Last Changed Date: 2019-10-29 13:34:46 -0500
malbec2 Linux (Ubuntu 18.04.3 LTS) / x86_64  OK  OK  OK UNNEEDED, same version exists in internal repository
tokay2 Windows Server 2012 R2 Standard / x64  OK  OK  OK  OK UNNEEDED, same version exists in internal repository
Package 138/1819HostnameOS / ArchINSTALLBUILDCHECKBUILD BIN
BHC 1.39.0
Rich Savage
Last Commit: ce9ef54
Last Changed Date: 2019-10-29 13:35:17 -0500
malbec2 Linux (Ubuntu 18.04.3 LTS) / x86_64  OK  OK  OK UNNEEDED, same version exists in internal repository
tokay2 Windows Server 2012 R2 Standard / x64  OK  OK  OK  OK UNNEEDED, same version exists in internal repository
Package 139/1819HostnameOS / ArchINSTALLBUILDCHECKBUILD BIN
BicARE 1.45.0
Pierre Gestraud
Last Commit: 74116ea
Last Changed Date: 2019-10-29 13:34:52 -0500
malbec2 Linux (Ubuntu 18.04.3 LTS) / x86_64  OK  OK  OK UNNEEDED, same version exists in internal repository
tokay2 Windows Server 2012 R2 Standard / x64  OK  OK  OK  OK UNNEEDED, same version exists in internal repository
Package 140/1819HostnameOS / ArchINSTALLBUILDCHECKBUILD BIN
BiFET 1.7.0
Ahrim Youn
Last Commit: 4159cdd
Last Changed Date: 2019-10-29 13:42:38 -0500
malbec2 Linux (Ubuntu 18.04.3 LTS) / x86_64  OK  OK  OK UNNEEDED, same version exists in internal repository
tokay2 Windows Server 2012 R2 Standard / x64  OK  OK  OK  OK UNNEEDED, same version exists in internal repository
Package 141/1819HostnameOS / ArchINSTALLBUILDCHECKBUILD BIN
BiGGR 1.23.0
Anand K. Gavai
Last Commit: 46e2590
Last Changed Date: 2019-10-29 13:36:57 -0500
malbec2 Linux (Ubuntu 18.04.3 LTS) / x86_64  OK  OK  WARNINGS UNNEEDED, same version exists in internal repository
tokay2 Windows Server 2012 R2 Standard / x64  OK  OK  WARNINGS  OK UNNEEDED, same version exists in internal repository
Package 142/1819HostnameOS / ArchINSTALLBUILDCHECKBUILD BIN
bigmelon 1.13.4
Tyler J. Gorrie-Stone
Last Commit: 2b45c43
Last Changed Date: 2019-12-13 09:54:59 -0500
malbec2 Linux (Ubuntu 18.04.3 LTS) / x86_64  OK  OK  OK UNNEEDED, same version exists in internal repository
tokay2 Windows Server 2012 R2 Standard / x64  OK  OK  WARNINGS  OK UNNEEDED, same version exists in internal repository
Package 143/1819HostnameOS / ArchINSTALLBUILDCHECKBUILD BIN
bigmemoryExtras 1.35.0
Peter M. Haverty
Last Commit: ee97ae0
Last Changed Date: 2019-10-29 13:36:23 -0500
malbec2 Linux (Ubuntu 18.04.3 LTS) / x86_64  OK  OK  WARNINGS UNNEEDED, same version exists in internal repository
tokay2 Windows Server 2012 R2 Standard / x64 ...NOT SUPPORTED...
Package 144/1819HostnameOS / ArchINSTALLBUILDCHECKBUILD BIN
bigPint 1.3.0
Lindsay Rutter
Last Commit: 0e1100b
Last Changed Date: 2020-01-04 01:51:05 -0500
malbec2 Linux (Ubuntu 18.04.3 LTS) / x86_64  OK  OK  OK UNNEEDED, same version exists in internal repository
tokay2 Windows Server 2012 R2 Standard / x64  OK  OK  OK  OK UNNEEDED, same version exists in internal repository
Package 145/1819HostnameOS / ArchINSTALLBUILDCHECKBUILD BIN
bioassayR 1.25.0
Tyler Backman
Last Commit: 77ae19f
Last Changed Date: 2019-10-29 13:37:05 -0500
malbec2 Linux (Ubuntu 18.04.3 LTS) / x86_64  OK  OK  OK UNNEEDED, same version exists in internal repository
tokay2 Windows Server 2012 R2 Standard / x64  OK  OK  OK  OK UNNEEDED, same version exists in internal repository
Package 146/1819HostnameOS / ArchINSTALLBUILDCHECKBUILD BIN
Biobase 2.47.2
Bioconductor Package Maintainer
Last Commit: 3ba6861
Last Changed Date: 2019-12-19 14:26:23 -0500
malbec2 Linux (Ubuntu 18.04.3 LTS) / x86_64  OK  OK  OK UNNEEDED, same version exists in internal repository
tokay2 Windows Server 2012 R2 Standard / x64  OK  OK  OK  OK UNNEEDED, same version exists in internal repository
Package 147/1819HostnameOS / ArchINSTALLBUILDCHECKBUILD BIN
biobroom 1.19.0
John D. Storey and Andrew J. Bass
Last Commit: 997c88b
Last Changed Date: 2019-10-29 13:40:09 -0500
malbec2 Linux (Ubuntu 18.04.3 LTS) / x86_64  OK  OK  OK UNNEEDED, same version exists in internal repository
tokay2 Windows Server 2012 R2 Standard / x64  OK  OK  WARNINGS  OK UNNEEDED, same version exists in internal repository
Package 148/1819HostnameOS / ArchINSTALLBUILDCHECKBUILD BIN
biobtreeR 0.99.22
Tamer Gur
Last Commit: ccd9ffa
Last Changed Date: 2020-01-16 15:37:50 -0500
malbec2 Linux (Ubuntu 18.04.3 LTS) / x86_64  OK  OK  OK UNNEEDED, same version exists in internal repository
tokay2 Windows Server 2012 R2 Standard / x64  OK  OK  OK  OK UNNEEDED, same version exists in internal repository
Package 149/1819HostnameOS / ArchINSTALLBUILDCHECKBUILD BIN
bioCancer 1.15.0
Karim Mezhoud
Last Commit: 323593b
Last Changed Date: 2019-10-29 13:41:29 -0500
malbec2 Linux (Ubuntu 18.04.3 LTS) / x86_64  OK  OK  OK UNNEEDED, same version exists in internal repository
tokay2 Windows Server 2012 R2 Standard / x64  OK  OK  OK  OK UNNEEDED, same version exists in internal repository
Package 150/1819HostnameOS / ArchINSTALLBUILDCHECKBUILD BIN
BiocCaseStudies 1.49.0
Bioconductor Package Maintainer
Last Commit: a1c3eac
Last Changed Date: 2019-10-29 13:34:47 -0500
malbec2 Linux (Ubuntu 18.04.3 LTS) / x86_64  OK  OK  OK UNNEEDED, same version exists in internal repository
tokay2 Windows Server 2012 R2 Standard / x64  OK  OK  OK  OK UNNEEDED, same version exists in internal repository
Package 151/1819HostnameOS / ArchINSTALLBUILDCHECKBUILD BIN
BiocCheck 1.23.0
Bioconductor Package Maintainer
Last Commit: 1892a3f
Last Changed Date: 2019-10-29 13:37:23 -0500
malbec2 Linux (Ubuntu 18.04.3 LTS) / x86_64  OK  OK  OK UNNEEDED, same version exists in internal repository
tokay2 Windows Server 2012 R2 Standard / x64  OK  OK  OK  OK UNNEEDED, same version exists in internal repository
Package 152/1819HostnameOS / ArchINSTALLBUILDCHECKBUILD BIN
BiocFileCache 1.11.4
Lori Shepherd
Last Commit: 5aabf72
Last Changed Date: 2019-12-02 09:21:36 -0500
malbec2 Linux (Ubuntu 18.04.3 LTS) / x86_64  OK  OK  OK UNNEEDED, same version exists in internal repository
tokay2 Windows Server 2012 R2 Standard / x64  OK  OK  OK  OK UNNEEDED, same version exists in internal repository
Package 153/1819HostnameOS / ArchINSTALLBUILDCHECKBUILD BIN
BiocGenerics 0.33.0
Bioconductor Package Maintainer
Last Commit: cfeec60
Last Changed Date: 2019-10-29 13:36:03 -0500
malbec2 Linux (Ubuntu 18.04.3 LTS) / x86_64  OK  OK  WARNINGS UNNEEDED, same version exists in internal repository
tokay2 Windows Server 2012 R2 Standard / x64  OK  OK  WARNINGS  OK UNNEEDED, same version exists in internal repository
Package 154/1819HostnameOS / ArchINSTALLBUILDCHECKBUILD BIN
biocGraph 1.49.0
Florian Hahne
Last Commit: d4a7ca9
Last Changed Date: 2019-10-29 13:34:46 -0500
malbec2 Linux (Ubuntu 18.04.3 LTS) / x86_64  OK  OK  OK UNNEEDED, same version exists in internal repository
tokay2 Windows Server 2012 R2 Standard / x64  OK  OK  OK  OK UNNEEDED, same version exists in internal repository
Package 155/1819HostnameOS / ArchINSTALLBUILDCHECKBUILD BIN
BiocNeighbors 1.5.1
Aaron Lun
Last Commit: 47b839f
Last Changed Date: 2019-10-31 02:28:37 -0500
malbec2 Linux (Ubuntu 18.04.3 LTS) / x86_64  OK  OK  WARNINGS UNNEEDED, same version exists in internal repository
tokay2 Windows Server 2012 R2 Standard / x64  OK  OK  WARNINGS  OK UNNEEDED, same version exists in internal repository
Package 156/1819HostnameOS / ArchINSTALLBUILDCHECKBUILD BIN
BiocOncoTK 1.7.1
VJ Carey
Last Commit: c2deb51
Last Changed Date: 2019-12-19 14:11:38 -0500
malbec2 Linux (Ubuntu 18.04.3 LTS) / x86_64  OK  OK  OK UNNEEDED, same version exists in internal repository
tokay2 Windows Server 2012 R2 Standard / x64  OK  OK  WARNINGS  OK UNNEEDED, same version exists in internal repository
Package 157/1819HostnameOS / ArchINSTALLBUILDCHECKBUILD BIN
BioCor 1.11.0
Lluís Revilla Sancho
Last Commit: aef4396
Last Changed Date: 2019-10-29 13:42:17 -0500
malbec2 Linux (Ubuntu 18.04.3 LTS) / x86_64  OK  OK  OK UNNEEDED, same version exists in internal repository
tokay2 Windows Server 2012 R2 Standard / x64  OK  OK  OK  OK UNNEEDED, same version exists in internal repository
Package 158/1819HostnameOS / ArchINSTALLBUILDCHECKBUILD BIN
BiocParallel 1.21.2
Bioconductor Package Maintainer
Last Commit: 15dc9f6
Last Changed Date: 2019-12-25 18:38:52 -0500
malbec2 Linux (Ubuntu 18.04.3 LTS) / x86_64  OK  OK  OK UNNEEDED, same version exists in internal repository
tokay2 Windows Server 2012 R2 Standard / x64  OK  OK  OK  OK UNNEEDED, same version exists in internal repository
Package 159/1819HostnameOS / ArchINSTALLBUILDCHECKBUILD BIN
BiocPkgTools 1.5.0
Sean Davis
Last Commit: d401f77
Last Changed Date: 2019-10-29 13:43:19 -0500
malbec2 Linux (Ubuntu 18.04.3 LTS) / x86_64  OK  OK  OK UNNEEDED, same version exists in internal repository
tokay2 Windows Server 2012 R2 Standard / x64  OK  OK  OK  OK UNNEEDED, same version exists in internal repository
Package 160/1819HostnameOS / ArchINSTALLBUILDCHECKBUILD BIN
BiocSet 1.1.2
Kayla Morrell
Last Commit: 55f2e04
Last Changed Date: 2019-12-09 02:06:02 -0500
malbec2 Linux (Ubuntu 18.04.3 LTS) / x86_64  OK  OK  OK UNNEEDED, same version exists in internal repository
tokay2 Windows Server 2012 R2 Standard / x64  OK  OK  OK  OK UNNEEDED, same version exists in internal repository
Package 161/1819HostnameOS / ArchINSTALLBUILDCHECKBUILD BIN
BiocSingular 1.3.1
Aaron Lun
Last Commit: c58843d
Last Changed Date: 2019-12-14 00:07:40 -0500
malbec2 Linux (Ubuntu 18.04.3 LTS) / x86_64  OK  OK  OK UNNEEDED, same version exists in internal repository
tokay2 Windows Server 2012 R2 Standard / x64  OK  OK  OK  OK UNNEEDED, same version exists in internal repository
Package 162/1819HostnameOS / ArchINSTALLBUILDCHECKBUILD BIN
BiocSklearn 1.9.1
VJ Carey
Last Commit: 75588dc
Last Changed Date: 2020-01-07 15:20:12 -0500
malbec2 Linux (Ubuntu 18.04.3 LTS) / x86_64  OK  OK  OK UNNEEDED, same version exists in internal repository
tokay2 Windows Server 2012 R2 Standard / x64  OK  OK  ERROR  OK 
Package 163/1819HostnameOS / ArchINSTALLBUILDCHECKBUILD BIN
BiocStyle 2.15.5
Bioconductor Package Maintainer
Last Commit: 3ffe07b
Last Changed Date: 2020-01-09 08:10:51 -0500
malbec2 Linux (Ubuntu 18.04.3 LTS) / x86_64  OK  OK  OK UNNEEDED, same version exists in internal repository
tokay2 Windows Server 2012 R2 Standard / x64  OK  OK  OK  OK UNNEEDED, same version exists in internal repository
Package 164/1819HostnameOS / ArchINSTALLBUILDCHECKBUILD BIN
BiocVersion 3.11.1
Bioconductor Package Maintainer
Last Commit: 75a6f4a
Last Changed Date: 2019-11-13 14:06:29 -0500
malbec2 Linux (Ubuntu 18.04.3 LTS) / x86_64  OK  OK  OK UNNEEDED, same version exists in internal repository
tokay2 Windows Server 2012 R2 Standard / x64  OK  OK  OK  OK UNNEEDED, same version exists in internal repository
Package 165/1819HostnameOS / ArchINSTALLBUILDCHECKBUILD BIN
biocViews 1.55.3
Bioconductor Package Maintainer
Last Commit: 20624d4
Last Changed Date: 2019-11-09 21:57:44 -0500
malbec2 Linux (Ubuntu 18.04.3 LTS) / x86_64  OK  OK  OK UNNEEDED, same version exists in internal repository
tokay2 Windows Server 2012 R2 Standard / x64  OK  OK  OK  OK UNNEEDED, same version exists in internal repository
Package 166/1819HostnameOS / ArchINSTALLBUILDCHECKBUILD BIN
BiocWorkflowTools 1.13.0
Mike Smith
Last Commit: 5d24db6
Last Changed Date: 2019-10-29 13:42:06 -0500
malbec2 Linux (Ubuntu 18.04.3 LTS) / x86_64  OK  ERROR  skipped 
tokay2 Windows Server 2012 R2 Standard / x64  OK  ERROR  skipped  skipped 
Package 167/1819HostnameOS / ArchINSTALLBUILDCHECKBUILD BIN
bioDist 1.59.0
Bioconductor Package Maintainer
Last Commit: 6940f72
Last Changed Date: 2019-10-29 13:34:37 -0500
malbec2 Linux (Ubuntu 18.04.3 LTS) / x86_64  OK  OK  OK UNNEEDED, same version exists in internal repository
tokay2 Windows Server 2012 R2 Standard / x64  OK  OK  OK  OK UNNEEDED, same version exists in internal repository
Package 168/1819HostnameOS / ArchINSTALLBUILDCHECKBUILD BIN
biomaRt 2.43.1
Mike Smith
Last Commit: 58c8971
Last Changed Date: 2020-01-08 07:12:52 -0500
malbec2 Linux (Ubuntu 18.04.3 LTS) / x86_64  OK  ERROR  skipped 
tokay2 Windows Server 2012 R2 Standard / x64  OK  ERROR  skipped  skipped 
Package 169/1819HostnameOS / ArchINSTALLBUILDCHECKBUILD BIN
biomformat 1.15.0
Paul J. McMurdie
Last Commit: 2df10b2
Last Changed Date: 2019-10-29 13:40:14 -0500
malbec2 Linux (Ubuntu 18.04.3 LTS) / x86_64  OK  OK  WARNINGS UNNEEDED, same version exists in internal repository
tokay2 Windows Server 2012 R2 Standard / x64  OK  OK  WARNINGS  OK UNNEEDED, same version exists in internal repository
Package 170/1819HostnameOS / ArchINSTALLBUILDCHECKBUILD BIN
BioMM 1.3.0
Junfang Chen
Last Commit: 6c4f1c7
Last Changed Date: 2019-10-29 13:43:29 -0500
malbec2 Linux (Ubuntu 18.04.3 LTS) / x86_64  OK  OK  OK UNNEEDED, same version exists in internal repository
tokay2 Windows Server 2012 R2 Standard / x64  OK  OK  OK  OK UNNEEDED, same version exists in internal repository
Package 171/1819HostnameOS / ArchINSTALLBUILDCHECKBUILD BIN
BioMVCClass 1.55.0
Elizabeth Whalen
Last Commit: 8ea690a
Last Changed Date: 2019-10-29 13:34:43 -0500
malbec2 Linux (Ubuntu 18.04.3 LTS) / x86_64  OK  OK  OK UNNEEDED, same version exists in internal repository
tokay2 Windows Server 2012 R2 Standard / x64  OK  OK  OK  OK UNNEEDED, same version exists in internal repository
Package 172/1819HostnameOS / ArchINSTALLBUILDCHECKBUILD BIN
biomvRCNS 1.27.0
Yang Du
Last Commit: 953c518
Last Changed Date: 2019-10-29 13:36:36 -0500
malbec2 Linux (Ubuntu 18.04.3 LTS) / x86_64  OK  OK  OK UNNEEDED, same version exists in internal repository
tokay2 Windows Server 2012 R2 Standard / x64  OK  OK  OK  OK UNNEEDED, same version exists in internal repository
Package 173/1819HostnameOS / ArchINSTALLBUILDCHECKBUILD BIN
BioNet 1.47.0
Marcus Dittrich
Last Commit: 6275a14
Last Changed Date: 2019-10-29 13:35:18 -0500
malbec2 Linux (Ubuntu 18.04.3 LTS) / x86_64  OK  OK  OK UNNEEDED, same version exists in internal repository
tokay2 Windows Server 2012 R2 Standard / x64  OK  ERROR  skipped  skipped 
Package 174/1819HostnameOS / ArchINSTALLBUILDCHECKBUILD BIN
BioNetStat 1.7.0
Vinicius Jardim
Last Commit: f35d4f7
Last Changed Date: 2019-10-29 13:43:06 -0500
malbec2 Linux (Ubuntu 18.04.3 LTS) / x86_64  OK  OK  OK UNNEEDED, same version exists in internal repository
tokay2 Windows Server 2012 R2 Standard / x64  OK  OK  OK  OK UNNEEDED, same version exists in internal repository
Package 175/1819HostnameOS / ArchINSTALLBUILDCHECKBUILD BIN
BioQC 1.15.4
Jitao David Zhang
Last Commit: 4fc929a
Last Changed Date: 2019-12-12 09:41:33 -0500
malbec2 Linux (Ubuntu 18.04.3 LTS) / x86_64  OK  OK  OK UNNEEDED, same version exists in internal repository
tokay2 Windows Server 2012 R2 Standard / x64  OK  OK  OK  OK UNNEEDED, same version exists in internal repository
Package 176/1819HostnameOS / ArchINSTALLBUILDCHECKBUILD BIN
BioSeqClass 1.45.0
Li Hong
Last Commit: 9402af4
Last Changed Date: 2019-12-23 18:32:09 -0500
malbec2 Linux (Ubuntu 18.04.3 LTS) / x86_64  OK  OK  OK UNNEEDED, same version exists in internal repository
tokay2 Windows Server 2012 R2 Standard / x64  OK  ERROR  skipped  skipped 
Package 177/1819HostnameOS / ArchINSTALLBUILDCHECKBUILD BIN
biosigner 1.15.0
Philippe Rinaudo , Etienne Thevenot
Last Commit: 8a5e404
Last Changed Date: 2019-10-29 13:40:35 -0500
malbec2 Linux (Ubuntu 18.04.3 LTS) / x86_64  OK  OK  OK UNNEEDED, same version exists in internal repository
tokay2 Windows Server 2012 R2 Standard / x64  OK  OK  OK  OK UNNEEDED, same version exists in internal repository
Package 178/1819HostnameOS / ArchINSTALLBUILDCHECKBUILD BIN
Biostrings 2.55.4
H. Pagès
Last Commit: f4ae609
Last Changed Date: 2019-12-14 01:46:05 -0500
malbec2 Linux (Ubuntu 18.04.3 LTS) / x86_64  OK  OK  WARNINGS UNNEEDED, same version exists in internal repository
tokay2 Windows Server 2012 R2 Standard / x64  OK  OK  WARNINGS  OK UNNEEDED, same version exists in internal repository
Package 179/1819HostnameOS / ArchINSTALLBUILDCHECKBUILD BIN
biosvd 2.23.0
Anneleen Daemen , Matthew Brauer
Last Commit: f985f3d
Last Changed Date: 2019-10-29 13:37:16 -0500
malbec2 Linux (Ubuntu 18.04.3 LTS) / x86_64  OK  OK  OK UNNEEDED, same version exists in internal repository
tokay2 Windows Server 2012 R2 Standard / x64  OK  OK  OK  OK UNNEEDED, same version exists in internal repository
Package 180/1819HostnameOS / ArchINSTALLBUILDCHECKBUILD BIN
BioTIP 1.1.0
Zhezhen Wang , X Holly Yang < xyang2@uchicago> and Yuxi (Jennifer) Sun
Last Commit: f2dec76
Last Changed Date: 2019-10-29 13:43:43 -0500
malbec2 Linux (Ubuntu 18.04.3 LTS) / x86_64  OK  OK  OK UNNEEDED, same version exists in internal repository
tokay2 Windows Server 2012 R2 Standard / x64  OK  OK  OK  OK UNNEEDED, same version exists in internal repository
Package 181/1819HostnameOS / ArchINSTALLBUILDCHECKBUILD BIN
biotmle 1.11.0
Nima Hejazi
Last Commit: 366ba48
Last Changed Date: 2019-11-03 19:27:10 -0500
malbec2 Linux (Ubuntu 18.04.3 LTS) / x86_64  OK  OK  OK UNNEEDED, same version exists in internal repository
tokay2 Windows Server 2012 R2 Standard / x64  OK  OK  WARNINGS  OK UNNEEDED, same version exists in internal repository
Package 182/1819HostnameOS / ArchINSTALLBUILDCHECKBUILD BIN
biovizBase 1.35.1
Michael Lawrence
Last Commit: 125eb53
Last Changed Date: 2019-12-02 18:08:40 -0500
malbec2 Linux (Ubuntu 18.04.3 LTS) / x86_64  OK  OK  WARNINGS UNNEEDED, same version exists in internal repository
tokay2 Windows Server 2012 R2 Standard / x64  OK  OK  WARNINGS  OK UNNEEDED, same version exists in internal repository
Package 183/1819HostnameOS / ArchINSTALLBUILDCHECKBUILD BIN
BiRewire 3.19.0
Andrea Gobbi
Last Commit: 136e845
Last Changed Date: 2019-10-29 13:37:02 -0500
malbec2 Linux (Ubuntu 18.04.3 LTS) / x86_64  OK  OK  WARNINGS UNNEEDED, same version exists in internal repository
tokay2 Windows Server 2012 R2 Standard / x64  OK  OK  WARNINGS  OK UNNEEDED, same version exists in internal repository
Package 184/1819HostnameOS / ArchINSTALLBUILDCHECKBUILD BIN
birta 1.31.0
Benedikt Zacher
Last Commit: 7e6241b
Last Changed Date: 2019-10-29 13:36:07 -0500
malbec2 Linux (Ubuntu 18.04.3 LTS) / x86_64  OK  OK  OK UNNEEDED, same version exists in internal repository
tokay2 Windows Server 2012 R2 Standard / x64  OK  OK  WARNINGS  OK UNNEEDED, same version exists in internal repository
Package 185/1819HostnameOS / ArchINSTALLBUILDCHECKBUILD BIN
biscuiteer 1.1.0
"Tim Triche, Jr."
Last Commit: b20a8fa
Last Changed Date: 2019-10-29 13:43:46 -0500
malbec2 Linux (Ubuntu 18.04.3 LTS) / x86_64  OK  OK  OK UNNEEDED, same version exists in internal repository
tokay2 Windows Server 2012 R2 Standard / x64  OK  OK  OK  OK UNNEEDED, same version exists in internal repository
Package 186/1819HostnameOS / ArchINSTALLBUILDCHECKBUILD BIN
BiSeq 1.27.1
Katja Hebestreit
Last Commit: b7b66c3
Last Changed Date: 2020-01-06 10:50:33 -0500
malbec2 Linux (Ubuntu 18.04.3 LTS) / x86_64  ERROR  ERROR  skipped 
tokay2 Windows Server 2012 R2 Standard / x64  ERROR  ERROR  skipped  skipped 
Package 187/1819HostnameOS / ArchINSTALLBUILDCHECKBUILD BIN
BitSeq 1.31.0
Antti Honkela , Panagiotis Papastamoulis
Last Commit: b3ffcee
Last Changed Date: 2019-10-29 13:36:08 -0500
malbec2 Linux (Ubuntu 18.04.3 LTS) / x86_64  OK  OK  WARNINGS UNNEEDED, same version exists in internal repository
tokay2 Windows Server 2012 R2 Standard / x64  ERROR  ERROR  skipped  skipped 
Package 188/1819HostnameOS / ArchINSTALLBUILDCHECKBUILD BIN
blacksheepr 1.1.0
RugglesLab
Last Commit: 0be284a
Last Changed Date: 2019-10-29 13:43:45 -0500
malbec2 Linux (Ubuntu 18.04.3 LTS) / x86_64  OK  OK  OK UNNEEDED, same version exists in internal repository
tokay2 Windows Server 2012 R2 Standard / x64  OK  OK  OK  OK UNNEEDED, same version exists in internal repository
Package 189/1819HostnameOS / ArchINSTALLBUILDCHECKBUILD BIN
blima 1.21.0
Vojtěch Kulvait
Last Commit: 6e131e7
Last Changed Date: 2019-10-29 13:37:32 -0500
malbec2 Linux (Ubuntu 18.04.3 LTS) / x86_64  OK  OK  WARNINGS UNNEEDED, same version exists in internal repository
tokay2 Windows Server 2012 R2 Standard / x64  OK  OK  WARNINGS  OK UNNEEDED, same version exists in internal repository
Package 190/1819HostnameOS / ArchINSTALLBUILDCHECKBUILD BIN
BLMA 1.11.0
Tin Nguyen
Last Commit: 67f8fd7
Last Changed Date: 2019-10-29 13:42:19 -0500
malbec2 Linux (Ubuntu 18.04.3 LTS) / x86_64  OK  OK  OK UNNEEDED, same version exists in internal repository
tokay2 Windows Server 2012 R2 Standard / x64  OK  OK  OK  OK UNNEEDED, same version exists in internal repository
Package 191/1819HostnameOS / ArchINSTALLBUILDCHECKBUILD BIN
bnbc 1.9.0
Kipper Fletez-Brant
Last Commit: 98c9426
Last Changed Date: 2019-10-29 13:42:31 -0500
malbec2 Linux (Ubuntu 18.04.3 LTS) / x86_64  OK  OK  OK UNNEEDED, same version exists in internal repository
tokay2 Windows Server 2012 R2 Standard / x64  OK  OK  OK  OK UNNEEDED, same version exists in internal repository
Package 192/1819HostnameOS / ArchINSTALLBUILDCHECKBUILD BIN
BPRMeth 1.13.0
Chantriolnt-Andreas Kapourani
Last Commit: 8bba7c1
Last Changed Date: 2019-10-29 13:42:10 -0500
malbec2 Linux (Ubuntu 18.04.3 LTS) / x86_64  OK  ERROR  skipped 
tokay2 Windows Server 2012 R2 Standard / x64  OK  ERROR  skipped  skipped 
Package 193/1819HostnameOS / ArchINSTALLBUILDCHECKBUILD BIN
BRAIN 1.33.0
Piotr Dittwald
Last Commit: a942bdd
Last Changed Date: 2019-10-29 13:36:06 -0500
malbec2 Linux (Ubuntu 18.04.3 LTS) / x86_64  OK  OK  WARNINGS UNNEEDED, same version exists in internal repository
tokay2 Windows Server 2012 R2 Standard / x64  OK  OK  WARNINGS  OK UNNEEDED, same version exists in internal repository
Package 194/1819HostnameOS / ArchINSTALLBUILDCHECKBUILD BIN
brainflowprobes 1.1.0
Amanda Price
Last Commit: f75cedd
Last Changed Date: 2019-10-29 13:43:48 -0500
malbec2 Linux (Ubuntu 18.04.3 LTS) / x86_64  OK  ERROR  skipped 
tokay2 Windows Server 2012 R2 Standard / x64  OK  ERROR  skipped  skipped 
Package 195/1819HostnameOS / ArchINSTALLBUILDCHECKBUILD BIN
BrainStars 1.31.0
Itoshi NIKAIDO
Last Commit: 05757b9
Last Changed Date: 2019-10-29 13:36:07 -0500
malbec2 Linux (Ubuntu 18.04.3 LTS) / x86_64  OK  OK  OK UNNEEDED, same version exists in internal repository
tokay2 Windows Server 2012 R2 Standard / x64  OK  ERROR  skipped  skipped 
Package 196/1819HostnameOS / ArchINSTALLBUILDCHECKBUILD BIN
branchpointer 1.13.0
Beth Signal
Last Commit: cc80c69
Last Changed Date: 2019-10-29 13:42:17 -0500
malbec2 Linux (Ubuntu 18.04.3 LTS) / x86_64  OK  OK  OK UNNEEDED, same version exists in internal repository
tokay2 Windows Server 2012 R2 Standard / x64  OK  OK  OK  OK UNNEEDED, same version exists in internal repository
Package 197/1819HostnameOS / ArchINSTALLBUILDCHECKBUILD BIN
breakpointR 1.5.0
David Porubsky
Last Commit: eb4c3eb
Last Changed Date: 2019-10-29 13:43:19 -0500
malbec2 Linux (Ubuntu 18.04.3 LTS) / x86_64  OK  OK  OK UNNEEDED, same version exists in internal repository
tokay2 Windows Server 2012 R2 Standard / x64  OK  OK  OK  OK UNNEEDED, same version exists in internal repository
Package 198/1819HostnameOS / ArchINSTALLBUILDCHECKBUILD BIN
brendaDb 1.1.0
Yi Zhou
Last Commit: b04dfc2
Last Changed Date: 2019-10-29 13:43:38 -0500
malbec2 Linux (Ubuntu 18.04.3 LTS) / x86_64  OK  OK  OK UNNEEDED, same version exists in internal repository
tokay2 Windows Server 2012 R2 Standard / x64  OK  OK  OK  OK UNNEEDED, same version exists in internal repository
Package 199/1819HostnameOS / ArchINSTALLBUILDCHECKBUILD BIN
bridge 1.51.0
Raphael Gottardo
Last Commit: 045ee6a
Last Changed Date: 2019-10-29 13:34:39 -0500
malbec2 Linux (Ubuntu 18.04.3 LTS) / x86_64  OK  OK  WARNINGS UNNEEDED, same version exists in internal repository
tokay2 Windows Server 2012 R2 Standard / x64  OK  OK  WARNINGS  OK UNNEEDED, same version exists in internal repository
Package 200/1819HostnameOS / ArchINSTALLBUILDCHECKBUILD BIN
BridgeDbR 1.21.0
Egon Willighagen
Last Commit: 48b98f0
Last Changed Date: 2019-10-29 13:38:34 -0500
malbec2 Linux (Ubuntu 18.04.3 LTS) / x86_64  OK  ERROR  skipped 
tokay2 Windows Server 2012 R2 Standard / x64  OK  ERROR  skipped  skipped 
Package 201/1819HostnameOS / ArchINSTALLBUILDCHECKBUILD BIN
BrowserViz 2.9.1
Paul Shannon
Last Commit: dc825b8
Last Changed Date: 2020-01-08 16:02:23 -0500
malbec2 Linux (Ubuntu 18.04.3 LTS) / x86_64  OK  OK  OK UNNEEDED, same version exists in internal repository
tokay2 Windows Server 2012 R2 Standard / x64  OK  OK  OK  OK UNNEEDED, same version exists in internal repository
Package 202/1819HostnameOS / ArchINSTALLBUILDCHECKBUILD BIN
BSgenome 1.55.2
H. Pagès
Last Commit: 5fe4e8e
Last Changed Date: 2019-12-13 14:33:19 -0500
malbec2 Linux (Ubuntu 18.04.3 LTS) / x86_64  OK  OK  WARNINGS UNNEEDED, same version exists in internal repository
tokay2 Windows Server 2012 R2 Standard / x64  OK  OK  WARNINGS  OK UNNEEDED, same version exists in internal repository
Package 203/1819HostnameOS / ArchINSTALLBUILDCHECKBUILD BIN
bsseq 1.23.0
Kasper Daniel Hansen
Last Commit: b2e70be
Last Changed Date: 2019-10-29 13:36:17 -0500
malbec2 Linux (Ubuntu 18.04.3 LTS) / x86_64  OK  OK  OK UNNEEDED, same version exists in internal repository
tokay2 Windows Server 2012 R2 Standard / x64  OK  OK  WARNINGS  OK UNNEEDED, same version exists in internal repository
Package 204/1819HostnameOS / ArchINSTALLBUILDCHECKBUILD BIN
BubbleTree 2.17.0
Todd Creasy , Wei Zhu
Last Commit: d694392
Last Changed Date: 2019-10-29 13:38:59 -0500
malbec2 Linux (Ubuntu 18.04.3 LTS) / x86_64  OK  OK  OK UNNEEDED, same version exists in internal repository
tokay2 Windows Server 2012 R2 Standard / x64  OK  OK  OK  OK UNNEEDED, same version exists in internal repository
Package 205/1819HostnameOS / ArchINSTALLBUILDCHECKBUILD BIN
BufferedMatrix 1.51.0
Ben Bolstad
Last Commit: d49733d
Last Changed Date: 2019-10-29 13:34:45 -0500
malbec2 Linux (Ubuntu 18.04.3 LTS) / x86_64  OK  OK  OK UNNEEDED, same version exists in internal repository
tokay2 Windows Server 2012 R2 Standard / x64  OK  OK  OK  OK UNNEEDED, same version exists in internal repository
Package 206/1819HostnameOS / ArchINSTALLBUILDCHECKBUILD BIN
BufferedMatrixMethods 1.51.0
Ben Bolstad
Last Commit: 159df73
Last Changed Date: 2019-10-29 13:34:45 -0500
malbec2 Linux (Ubuntu 18.04.3 LTS) / x86_64  OK  OK  OK UNNEEDED, same version exists in internal repository
tokay2 Windows Server 2012 R2 Standard / x64  OK  OK  OK  OK UNNEEDED, same version exists in internal repository
Package 207/1819HostnameOS / ArchINSTALLBUILDCHECKBUILD BIN
BUMHMM 1.11.0
Alina Selega
Last Commit: f859019
Last Changed Date: 2019-10-29 13:42:11 -0500
malbec2 Linux (Ubuntu 18.04.3 LTS) / x86_64  OK  OK  OK UNNEEDED, same version exists in internal repository
tokay2 Windows Server 2012 R2 Standard / x64  OK  OK  OK  OK UNNEEDED, same version exists in internal repository
Package 208/1819HostnameOS / ArchINSTALLBUILDCHECKBUILD BIN
bumphunter 1.29.0
Rafael A. Irizarry
Last Commit: 163fd52
Last Changed Date: 2019-10-29 13:36:27 -0500
malbec2 Linux (Ubuntu 18.04.3 LTS) / x86_64  OK  OK  OK UNNEEDED, same version exists in internal repository
tokay2 Windows Server 2012 R2 Standard / x64  OK  OK  WARNINGS  OK UNNEEDED, same version exists in internal repository
Package 209/1819HostnameOS / ArchINSTALLBUILDCHECKBUILD BIN
BUS 1.43.0
Yuanhua Liu
Last Commit: 12879d1
Last Changed Date: 2019-10-29 13:35:01 -0500
malbec2 Linux (Ubuntu 18.04.3 LTS) / x86_64  OK  OK  OK UNNEEDED, same version exists in internal repository
tokay2 Windows Server 2012 R2 Standard / x64  OK  OK  OK  OK UNNEEDED, same version exists in internal repository
Package 210/1819HostnameOS / ArchINSTALLBUILDCHECKBUILD BIN
BUScorrect 1.5.0
Xiangyu Luo
Last Commit: f533a46
Last Changed Date: 2019-10-29 13:43:18 -0500
malbec2 Linux (Ubuntu 18.04.3 LTS) / x86_64  OK  OK  OK UNNEEDED, same version exists in internal repository
tokay2 Windows Server 2012 R2 Standard / x64  OK  OK  OK  OK UNNEEDED, same version exists in internal repository
Package 211/1819HostnameOS / ArchINSTALLBUILDCHECKBUILD BIN
BUSpaRse 1.1.0
Lambda Moses
Last Commit: ec7070a
Last Changed Date: 2019-10-29 13:43:38 -0500
malbec2 Linux (Ubuntu 18.04.3 LTS) / x86_64  OK  OK  OK UNNEEDED, same version exists in internal repository
tokay2 Windows Server 2012 R2 Standard / x64  OK  OK  OK  OK UNNEEDED, same version exists in internal repository
C
ABCDEFGHIJKLMNOPQRSTUVWXYZ
Package 212/1819HostnameOS / ArchINSTALLBUILDCHECKBUILD BIN
CAFE 1.23.0
Sander Bollen
Last Commit: e06859d
Last Changed Date: 2019-10-29 13:37:18 -0500
malbec2 Linux (Ubuntu 18.04.3 LTS) / x86_64  OK  OK  WARNINGS UNNEEDED, same version exists in internal repository
tokay2 Windows Server 2012 R2 Standard / x64  OK  OK  WARNINGS  OK UNNEEDED, same version exists in internal repository
Package 213/1819HostnameOS / ArchINSTALLBUILDCHECKBUILD BIN
CAGEfightR 1.7.0
Malte Thodberg
Last Commit: 1318c4f
Last Changed Date: 2019-10-29 13:43:09 -0500
malbec2 Linux (Ubuntu 18.04.3 LTS) / x86_64  OK  OK  WARNINGS UNNEEDED, same version exists in internal repository
tokay2 Windows Server 2012 R2 Standard / x64  OK  OK  WARNINGS  OK UNNEEDED, same version exists in internal repository
Package 214/1819HostnameOS / ArchINSTALLBUILDCHECKBUILD BIN
CAGEr 1.29.0
Vanja Haberle , Charles Plessy , Damir Baranasic , Sarvesh Nikumbh
Last Commit: 5aac9e3
Last Changed Date: 2019-10-29 13:36:36 -0500
malbec2 Linux (Ubuntu 18.04.3 LTS) / x86_64  OK  ERROR  skipped 
tokay2 Windows Server 2012 R2 Standard / x64  OK  ERROR  skipped  skipped 
Package 215/1819HostnameOS / ArchINSTALLBUILDCHECKBUILD BIN
CALIB 1.53.1
Hui Zhao
Last Commit: be931e0
Last Changed Date: 2020-01-06 10:54:14 -0500
malbec2 Linux (Ubuntu 18.04.3 LTS) / x86_64  OK  OK  ERROR 
tokay2 Windows Server 2012 R2 Standard / x64  OK  OK  ERROR  OK 
Package 216/1819HostnameOS / ArchINSTALLBUILDCHECKBUILD BIN
calm 1.1.0
Kun Liang
Last Commit: 097b0f5
Last Changed Date: 2019-10-29 13:43:39 -0500
malbec2 Linux (Ubuntu 18.04.3 LTS) / x86_64  OK  OK  OK UNNEEDED, same version exists in internal repository
tokay2 Windows Server 2012 R2 Standard / x64  OK  OK  OK  OK UNNEEDED, same version exists in internal repository
Package 217/1819HostnameOS / ArchINSTALLBUILDCHECKBUILD BIN
CAMERA 1.43.0
Steffen Neumann
Last Commit: c8e1a29
Last Changed Date: 2019-12-02 15:39:44 -0500
malbec2 Linux (Ubuntu 18.04.3 LTS) / x86_64  OK  OK  WARNINGS UNNEEDED, same version exists in internal repository
tokay2 Windows Server 2012 R2 Standard / x64  OK  OK  WARNINGS  OK UNNEEDED, same version exists in internal repository
Package 218/1819HostnameOS / ArchINSTALLBUILDCHECKBUILD BIN
CAMTHC 1.5.0
Lulu Chen
Last Commit: 4e12684
Last Changed Date: 2019-10-29 13:43:14 -0500
malbec2 Linux (Ubuntu 18.04.3 LTS) / x86_64  OK  OK  WARNINGS UNNEEDED, same version exists in internal repository
tokay2 Windows Server 2012 R2 Standard / x64  OK  OK  WARNINGS  OK UNNEEDED, same version exists in internal repository
Package 219/1819HostnameOS / ArchINSTALLBUILDCHECKBUILD BIN
canceR 1.21.0
Karim Mezhoud
Last Commit: be854ec
Last Changed Date: 2019-10-29 13:39:03 -0500
malbec2 Linux (Ubuntu 18.04.3 LTS) / x86_64  OK  OK  OK UNNEEDED, same version exists in internal repository
tokay2 Windows Server 2012 R2 Standard / x64  OK  OK  OK  OK UNNEEDED, same version exists in internal repository
Package 220/1819HostnameOS / ArchINSTALLBUILDCHECKBUILD BIN
cancerclass 1.31.0
Daniel Kosztyla
Last Commit: 5b090b2
Last Changed Date: 2019-10-29 13:36:10 -0500
malbec2 Linux (Ubuntu 18.04.3 LTS) / x86_64  OK  OK  OK UNNEEDED, same version exists in internal repository
tokay2 Windows Server 2012 R2 Standard / x64  OK  OK  OK  OK UNNEEDED, same version exists in internal repository
Package 221/1819HostnameOS / ArchINSTALLBUILDCHECKBUILD BIN
CancerInSilico 2.7.0
Thomas D. Sherman
Last Commit: c5b1f65
Last Changed Date: 2019-10-29 13:42:08 -0500
malbec2 Linux (Ubuntu 18.04.3 LTS) / x86_64  OK  OK  OK UNNEEDED, same version exists in internal repository
tokay2 Windows Server 2012 R2 Standard / x64  OK  OK  OK  OK UNNEEDED, same version exists in internal repository
Package 222/1819HostnameOS / ArchINSTALLBUILDCHECKBUILD BIN
CancerMutationAnalysis 1.29.0
Simina M. Boca
Last Commit: 67aa216
Last Changed Date: 2019-10-29 13:36:08 -0500
malbec2 Linux (Ubuntu 18.04.3 LTS) / x86_64  OK  OK  OK UNNEEDED, same version exists in internal repository
tokay2 Windows Server 2012 R2 Standard / x64  OK  OK  OK  OK UNNEEDED, same version exists in internal repository
Package 223/1819HostnameOS / ArchINSTALLBUILDCHECKBUILD BIN
CancerSubtypes 1.13.0
Taosheng Xu
Last Commit: 14f0906
Last Changed Date: 2019-10-29 13:42:03 -0500
malbec2 Linux (Ubuntu 18.04.3 LTS) / x86_64  OK  OK  OK UNNEEDED, same version exists in internal repository
tokay2 Windows Server 2012 R2 Standard / x64  OK  OK  OK  OK UNNEEDED, same version exists in internal repository
Package 224/1819HostnameOS / ArchINSTALLBUILDCHECKBUILD BIN
CAnD 1.19.0
Caitlin McHugh
Last Commit: 4e52e73
Last Changed Date: 2019-10-29 13:39:22 -0500
malbec2 Linux (Ubuntu 18.04.3 LTS) / x86_64  OK  OK  OK UNNEEDED, same version exists in internal repository
tokay2 Windows Server 2012 R2 Standard / x64  OK  OK  OK  OK UNNEEDED, same version exists in internal repository
Package 225/1819HostnameOS / ArchINSTALLBUILDCHECKBUILD BIN
caOmicsV 1.17.0
Henry Zhang
Last Commit: 3ac2e46
Last Changed Date: 2019-10-29 13:39:29 -0500
malbec2 Linux (Ubuntu 18.04.3 LTS) / x86_64  OK  OK  WARNINGS UNNEEDED, same version exists in internal repository
tokay2 Windows Server 2012 R2 Standard / x64  OK  OK  WARNINGS  OK UNNEEDED, same version exists in internal repository
Package 226/1819HostnameOS / ArchINSTALLBUILDCHECKBUILD BIN
Cardinal 2.5.0
Kylie A. Bemis
Last Commit: 842206d
Last Changed Date: 2019-10-29 13:38:55 -0500
malbec2 Linux (Ubuntu 18.04.3 LTS) / x86_64  OK  OK  OK UNNEEDED, same version exists in internal repository
tokay2 Windows Server 2012 R2 Standard / x64  OK  OK  OK  OK UNNEEDED, same version exists in internal repository
Package 227/1819HostnameOS / ArchINSTALLBUILDCHECKBUILD BIN
casper 2.21.0
David Rossell
Last Commit: 55bdc4a
Last Changed Date: 2019-12-03 07:56:37 -0500
malbec2 Linux (Ubuntu 18.04.3 LTS) / x86_64  OK  OK  OK UNNEEDED, same version exists in internal repository
tokay2 Windows Server 2012 R2 Standard / x64  OK  OK  OK  OK UNNEEDED, same version exists in internal repository
Package 228/1819HostnameOS / ArchINSTALLBUILDCHECKBUILD BIN
CATALYST 1.11.0
Helena L. Crowell
Last Commit: 8898843
Last Changed Date: 2019-10-29 13:42:18 -0500
malbec2 Linux (Ubuntu 18.04.3 LTS) / x86_64  OK  OK  OK UNNEEDED, same version exists in internal repository
tokay2 Windows Server 2012 R2 Standard / x64  OK  OK  OK  OK UNNEEDED, same version exists in internal repository
Package 229/1819HostnameOS / ArchINSTALLBUILDCHECKBUILD BIN
Category 2.53.1
Bioconductor Package Maintainer
Last Commit: 3833865
Last Changed Date: 2019-11-08 12:20:13 -0500
malbec2 Linux (Ubuntu 18.04.3 LTS) / x86_64  OK  OK  OK UNNEEDED, same version exists in internal repository
tokay2 Windows Server 2012 R2 Standard / x64  OK  OK  OK  OK UNNEEDED, same version exists in internal repository
Package 230/1819HostnameOS / ArchINSTALLBUILDCHECKBUILD BIN
categoryCompare 1.31.0
Robert M. Flight
Last Commit: 6d5b336
Last Changed Date: 2019-10-29 13:36:10 -0500
malbec2 Linux (Ubuntu 18.04.3 LTS) / x86_64  OK  OK  OK UNNEEDED, same version exists in internal repository
tokay2 Windows Server 2012 R2 Standard / x64  OK  OK  OK  OK UNNEEDED, same version exists in internal repository
Package 231/1819HostnameOS / ArchINSTALLBUILDCHECKBUILD BIN
CausalR 1.19.0
Glyn Bradley , Steven Barrett
Last Commit: d675489
Last Changed Date: 2019-10-29 13:39:28 -0500
malbec2 Linux (Ubuntu 18.04.3 LTS) / x86_64  OK  OK  OK UNNEEDED, same version exists in internal repository
tokay2 Windows Server 2012 R2 Standard / x64  OK  OK  OK  OK UNNEEDED, same version exists in internal repository
Package 232/1819HostnameOS / ArchINSTALLBUILDCHECKBUILD BIN
cbaf 1.9.1
Arman Shahrisa
Last Commit: 85c7daa
Last Changed Date: 2019-12-31 16:12:04 -0500
malbec2 Linux (Ubuntu 18.04.3 LTS) / x86_64  OK  OK  OK UNNEEDED, same version exists in internal repository
tokay2 Windows Server 2012 R2 Standard / x64  OK  OK  OK  OK UNNEEDED, same version exists in internal repository
Package 233/1819HostnameOS / ArchINSTALLBUILDCHECKBUILD BIN
ccfindR 1.7.0
Jun Woo
Last Commit: 68db2fb
Last Changed Date: 2019-10-29 13:43:07 -0500
malbec2 Linux (Ubuntu 18.04.3 LTS) / x86_64  OK  OK  OK UNNEEDED, same version exists in internal repository
tokay2 Windows Server 2012 R2 Standard / x64  OK  OK  OK  OK UNNEEDED, same version exists in internal repository
Package 234/1819HostnameOS / ArchINSTALLBUILDCHECKBUILD BIN
ccmap 1.13.0
Alex Pickering
Last Commit: 5d6b2cf
Last Changed Date: 2019-10-29 13:41:42 -0500
malbec2 Linux (Ubuntu 18.04.3 LTS) / x86_64  OK  OK  OK UNNEEDED, same version exists in internal repository
tokay2 Windows Server 2012 R2 Standard / x64  OK  OK  OK  OK UNNEEDED, same version exists in internal repository
Package 235/1819HostnameOS / ArchINSTALLBUILDCHECKBUILD BIN
CCPROMISE 1.13.0
Xueyuan Cao
Last Commit: f9ecb5e
Last Changed Date: 2019-10-29 13:42:10 -0500
malbec2 Linux (Ubuntu 18.04.3 LTS) / x86_64  OK  OK  WARNINGS UNNEEDED, same version exists in internal repository
tokay2 Windows Server 2012 R2 Standard / x64  OK  OK  WARNINGS  OK UNNEEDED, same version exists in internal repository
Package 236/1819HostnameOS / ArchINSTALLBUILDCHECKBUILD BIN
ccrepe 1.23.0
Emma Schwager ,Craig Bielski, George Weingart
Last Commit: bb1b9d6
Last Changed Date: 2019-10-29 13:37:15 -0500
malbec2 Linux (Ubuntu 18.04.3 LTS) / x86_64  OK  OK  OK UNNEEDED, same version exists in internal repository
tokay2 Windows Server 2012 R2 Standard / x64  OK  OK  OK  OK UNNEEDED, same version exists in internal repository
Package 237/1819HostnameOS / ArchINSTALLBUILDCHECKBUILD BIN
celaref 1.5.0
Sarah Williams
Last Commit: e5d81d0
Last Changed Date: 2019-10-29 13:43:18 -0500
malbec2 Linux (Ubuntu 18.04.3 LTS) / x86_64  OK  OK  OK UNNEEDED, same version exists in internal repository
tokay2 Windows Server 2012 R2 Standard / x64  OK  OK  OK  OK UNNEEDED, same version exists in internal repository
Package 238/1819HostnameOS / ArchINSTALLBUILDCHECKBUILD BIN
celda 1.3.2
Joshua Campbell
Last Commit: 0bcb90d
Last Changed Date: 2020-01-15 15:16:51 -0500
malbec2 Linux (Ubuntu 18.04.3 LTS) / x86_64  OK  ERROR  skipped 
tokay2 Windows Server 2012 R2 Standard / x64  OK  ERROR  skipped  skipped 
Package 239/1819HostnameOS / ArchINSTALLBUILDCHECKBUILD BIN
cellbaseR 1.11.0
Mohammed OE Abdallah
Last Commit: 69e4670
Last Changed Date: 2019-10-29 13:42:19 -0500
malbec2 Linux (Ubuntu 18.04.3 LTS) / x86_64  OK  OK  OK UNNEEDED, same version exists in internal repository
tokay2 Windows Server 2012 R2 Standard / x64  OK  OK  WARNINGS  OK UNNEEDED, same version exists in internal repository
Package 240/1819HostnameOS / ArchINSTALLBUILDCHECKBUILD BIN
CellBench 1.3.1
Shian Su
Last Commit: 6ce103f
Last Changed Date: 2019-11-19 18:58:27 -0500
malbec2 Linux (Ubuntu 18.04.3 LTS) / x86_64  OK  OK  OK UNNEEDED, same version exists in internal repository
tokay2 Windows Server 2012 R2 Standard / x64  OK  OK  OK  OK UNNEEDED, same version exists in internal repository
Package 241/1819HostnameOS / ArchINSTALLBUILDCHECKBUILD BIN
cellGrowth 1.31.1
Julien Gagneur
Last Commit: 491c203
Last Changed Date: 2020-01-06 10:57:48 -0500
malbec2 Linux (Ubuntu 18.04.3 LTS) / x86_64  ERROR  ERROR  skipped 
tokay2 Windows Server 2012 R2 Standard / x64  ERROR  ERROR  skipped  skipped 
Package 242/1819HostnameOS / ArchINSTALLBUILDCHECKBUILD BIN
cellHTS2 2.51.0
Joseph Barry
Last Commit: b07c55f
Last Changed Date: 2019-10-29 13:34:46 -0500
malbec2 Linux (Ubuntu 18.04.3 LTS) / x86_64  OK  OK  WARNINGS UNNEEDED, same version exists in internal repository
tokay2 Windows Server 2012 R2 Standard / x64  OK  OK  WARNINGS  OK UNNEEDED, same version exists in internal repository
Package 243/1819HostnameOS / ArchINSTALLBUILDCHECKBUILD BIN
cellity 1.15.0
Tomislav Ilicic
Last Commit: dff9cf2
Last Changed Date: 2019-10-29 13:40:29 -0500
malbec2 Linux (Ubuntu 18.04.3 LTS) / x86_64  OK  OK  OK UNNEEDED, same version exists in internal repository
tokay2 Windows Server 2012 R2 Standard / x64  OK  OK  OK  OK UNNEEDED, same version exists in internal repository
Package 244/1819HostnameOS / ArchINSTALLBUILDCHECKBUILD BIN
CellMapper 1.13.0
Brad Nelms
Last Commit: 77b4358
Last Changed Date: 2019-12-18 02:30:57 -0500
malbec2 Linux (Ubuntu 18.04.3 LTS) / x86_64  OK  OK  WARNINGS UNNEEDED, same version exists in internal repository
tokay2 Windows Server 2012 R2 Standard / x64  OK  OK  WARNINGS  OK UNNEEDED, same version exists in internal repository
Package 245/1819HostnameOS / ArchINSTALLBUILDCHECKBUILD BIN
CellMixS 1.3.2
Almut Lütge
Last Commit: b2e4767
Last Changed Date: 2020-01-13 11:19:37 -0500
malbec2 Linux (Ubuntu 18.04.3 LTS) / x86_64  OK  OK  OK UNNEEDED, same version exists in internal repository
tokay2 Windows Server 2012 R2 Standard / x64  OK  OK  OK  OK UNNEEDED, same version exists in internal repository
Package 246/1819HostnameOS / ArchINSTALLBUILDCHECKBUILD BIN
CellNOptR 1.33.0
A.Gabor
Last Commit: b132c03
Last Changed Date: 2019-10-29 13:35:59 -0500
malbec2 Linux (Ubuntu 18.04.3 LTS) / x86_64  OK  OK  WARNINGS UNNEEDED, same version exists in internal repository
tokay2 Windows Server 2012 R2 Standard / x64  OK  OK  WARNINGS  OK UNNEEDED, same version exists in internal repository
Package 247/1819HostnameOS / ArchINSTALLBUILDCHECKBUILD BIN
cellscape 1.11.0
Maia Smith
Last Commit: f09a8fa
Last Changed Date: 2019-10-29 13:42:14 -0500
malbec2 Linux (Ubuntu 18.04.3 LTS) / x86_64  OK  OK  WARNINGS UNNEEDED, same version exists in internal repository
tokay2 Windows Server 2012 R2 Standard / x64  OK  OK  WARNINGS  OK UNNEEDED, same version exists in internal repository
Package 248/1819HostnameOS / ArchINSTALLBUILDCHECKBUILD BIN
CellScore 1.7.0
Nancy Mah
Last Commit: a2103be
Last Changed Date: 2019-10-29 13:42:41 -0500
malbec2 Linux (Ubuntu 18.04.3 LTS) / x86_64  OK  OK  OK UNNEEDED, same version exists in internal repository
tokay2 Windows Server 2012 R2 Standard / x64  OK  OK  OK  OK UNNEEDED, same version exists in internal repository
Package 249/1819HostnameOS / ArchINSTALLBUILDCHECKBUILD BIN
CellTrails 1.5.0
Daniel Ellwanger
Last Commit: 92ef7e2
Last Changed Date: 2019-10-29 13:43:15 -0500
malbec2 Linux (Ubuntu 18.04.3 LTS) / x86_64  OK  OK  WARNINGS UNNEEDED, same version exists in internal repository
tokay2 Windows Server 2012 R2 Standard / x64  OK  OK  WARNINGS  OK UNNEEDED, same version exists in internal repository
Package 250/1819HostnameOS / ArchINSTALLBUILDCHECKBUILD BIN
cellTree 1.17.0
David duVerle
Last Commit: c19e942
Last Changed Date: 2019-10-29 13:40:19 -0500
malbec2 Linux (Ubuntu 18.04.3 LTS) / x86_64  OK  OK  OK UNNEEDED, same version exists in internal repository
tokay2 Windows Server 2012 R2 Standard / x64  OK  OK  WARNINGS  OK UNNEEDED, same version exists in internal repository
Package 251/1819HostnameOS / ArchINSTALLBUILDCHECKBUILD BIN
CEMiTool 1.11.1
Helder Nakaya
Last Commit: 95434d7
Last Changed Date: 2019-12-17 19:19:11 -0500
malbec2 Linux (Ubuntu 18.04.3 LTS) / x86_64  OK  OK  OK UNNEEDED, same version exists in internal repository
tokay2 Windows Server 2012 R2 Standard / x64  OK  OK  OK  OK UNNEEDED, same version exists in internal repository
Package 252/1819HostnameOS / ArchINSTALLBUILDCHECKBUILD BIN
ceRNAnetsim 0.99.24
Selcen Ari Yuka
Last Commit: e391044
Last Changed Date: 2019-11-26 14:10:57 -0500
malbec2 Linux (Ubuntu 18.04.3 LTS) / x86_64  OK  OK  OK UNNEEDED, same version exists in internal repository
tokay2 Windows Server 2012 R2 Standard / x64  OK  OK  OK  OK UNNEEDED, same version exists in internal repository
Package 253/1819HostnameOS / ArchINSTALLBUILDCHECKBUILD BIN
CeTF 0.99.12
Carlos Alberto Oliveira de Biagi Junior
Last Commit: f5602df
Last Changed Date: 2020-01-07 12:36:36 -0500
malbec2 Linux (Ubuntu 18.04.3 LTS) / x86_64  OK  OK  OK UNNEEDED, same version exists in internal repository
tokay2 Windows Server 2012 R2 Standard / x64  OK  OK  OK  OK UNNEEDED, same version exists in internal repository
Package 254/1819HostnameOS / ArchINSTALLBUILDCHECKBUILD BIN
CexoR 1.25.0
Pedro Madrigal
Last Commit: c7a5bad
Last Changed Date: 2019-10-29 13:37:05 -0500
malbec2 Linux (Ubuntu 18.04.3 LTS) / x86_64  OK  OK  OK UNNEEDED, same version exists in internal repository
tokay2 Windows Server 2012 R2 Standard / x64  OK  OK  OK  OK UNNEEDED, same version exists in internal repository
Package 255/1819HostnameOS / ArchINSTALLBUILDCHECKBUILD BIN
CFAssay 1.21.1
Herbert Braselmann
Last Commit: 13f9291
Last Changed Date: 2019-11-18 05:25:21 -0500
malbec2 Linux (Ubuntu 18.04.3 LTS) / x86_64  OK  OK  OK UNNEEDED, same version exists in internal repository
tokay2 Windows Server 2012 R2 Standard / x64  OK  OK  OK  OK UNNEEDED, same version exists in internal repository
Package 256/1819HostnameOS / ArchINSTALLBUILDCHECKBUILD BIN
CGEN 3.23.0
William Wheeler
Last Commit: bad40a5
Last Changed Date: 2019-10-29 13:35:18 -0500
malbec2 Linux (Ubuntu 18.04.3 LTS) / x86_64  OK  OK  OK UNNEEDED, same version exists in internal repository
tokay2 Windows Server 2012 R2 Standard / x64  OK  OK  OK  OK UNNEEDED, same version exists in internal repository
Package 257/1819HostnameOS / ArchINSTALLBUILDCHECKBUILD BIN
CGHbase 1.47.0
Mark van de Wiel
Last Commit: 1e69898
Last Changed Date: 2019-10-29 13:34:49 -0500
malbec2 Linux (Ubuntu 18.04.3 LTS) / x86_64  OK  OK  OK UNNEEDED, same version exists in internal repository
tokay2 Windows Server 2012 R2 Standard / x64  OK  OK  WARNINGS  OK UNNEEDED, same version exists in internal repository
Package 258/1819HostnameOS / ArchINSTALLBUILDCHECKBUILD BIN
CGHcall 2.49.0
Mark van de Wiel
Last Commit: d2a8c38
Last Changed Date: 2019-10-29 13:34:46 -0500
malbec2 Linux (Ubuntu 18.04.3 LTS) / x86_64  OK  OK  OK UNNEEDED, same version exists in internal repository
tokay2 Windows Server 2012 R2 Standard / x64  OK  OK  OK  OK UNNEEDED, same version exists in internal repository
Package 259/1819HostnameOS / ArchINSTALLBUILDCHECKBUILD BIN
cghMCR 1.45.0
J. Zhang
Last Commit: b5c6af8
Last Changed Date: 2019-10-29 13:34:42 -0500
malbec2 Linux (Ubuntu 18.04.3 LTS) / x86_64  OK  OK  WARNINGS UNNEEDED, same version exists in internal repository
tokay2 Windows Server 2012 R2 Standard / x64  OK  OK  WARNINGS  OK UNNEEDED, same version exists in internal repository
Package 260/1819HostnameOS / ArchINSTALLBUILDCHECKBUILD BIN
CGHnormaliter 1.41.0
Bart P.P. van Houte
Last Commit: 3c8ea01
Last Changed Date: 2019-10-29 13:35:08 -0500
malbec2 Linux (Ubuntu 18.04.3 LTS) / x86_64  OK  OK  OK UNNEEDED, same version exists in internal repository
tokay2 Windows Server 2012 R2 Standard / x64  OK  OK  OK  OK UNNEEDED, same version exists in internal repository
Package 261/1819HostnameOS / ArchINSTALLBUILDCHECKBUILD BIN
CGHregions 1.45.0
Sjoerd Vosse
Last Commit: f8770a7
Last Changed Date: 2019-10-29 13:34:49 -0500
malbec2 Linux (Ubuntu 18.04.3 LTS) / x86_64  OK  OK  OK UNNEEDED, same version exists in internal repository
tokay2 Windows Server 2012 R2 Standard / x64  OK  OK  OK  OK UNNEEDED, same version exists in internal repository
Package 262/1819HostnameOS / ArchINSTALLBUILDCHECKBUILD BIN
ChAMP 2.17.1
Yuan Tian
Last Commit: 59a71e7
Last Changed Date: 2019-12-15 19:04:42 -0500
malbec2 Linux (Ubuntu 18.04.3 LTS) / x86_64  OK  OK  WARNINGS UNNEEDED, same version exists in internal repository
tokay2 Windows Server 2012 R2 Standard / x64  OK  OK  WARNINGS  OK UNNEEDED, same version exists in internal repository
Package 263/1819HostnameOS / ArchINSTALLBUILDCHECKBUILD BIN
CHARGE 1.7.0
Benjamin Mayne
Last Commit: aca64ab
Last Changed Date: 2019-10-29 13:42:38 -0500
malbec2 Linux (Ubuntu 18.04.3 LTS) / x86_64  OK  OK  OK UNNEEDED, same version exists in internal repository
tokay2 Windows Server 2012 R2 Standard / x64  OK  OK  OK  OK UNNEEDED, same version exists in internal repository
Package 264/1819HostnameOS / ArchINSTALLBUILDCHECKBUILD BIN
ChemmineOB 1.25.0
Thomas Girke
Last Commit: 350573b
Last Changed Date: 2019-10-29 13:36:56 -0500
malbec2 Linux (Ubuntu 18.04.3 LTS) / x86_64  OK  OK  WARNINGS UNNEEDED, same version exists in internal repository
tokay2 Windows Server 2012 R2 Standard / x64  OK  OK  OK  OK UNNEEDED, same version exists in internal repository
Package 265/1819HostnameOS / ArchINSTALLBUILDCHECKBUILD BIN
ChemmineR 3.39.0
Thomas Girke
Last Commit: 2358785
Last Changed Date: 2019-10-29 13:34:51 -0500
malbec2 Linux (Ubuntu 18.04.3 LTS) / x86_64  OK  OK  ERROR 
tokay2 Windows Server 2012 R2 Standard / x64  OK  OK  OK  OK UNNEEDED, same version exists in internal repository
Package 266/1819HostnameOS / ArchINSTALLBUILDCHECKBUILD BIN
CHETAH 1.3.0
Jurrian de Kanter
Last Commit: b2aa5c9
Last Changed Date: 2019-10-29 13:43:31 -0500
malbec2 Linux (Ubuntu 18.04.3 LTS) / x86_64  OK  OK  OK UNNEEDED, same version exists in internal repository
tokay2 Windows Server 2012 R2 Standard / x64  OK  OK  OK  OK UNNEEDED, same version exists in internal repository
Package 267/1819HostnameOS / ArchINSTALLBUILDCHECKBUILD BIN
ChIC 1.7.0
Carmen Maria Livi
Last Commit: 198406e
Last Changed Date: 2019-10-29 13:43:04 -0500
malbec2 Linux (Ubuntu 18.04.3 LTS) / x86_64  OK  OK  OK UNNEEDED, same version exists in internal repository
tokay2 Windows Server 2012 R2 Standard / x64 ...NOT SUPPORTED...
Package 268/1819HostnameOS / ArchINSTALLBUILDCHECKBUILD BIN
Chicago 1.15.0
Mikhail Spivakov
Last Commit: 9928892
Last Changed Date: 2019-12-18 02:32:11 -0500
malbec2 Linux (Ubuntu 18.04.3 LTS) / x86_64  OK  OK  OK UNNEEDED, same version exists in internal repository
tokay2 Windows Server 2012 R2 Standard / x64  OK  OK  OK  OK UNNEEDED, same version exists in internal repository
Package 269/1819HostnameOS / ArchINSTALLBUILDCHECKBUILD BIN
chimera 1.29.0
Raffaele A Calogero
Last Commit: 2c59537
Last Changed Date: 2019-10-29 13:36:37 -0500
malbec2 Linux (Ubuntu 18.04.3 LTS) / x86_64  OK  OK  OK UNNEEDED, same version exists in internal repository
tokay2 Windows Server 2012 R2 Standard / x64  OK  ERROR  skipped  skipped 
Package 270/1819HostnameOS / ArchINSTALLBUILDCHECKBUILD BIN
chimeraviz 1.13.0
Stian Lågstad
Last Commit: 0899406
Last Changed Date: 2019-12-09 13:44:29 -0500
malbec2 Linux (Ubuntu 18.04.3 LTS) / x86_64  OK  OK  OK UNNEEDED, same version exists in internal repository
tokay2 Windows Server 2012 R2 Standard / x64  OK  OK  OK  OK UNNEEDED, same version exists in internal repository
Package 271/1819HostnameOS / ArchINSTALLBUILDCHECKBUILD BIN
ChIPanalyser 1.9.1
Patrick C.N. Martin
Last Commit: 432ad12
Last Changed Date: 2019-11-12 10:39:50 -0500
malbec2 Linux (Ubuntu 18.04.3 LTS) / x86_64  OK  OK  OK UNNEEDED, same version exists in internal repository
tokay2 Windows Server 2012 R2 Standard / x64  OK  OK  WARNINGS  OK UNNEEDED, same version exists in internal repository
Package 272/1819HostnameOS / ArchINSTALLBUILDCHECKBUILD BIN
ChIPComp 1.17.0
Li Chen
Last Commit: 22a0bd8
Last Changed Date: 2019-10-29 13:39:47 -0500
malbec2 Linux (Ubuntu 18.04.3 LTS) / x86_64  OK  OK  OK UNNEEDED, same version exists in internal repository
tokay2 Windows Server 2012 R2 Standard / x64  OK  OK  OK  OK UNNEEDED, same version exists in internal repository
Package 273/1819HostnameOS / ArchINSTALLBUILDCHECKBUILD BIN
chipenrich 2.11.0
Raymond G. Cavalcante
Last Commit: 6514534
Last Changed Date: 2019-10-30 08:09:58 -0500
malbec2 Linux (Ubuntu 18.04.3 LTS) / x86_64  OK  OK  OK UNNEEDED, same version exists in internal repository
tokay2 Windows Server 2012 R2 Standard / x64  OK  OK  OK  OK UNNEEDED, same version exists in internal repository
Package 274/1819HostnameOS / ArchINSTALLBUILDCHECKBUILD BIN
ChIPexoQual 1.11.0
Rene Welch
Last Commit: 3e5c8cd
Last Changed Date: 2019-10-29 13:42:13 -0500
malbec2 Linux (Ubuntu 18.04.3 LTS) / x86_64  OK  OK  OK UNNEEDED, same version exists in internal repository
tokay2 Windows Server 2012 R2 Standard / x64  OK  OK  OK  OK UNNEEDED, same version exists in internal repository
Package 275/1819HostnameOS / ArchINSTALLBUILDCHECKBUILD BIN
ChIPpeakAnno 3.21.2
Lihua Julie Zhu
Last Commit: 78fb465
Last Changed Date: 2019-12-13 11:00:48 -0500
malbec2 Linux (Ubuntu 18.04.3 LTS) / x86_64  OK  OK  OK UNNEEDED, same version exists in internal repository
tokay2 Windows Server 2012 R2 Standard / x64  OK  OK  WARNINGS  OK UNNEEDED, same version exists in internal repository
Package 276/1819HostnameOS / ArchINSTALLBUILDCHECKBUILD BIN
ChIPQC 1.23.0
Tom Carroll , Rory Stark
Last Commit: 3a5768c
Last Changed Date: 2019-10-29 13:37:21 -0500
malbec2 Linux (Ubuntu 18.04.3 LTS) / x86_64  OK  OK  WARNINGS UNNEEDED, same version exists in internal repository
tokay2 Windows Server 2012 R2 Standard / x64  OK  OK  WARNINGS  OK UNNEEDED, same version exists in internal repository
Package 277/1819HostnameOS / ArchINSTALLBUILDCHECKBUILD BIN
ChIPseeker 1.23.0
Guangchuang Yu
Last Commit: 7ba2e5b
Last Changed Date: 2019-10-29 13:37:31 -0500
malbec2 Linux (Ubuntu 18.04.3 LTS) / x86_64  OK  OK  OK UNNEEDED, same version exists in internal repository
tokay2 Windows Server 2012 R2 Standard / x64  OK  OK  WARNINGS  OK UNNEEDED, same version exists in internal repository
Package 278/1819HostnameOS / ArchINSTALLBUILDCHECKBUILD BIN
chipseq 1.37.0
Bioconductor Package Maintainer
Last Commit: 5774adf
Last Changed Date: 2019-10-29 13:35:00 -0500
malbec2 Linux (Ubuntu 18.04.3 LTS) / x86_64  OK  OK  WARNINGS UNNEEDED, same version exists in internal repository
tokay2 Windows Server 2012 R2 Standard / x64  OK  OK  WARNINGS  OK UNNEEDED, same version exists in internal repository
Package 279/1819HostnameOS / ArchINSTALLBUILDCHECKBUILD BIN
ChIPseqR 1.41.0
Peter Humburg
Last Commit: 97e9181
Last Changed Date: 2019-10-29 13:35:09 -0500
malbec2 Linux (Ubuntu 18.04.3 LTS) / x86_64  OK  OK  WARNINGS UNNEEDED, same version exists in internal repository
tokay2 Windows Server 2012 R2 Standard / x64  OK  OK  WARNINGS  OK UNNEEDED, same version exists in internal repository
Package 280/1819HostnameOS / ArchINSTALLBUILDCHECKBUILD BIN
ChIPSeqSpike 1.7.0
Nicolas Descostes
Last Commit: 587d13e
Last Changed Date: 2019-10-29 13:42:40 -0500
malbec2 Linux (Ubuntu 18.04.3 LTS) / x86_64  OK  OK  OK UNNEEDED, same version exists in internal repository
tokay2 Windows Server 2012 R2 Standard / x64  OK  ERROR  skipped  skipped 
Package 281/1819HostnameOS / ArchINSTALLBUILDCHECKBUILD BIN
ChIPsim 1.41.0
Peter Humburg
Last Commit: c3eb2a8
Last Changed Date: 2019-10-29 13:35:05 -0500
malbec2 Linux (Ubuntu 18.04.3 LTS) / x86_64  OK  OK  OK UNNEEDED, same version exists in internal repository
tokay2 Windows Server 2012 R2 Standard / x64  OK  OK  OK  OK UNNEEDED, same version exists in internal repository
Package 282/1819HostnameOS / ArchINSTALLBUILDCHECKBUILD BIN
ChIPXpress 1.31.0
George Wu
Last Commit: c810887
Last Changed Date: 2019-10-29 13:36:20 -0500
malbec2 Linux (Ubuntu 18.04.3 LTS) / x86_64  OK  OK  OK UNNEEDED, same version exists in internal repository
tokay2 Windows Server 2012 R2 Standard / x64 ...NOT SUPPORTED...
Package 283/1819HostnameOS / ArchINSTALLBUILDCHECKBUILD BIN
chopsticks 1.53.0
Hin-Tak Leung
Last Commit: 5c64972
Last Changed Date: 2019-10-29 13:35:22 -0500
malbec2 Linux (Ubuntu 18.04.3 LTS) / x86_64  OK  OK  WARNINGS UNNEEDED, same version exists in internal repository
tokay2 Windows Server 2012 R2 Standard / x64  OK  OK  WARNINGS  OK UNNEEDED, same version exists in internal repository
Package 284/1819HostnameOS / ArchINSTALLBUILDCHECKBUILD BIN
chroGPS 2.5.1
Oscar Reina
Last Commit: 3676e89
Last Changed Date: 2020-01-06 11:13:51 -0500
malbec2 Linux (Ubuntu 18.04.3 LTS) / x86_64  ERROR  ERROR  skipped 
tokay2 Windows Server 2012 R2 Standard / x64  ERROR  ERROR  skipped  skipped 
Package 285/1819HostnameOS / ArchINSTALLBUILDCHECKBUILD BIN
chromDraw 2.17.0
Jan Janecka
Last Commit: e690d0b
Last Changed Date: 2019-10-29 13:38:44 -0500
malbec2 Linux (Ubuntu 18.04.3 LTS) / x86_64  OK  OK  WARNINGS UNNEEDED, same version exists in internal repository
tokay2 Windows Server 2012 R2 Standard / x64  OK  OK  WARNINGS  OK UNNEEDED, same version exists in internal repository
Package 286/1819HostnameOS / ArchINSTALLBUILDCHECKBUILD BIN
ChromHeatMap 1.41.0
Tim F. Rayner
Last Commit: 9ba419f
Last Changed Date: 2019-10-29 13:35:09 -0500
malbec2 Linux (Ubuntu 18.04.3 LTS) / x86_64  OK  OK  OK UNNEEDED, same version exists in internal repository
tokay2 Windows Server 2012 R2 Standard / x64  OK  OK  OK  OK UNNEEDED, same version exists in internal repository
Package 287/1819HostnameOS / ArchINSTALLBUILDCHECKBUILD BIN
chromPlot 1.15.0
Karen Y. Orostica
Last Commit: d2c3a2c
Last Changed Date: 2019-10-29 13:40:29 -0500
malbec2 Linux (Ubuntu 18.04.3 LTS) / x86_64  OK  OK  OK UNNEEDED, same version exists in internal repository
tokay2 Windows Server 2012 R2 Standard / x64  OK  OK  WARNINGS  OK UNNEEDED, same version exists in internal repository
Package 288/1819HostnameOS / ArchINSTALLBUILDCHECKBUILD BIN
chromstaR 1.13.0
Aaron Taudt
Last Commit: 7265b82
Last Changed Date: 2019-10-29 13:41:41 -0500
malbec2 Linux (Ubuntu 18.04.3 LTS) / x86_64  OK  OK  OK UNNEEDED, same version exists in internal repository
tokay2 Windows Server 2012 R2 Standard / x64  OK  OK  OK  OK UNNEEDED, same version exists in internal repository
Package 289/1819HostnameOS / ArchINSTALLBUILDCHECKBUILD BIN
chromswitch 1.9.0
Selin Jessa
Last Commit: 1276ce8
Last Changed Date: 2019-10-29 13:42:34 -0500
malbec2 Linux (Ubuntu 18.04.3 LTS) / x86_64  OK  OK  OK UNNEEDED, same version exists in internal repository
tokay2 Windows Server 2012 R2 Standard / x64  OK  OK  OK  OK UNNEEDED, same version exists in internal repository
Package 290/1819HostnameOS / ArchINSTALLBUILDCHECKBUILD BIN
chromVAR 1.9.0
Alicia Schep
Last Commit: 0a01062
Last Changed Date: 2019-10-29 13:42:30 -0500
malbec2 Linux (Ubuntu 18.04.3 LTS) / x86_64  OK  OK  OK UNNEEDED, same version exists in internal repository
tokay2 Windows Server 2012 R2 Standard / x64  OK  OK  WARNINGS  OK UNNEEDED, same version exists in internal repository
Package 291/1819HostnameOS / ArchINSTALLBUILDCHECKBUILD BIN
CHRONOS 1.15.0
Panos Balomenos
Last Commit: a128a4c
Last Changed Date: 2019-10-29 13:41:14 -0500
malbec2 Linux (Ubuntu 18.04.3 LTS) / x86_64  OK  OK  OK UNNEEDED, same version exists in internal repository
tokay2 Windows Server 2012 R2 Standard / x64  OK  OK  OK  OK UNNEEDED, same version exists in internal repository
Package 292/1819HostnameOS / ArchINSTALLBUILDCHECKBUILD BIN
cicero 1.5.1
Hannah Pliner
Last Commit: 915d16b
Last Changed Date: 2019-12-16 11:32:41 -0500
malbec2 Linux (Ubuntu 18.04.3 LTS) / x86_64  OK  OK  OK UNNEEDED, same version exists in internal repository
tokay2 Windows Server 2012 R2 Standard / x64  OK  OK  OK  OK UNNEEDED, same version exists in internal repository
Package 293/1819HostnameOS / ArchINSTALLBUILDCHECKBUILD BIN
CINdex 1.15.0
Yuriy Gusev
Last Commit: 7d373fa
Last Changed Date: 2019-10-29 13:40:50 -0500
malbec2 Linux (Ubuntu 18.04.3 LTS) / x86_64  OK  OK  OK UNNEEDED, same version exists in internal repository
tokay2 Windows Server 2012 R2 Standard / x64  OK  OK  WARNINGS  OK UNNEEDED, same version exists in internal repository
Package 294/1819HostnameOS / ArchINSTALLBUILDCHECKBUILD BIN
circRNAprofiler 1.1.0
Simona Aufiero
Last Commit: 1c0450a
Last Changed Date: 2019-10-29 13:43:37 -0500
malbec2 Linux (Ubuntu 18.04.3 LTS) / x86_64  OK  OK  OK UNNEEDED, same version exists in internal repository
tokay2 Windows Server 2012 R2 Standard / x64  OK  OK  OK  OK UNNEEDED, same version exists in internal repository
Package 295/1819HostnameOS / ArchINSTALLBUILDCHECKBUILD BIN
cisPath 1.27.0
Likun Wang
Last Commit: 6208e50
Last Changed Date: 2019-10-29 13:36:35 -0500
malbec2 Linux (Ubuntu 18.04.3 LTS) / x86_64  OK  OK  OK UNNEEDED, same version exists in internal repository
tokay2 Windows Server 2012 R2 Standard / x64  OK  OK  OK  OK UNNEEDED, same version exists in internal repository
Package 296/1819HostnameOS / ArchINSTALLBUILDCHECKBUILD BIN
ClassifyR 2.7.0
Dario Strbenac
Last Commit: eb469fb
Last Changed Date: 2019-10-29 13:37:50 -0500
malbec2 Linux (Ubuntu 18.04.3 LTS) / x86_64  OK  OK  OK UNNEEDED, same version exists in internal repository
tokay2 Windows Server 2012 R2 Standard / x64  OK  OK  ERROR  OK 
Package 297/1819HostnameOS / ArchINSTALLBUILDCHECKBUILD BIN
cleanUpdTSeq 1.25.0
Jianhong Ou ; Lihua Julie Zhu
Last Commit: 74fef5e
Last Changed Date: 2019-10-29 13:36:52 -0500
malbec2 Linux (Ubuntu 18.04.3 LTS) / x86_64  OK  OK  OK UNNEEDED, same version exists in internal repository
tokay2 Windows Server 2012 R2 Standard / x64  OK  OK  OK  OK UNNEEDED, same version exists in internal repository
Package 298/1819HostnameOS / ArchINSTALLBUILDCHECKBUILD BIN
cleaver 1.25.1
Sebastian Gibb
Last Commit: 44e30ed
Last Changed Date: 2019-12-31 08:07:31 -0500
malbec2 Linux (Ubuntu 18.04.3 LTS) / x86_64  OK  OK  OK UNNEEDED, same version exists in internal repository
tokay2 Windows Server 2012 R2 Standard / x64  OK  ERROR  skipped  skipped 
Package 299/1819HostnameOS / ArchINSTALLBUILDCHECKBUILD BIN
clippda 1.37.0
Stephen Nyangoma
Last Commit: 0a72ad7
Last Changed Date: 2019-10-29 13:35:06 -0500
malbec2 Linux (Ubuntu 18.04.3 LTS) / x86_64  OK  OK  WARNINGS UNNEEDED, same version exists in internal repository
tokay2 Windows Server 2012 R2 Standard / x64  OK  OK  WARNINGS  OK UNNEEDED, same version exists in internal repository
Package 300/1819HostnameOS / ArchINSTALLBUILDCHECKBUILD BIN
clipper 1.27.0
Paolo Martini
Last Commit: e2f3341
Last Changed Date: 2019-10-29 13:36:30 -0500
malbec2 Linux (Ubuntu 18.04.3 LTS) / x86_64  OK  OK  OK UNNEEDED, same version exists in internal repository
tokay2 Windows Server 2012 R2 Standard / x64  OK  OK  OK  OK UNNEEDED, same version exists in internal repository
Package 301/1819HostnameOS / ArchINSTALLBUILDCHECKBUILD BIN
cliqueMS 1.1.1
Oriol Senan Campos
Last Commit: 9368dc6
Last Changed Date: 2019-11-12 12:48:21 -0500
malbec2 Linux (Ubuntu 18.04.3 LTS) / x86_64  OK  OK  OK UNNEEDED, same version exists in internal repository
tokay2 Windows Server 2012 R2 Standard / x64  OK  OK  OK  OK UNNEEDED, same version exists in internal repository
Package 302/1819HostnameOS / ArchINSTALLBUILDCHECKBUILD BIN
Clomial 1.23.0
Habil Zare
Last Commit: 0491d56
Last Changed Date: 2019-10-29 13:37:18 -0500
malbec2 Linux (Ubuntu 18.04.3 LTS) / x86_64  OK  OK  OK UNNEEDED, same version exists in internal repository
tokay2 Windows Server 2012 R2 Standard / x64  OK  OK  OK  OK UNNEEDED, same version exists in internal repository
Package 303/1819HostnameOS / ArchINSTALLBUILDCHECKBUILD BIN
Clonality 1.35.0
Irina Ostrovnaya
Last Commit: 7cb5ab4
Last Changed Date: 2019-10-29 13:35:21 -0500
malbec2 Linux (Ubuntu 18.04.3 LTS) / x86_64  OK  OK  OK UNNEEDED, same version exists in internal repository
tokay2 Windows Server 2012 R2 Standard / x64  OK  OK  OK  OK UNNEEDED, same version exists in internal repository
Package 304/1819HostnameOS / ArchINSTALLBUILDCHECKBUILD BIN
clonotypeR 1.25.0
Charles Plessy
Last Commit: ddae939
Last Changed Date: 2019-10-29 13:36:51 -0500
malbec2 Linux (Ubuntu 18.04.3 LTS) / x86_64  OK  OK  OK UNNEEDED, same version exists in internal repository
tokay2 Windows Server 2012 R2 Standard / x64  OK  OK  OK  OK UNNEEDED, same version exists in internal repository
Package 305/1819HostnameOS / ArchINSTALLBUILDCHECKBUILD BIN
clst 1.35.0
Noah Hoffman
Last Commit: a398b10
Last Changed Date: 2019-12-23 18:29:37 -0500
malbec2 Linux (Ubuntu 18.04.3 LTS) / x86_64  OK  OK  WARNINGS UNNEEDED, same version exists in internal repository
tokay2 Windows Server 2012 R2 Standard / x64  OK  OK  WARNINGS  OK UNNEEDED, same version exists in internal repository
Package 306/1819HostnameOS / ArchINSTALLBUILDCHECKBUILD BIN
clstutils 1.35.0
Noah Hoffman
Last Commit: eda59ae
Last Changed Date: 2019-12-23 18:30:42 -0500
malbec2 Linux (Ubuntu 18.04.3 LTS) / x86_64  OK  OK  WARNINGS UNNEEDED, same version exists in internal repository
tokay2 Windows Server 2012 R2 Standard / x64  OK  OK  WARNINGS  OK UNNEEDED, same version exists in internal repository
Package 307/1819HostnameOS / ArchINSTALLBUILDCHECKBUILD BIN
CluMSID 1.3.0
Tobias Depke
Last Commit: aec22b6
Last Changed Date: 2019-10-29 13:43:25 -0500
malbec2 Linux (Ubuntu 18.04.3 LTS) / x86_64  OK  OK  OK UNNEEDED, same version exists in internal repository
tokay2 Windows Server 2012 R2 Standard / x64  OK  OK  OK  OK UNNEEDED, same version exists in internal repository
Package 308/1819HostnameOS / ArchINSTALLBUILDCHECKBUILD BIN
clustComp 1.15.0
Aurora Torrente
Last Commit: 2184987
Last Changed Date: 2019-10-29 13:40:27 -0500
malbec2 Linux (Ubuntu 18.04.3 LTS) / x86_64  OK  OK  OK UNNEEDED, same version exists in internal repository
tokay2 Windows Server 2012 R2 Standard / x64  OK  OK  OK  OK UNNEEDED, same version exists in internal repository
Package 309/1819HostnameOS / ArchINSTALLBUILDCHECKBUILD BIN
clusterExperiment 2.7.0
Elizabeth Purdom
Last Commit: 59568a4
Last Changed Date: 2019-10-29 13:41:48 -0500
malbec2 Linux (Ubuntu 18.04.3 LTS) / x86_64  OK  OK  WARNINGS UNNEEDED, same version exists in internal repository
tokay2 Windows Server 2012 R2 Standard / x64  OK  OK  WARNINGS  OK UNNEEDED, same version exists in internal repository
Package 310/1819HostnameOS / ArchINSTALLBUILDCHECKBUILD BIN
ClusterJudge 1.9.0
Adrian Pasculescu
Last Commit: a18284b
Last Changed Date: 2019-10-29 13:42:21 -0500
malbec2 Linux (Ubuntu 18.04.3 LTS) / x86_64  OK  OK  OK UNNEEDED, same version exists in internal repository
tokay2 Windows Server 2012 R2 Standard / x64  OK  OK  OK  OK UNNEEDED, same version exists in internal repository
Package 311/1819HostnameOS / ArchINSTALLBUILDCHECKBUILD BIN
clusterProfiler 3.15.2
Guangchuang Yu
Last Commit: 3fccb30
Last Changed Date: 2020-01-14 03:09:58 -0500
malbec2 Linux (Ubuntu 18.04.3 LTS) / x86_64  ERROR  ERROR  skipped 
tokay2 Windows Server 2012 R2 Standard / x64  ERROR  ERROR  skipped  skipped 
Package 312/1819HostnameOS / ArchINSTALLBUILDCHECKBUILD BIN
clusterSeq 1.11.0
Thomas J. Hardcastle
Last Commit: 14643f9
Last Changed Date: 2019-10-29 13:42:12 -0500
malbec2 Linux (Ubuntu 18.04.3 LTS) / x86_64  OK  OK  OK UNNEEDED, same version exists in internal repository
tokay2 Windows Server 2012 R2 Standard / x64  OK  OK  WARNINGS  OK UNNEEDED, same version exists in internal repository
Package 313/1819HostnameOS / ArchINSTALLBUILDCHECKBUILD BIN
ClusterSignificance 1.15.0
Jason T Serviss
Last Commit: af0a539
Last Changed Date: 2019-10-29 13:41:01 -0500
malbec2 Linux (Ubuntu 18.04.3 LTS) / x86_64  OK  OK  OK UNNEEDED, same version exists in internal repository
tokay2 Windows Server 2012 R2 Standard / x64  OK  OK  OK  OK UNNEEDED, same version exists in internal repository
Package 314/1819HostnameOS / ArchINSTALLBUILDCHECKBUILD BIN
clusterStab 1.59.0
James W. MacDonald
Last Commit: 9b6f73a
Last Changed Date: 2019-10-29 13:34:39 -0500
malbec2 Linux (Ubuntu 18.04.3 LTS) / x86_64  OK  OK  OK UNNEEDED, same version exists in internal repository
tokay2 Windows Server 2012 R2 Standard / x64  OK  OK  OK  OK UNNEEDED, same version exists in internal repository
Package 315/1819HostnameOS / ArchINSTALLBUILDCHECKBUILD BIN
CMA 1.45.0
Roman Hornung
Last Commit: 24c485a
Last Changed Date: 2019-10-29 13:34:49 -0500
malbec2 Linux (Ubuntu 18.04.3 LTS) / x86_64  OK  OK  OK UNNEEDED, same version exists in internal repository
tokay2 Windows Server 2012 R2 Standard / x64  OK  OK  OK  OK UNNEEDED, same version exists in internal repository
Package 316/1819HostnameOS / ArchINSTALLBUILDCHECKBUILD BIN
cn.farms 1.35.0
Andreas Mitterecker
Last Commit: ce238cc
Last Changed Date: 2019-10-29 13:35:25 -0500
malbec2 Linux (Ubuntu 18.04.3 LTS) / x86_64  OK  OK  OK UNNEEDED, same version exists in internal repository
tokay2 Windows Server 2012 R2 Standard / x64  OK  OK  WARNINGS  OK UNNEEDED, same version exists in internal repository
Package 317/1819HostnameOS / ArchINSTALLBUILDCHECKBUILD BIN
cn.mops 1.33.0
Guenter Klambauer
Last Commit: 3e791be
Last Changed Date: 2019-10-29 13:36:01 -0500
malbec2 Linux (Ubuntu 18.04.3 LTS) / x86_64  OK  OK  OK UNNEEDED, same version exists in internal repository
tokay2 Windows Server 2012 R2 Standard / x64  OK  OK  OK  OK UNNEEDED, same version exists in internal repository
Package 318/1819HostnameOS / ArchINSTALLBUILDCHECKBUILD BIN
CNAnorm 1.33.0
Stefano Berri
Last Commit: ebfe689
Last Changed Date: 2019-10-29 13:35:55 -0500
malbec2 Linux (Ubuntu 18.04.3 LTS) / x86_64  OK  OK  OK UNNEEDED, same version exists in internal repository
tokay2 Windows Server 2012 R2 Standard / x64  OK  OK  OK  OK UNNEEDED, same version exists in internal repository
Package 319/1819HostnameOS / ArchINSTALLBUILDCHECKBUILD BIN
CNEr 1.23.0
Ge Tan
Last Commit: eddb3c5
Last Changed Date: 2019-10-29 13:37:17 -0500
malbec2 Linux (Ubuntu 18.04.3 LTS) / x86_64  OK  OK  WARNINGS UNNEEDED, same version exists in internal repository
tokay2 Windows Server 2012 R2 Standard / x64  OK  OK  WARNINGS  OK UNNEEDED, same version exists in internal repository
Package 320/1819HostnameOS / ArchINSTALLBUILDCHECKBUILD BIN
CNORdt 1.29.0
A. MacNamara
Last Commit: fa39fbf
Last Changed Date: 2019-10-29 13:36:23 -0500
malbec2 Linux (Ubuntu 18.04.3 LTS) / x86_64  OK  OK  OK UNNEEDED, same version exists in internal repository
tokay2 Windows Server 2012 R2 Standard / x64  OK  OK  OK  OK UNNEEDED, same version exists in internal repository
Package 321/1819HostnameOS / ArchINSTALLBUILDCHECKBUILD BIN
CNORfeeder 1.27.0
F.Eduati
Last Commit: 83b06d5
Last Changed Date: 2019-10-29 13:36:45 -0500
malbec2 Linux (Ubuntu 18.04.3 LTS) / x86_64  OK  OK  OK UNNEEDED, same version exists in internal repository
tokay2 Windows Server 2012 R2 Standard / x64  OK  OK  OK  OK UNNEEDED, same version exists in internal repository
Package 322/1819HostnameOS / ArchINSTALLBUILDCHECKBUILD BIN
CNORfuzzy 1.29.0
T. Cokelaer
Last Commit: a0ee834
Last Changed Date: 2019-10-29 13:36:20 -0500
malbec2 Linux (Ubuntu 18.04.3 LTS) / x86_64  OK  OK  OK UNNEEDED, same version exists in internal repository
tokay2 Windows Server 2012 R2 Standard / x64  OK  OK  OK  OK UNNEEDED, same version exists in internal repository
Package 323/1819HostnameOS / ArchINSTALLBUILDCHECKBUILD BIN
CNORode 1.29.0
David Henriques
Last Commit: 7237a57
Last Changed Date: 2019-10-29 13:36:23 -0500
malbec2 Linux (Ubuntu 18.04.3 LTS) / x86_64  OK  OK  OK UNNEEDED, same version exists in internal repository
tokay2 Windows Server 2012 R2 Standard / x64  OK  OK  OK  OK UNNEEDED, same version exists in internal repository
Package 324/1819HostnameOS / ArchINSTALLBUILDCHECKBUILD BIN
CNTools 1.43.0
J. Zhang
Last Commit: f91d381
Last Changed Date: 2019-10-29 13:34:59 -0500
malbec2 Linux (Ubuntu 18.04.3 LTS) / x86_64  OK  OK  OK UNNEEDED, same version exists in internal repository
tokay2 Windows Server 2012 R2 Standard / x64  OK  OK  OK  OK UNNEEDED, same version exists in internal repository
Package 325/1819HostnameOS / ArchINSTALLBUILDCHECKBUILD BIN
CNVfilteR 1.1.3
Jose Marcos Moreno-Cabrera
Last Commit: 01ad435
Last Changed Date: 2019-11-29 09:21:27 -0500
malbec2 Linux (Ubuntu 18.04.3 LTS) / x86_64  OK  OK  OK UNNEEDED, same version exists in internal repository
tokay2 Windows Server 2012 R2 Standard / x64  OK  OK  OK  OK UNNEEDED, same version exists in internal repository
Package 326/1819HostnameOS / ArchINSTALLBUILDCHECKBUILD BIN
cnvGSA 1.31.0
Joseph Lugo
Last Commit: 924fe55
Last Changed Date: 2019-10-29 13:36:09 -0500
malbec2 Linux (Ubuntu 18.04.3 LTS) / x86_64  OK  OK  OK UNNEEDED, same version exists in internal repository
tokay2 Windows Server 2012 R2 Standard / x64  OK  OK  OK  OK UNNEEDED, same version exists in internal repository
Package 327/1819HostnameOS / ArchINSTALLBUILDCHECKBUILD BIN
CNVPanelizer 1.19.0
Thomas Wolf
Last Commit: 75c8f1a
Last Changed Date: 2019-10-29 13:39:34 -0500
malbec2 Linux (Ubuntu 18.04.3 LTS) / x86_64  OK  OK  OK UNNEEDED, same version exists in internal repository
tokay2 Windows Server 2012 R2 Standard / x64  OK  OK  OK  OK UNNEEDED, same version exists in internal repository
Package 328/1819HostnameOS / ArchINSTALLBUILDCHECKBUILD BIN
CNVRanger 1.3.3
Ludwig Geistlinger
Last Commit: 93b1be4
Last Changed Date: 2019-12-03 13:55:05 -0500
malbec2 Linux (Ubuntu 18.04.3 LTS) / x86_64  OK  ERROR  skipped 
tokay2 Windows Server 2012 R2 Standard / x64  OK  ERROR  skipped  skipped 
Package 329/1819HostnameOS / ArchINSTALLBUILDCHECKBUILD BIN
CNVrd2 1.25.0
Hoang Tan Nguyen
Last Commit: 92d5e1d
Last Changed Date: 2019-10-29 13:37:14 -0500
malbec2 Linux (Ubuntu 18.04.3 LTS) / x86_64  OK  OK  OK UNNEEDED, same version exists in internal repository
tokay2 Windows Server 2012 R2 Standard / x64  OK  OK  OK  OK UNNEEDED, same version exists in internal repository
Package 330/1819HostnameOS / ArchINSTALLBUILDCHECKBUILD BIN
CNVtools 1.81.0
Chris Barnes
Last Commit: 9542787
Last Changed Date: 2019-10-29 13:35:10 -0500
malbec2 Linux (Ubuntu 18.04.3 LTS) / x86_64  OK  OK  OK UNNEEDED, same version exists in internal repository
tokay2 Windows Server 2012 R2 Standard / x64  OK  OK  OK  OK UNNEEDED, same version exists in internal repository
Package 331/1819HostnameOS / ArchINSTALLBUILDCHECKBUILD BIN
cobindR 1.25.0
Manuela Benary
Last Commit: 4ab7bad
Last Changed Date: 2019-10-29 13:36:53 -0500
malbec2 Linux (Ubuntu 18.04.3 LTS) / x86_64  OK  OK  WARNINGS UNNEEDED, same version exists in internal repository
tokay2 Windows Server 2012 R2 Standard / x64  OK  OK  WARNINGS  OK UNNEEDED, same version exists in internal repository
Package 332/1819HostnameOS / ArchINSTALLBUILDCHECKBUILD BIN
CoCiteStats 1.59.0
Bioconductor Package Maintainer
Last Commit: d5e3cca
Last Changed Date: 2019-10-29 13:34:37 -0500
malbec2 Linux (Ubuntu 18.04.3 LTS) / x86_64  OK  OK  OK UNNEEDED, same version exists in internal repository
tokay2 Windows Server 2012 R2 Standard / x64  OK  OK  OK  OK UNNEEDED, same version exists in internal repository
Package 333/1819HostnameOS / ArchINSTALLBUILDCHECKBUILD BIN
COCOA 2.1.0
John Lawson
Last Commit: cea3cea
Last Changed Date: 2019-10-29 13:43:21 -0500
malbec2 Linux (Ubuntu 18.04.3 LTS) / x86_64  OK  OK  OK UNNEEDED, same version exists in internal repository
tokay2 Windows Server 2012 R2 Standard / x64  OK  OK  OK  OK UNNEEDED, same version exists in internal repository
Package 334/1819HostnameOS / ArchINSTALLBUILDCHECKBUILD BIN
codelink 1.55.0
Diego Diez
Last Commit: 53890f6
Last Changed Date: 2019-10-29 13:34:40 -0500
malbec2 Linux (Ubuntu 18.04.3 LTS) / x86_64  OK  OK  OK UNNEEDED, same version exists in internal repository
tokay2 Windows Server 2012 R2 Standard / x64  OK  OK  OK  OK UNNEEDED, same version exists in internal repository
Package 335/1819HostnameOS / ArchINSTALLBUILDCHECKBUILD BIN
CODEX 1.19.0
Yuchao Jiang
Last Commit: 0e6a366
Last Changed Date: 2019-10-29 13:38:45 -0500
malbec2 Linux (Ubuntu 18.04.3 LTS) / x86_64  OK  OK  OK UNNEEDED, same version exists in internal repository
tokay2 Windows Server 2012 R2 Standard / x64  OK  OK  OK  OK UNNEEDED, same version exists in internal repository
Package 336/1819HostnameOS / ArchINSTALLBUILDCHECKBUILD BIN
coexnet 1.9.0
Juan David Henao
Last Commit: f63a75f
Last Changed Date: 2019-10-29 13:42:20 -0500
malbec2 Linux (Ubuntu 18.04.3 LTS) / x86_64  OK  OK  OK UNNEEDED, same version exists in internal repository
tokay2 Windows Server 2012 R2 Standard / x64  OK  OK  OK  OK UNNEEDED, same version exists in internal repository
Package 337/1819HostnameOS / ArchINSTALLBUILDCHECKBUILD BIN
CoGAPS 3.7.0
Elana J. Fertig
Last Commit: e2f29b9
Last Changed Date: 2019-10-29 13:35:17 -0500
malbec2 Linux (Ubuntu 18.04.3 LTS) / x86_64  OK  OK  OK UNNEEDED, same version exists in internal repository
tokay2 Windows Server 2012 R2 Standard / x64  OK  OK  OK  OK UNNEEDED, same version exists in internal repository
Package 338/1819HostnameOS / ArchINSTALLBUILDCHECKBUILD BIN
cogena 1.21.0
Zhilong Jia
Last Commit: 96cefa9
Last Changed Date: 2019-10-29 13:39:16 -0500
malbec2 Linux (Ubuntu 18.04.3 LTS) / x86_64  OK  OK  WARNINGS UNNEEDED, same version exists in internal repository
tokay2 Windows Server 2012 R2 Standard / x64  OK  OK  WARNINGS  OK UNNEEDED, same version exists in internal repository
Package 339/1819HostnameOS / ArchINSTALLBUILDCHECKBUILD BIN
coGPS 1.31.0
Yingying Wei
Last Commit: fa23ca3
Last Changed Date: 2019-10-29 13:36:07 -0500
malbec2 Linux (Ubuntu 18.04.3 LTS) / x86_64  OK  OK  OK UNNEEDED, same version exists in internal repository
tokay2 Windows Server 2012 R2 Standard / x64  OK  OK  OK  OK UNNEEDED, same version exists in internal repository
Package 340/1819HostnameOS / ArchINSTALLBUILDCHECKBUILD BIN
COHCAP 1.33.0
Charles Warden
Last Commit: ca8ee35
Last Changed Date: 2019-10-29 13:37:15 -0500
malbec2 Linux (Ubuntu 18.04.3 LTS) / x86_64  OK  OK  OK UNNEEDED, same version exists in internal repository
tokay2 Windows Server 2012 R2 Standard / x64  OK  OK  OK  OK UNNEEDED, same version exists in internal repository
Package 341/1819HostnameOS / ArchINSTALLBUILDCHECKBUILD BIN
cola 1.3.3
Zuguang Gu
Last Commit: 1f1010c
Last Changed Date: 2019-12-31 09:09:30 -0500
malbec2 Linux (Ubuntu 18.04.3 LTS) / x86_64  OK  OK  OK UNNEEDED, same version exists in internal repository
tokay2 Windows Server 2012 R2 Standard / x64  OK  OK  OK  OK UNNEEDED, same version exists in internal repository
Package 342/1819HostnameOS / ArchINSTALLBUILDCHECKBUILD BIN
coMET 1.19.0
Tiphaine Martin
Last Commit: b918145
Last Changed Date: 2019-10-29 13:38:46 -0500
malbec2 Linux (Ubuntu 18.04.3 LTS) / x86_64  OK  OK  OK UNNEEDED, same version exists in internal repository
tokay2 Windows Server 2012 R2 Standard / x64  OK  OK  OK  OK UNNEEDED, same version exists in internal repository
Package 343/1819HostnameOS / ArchINSTALLBUILDCHECKBUILD BIN
compartmap 1.5.0
Benjamin Johnson
Last Commit: f861a62
Last Changed Date: 2019-10-29 13:43:22 -0500
malbec2 Linux (Ubuntu 18.04.3 LTS) / x86_64  OK  OK  WARNINGS UNNEEDED, same version exists in internal repository
tokay2 Windows Server 2012 R2 Standard / x64  OK  OK  WARNINGS  OK UNNEEDED, same version exists in internal repository
Package 344/1819HostnameOS / ArchINSTALLBUILDCHECKBUILD BIN
COMPASS 1.25.1
Greg Finak
Last Commit: 89d61a4
Last Changed Date: 2019-12-04 14:14:04 -0500
malbec2 Linux (Ubuntu 18.04.3 LTS) / x86_64  OK  OK  OK UNNEEDED, same version exists in internal repository
tokay2 Windows Server 2012 R2 Standard / x64  OK  OK  OK  OK UNNEEDED, same version exists in internal repository
Package 345/1819HostnameOS / ArchINSTALLBUILDCHECKBUILD BIN
compcodeR 1.23.1
Charlotte Soneson
Last Commit: 7639a36
Last Changed Date: 2019-12-02 05:27:47 -0500
malbec2 Linux (Ubuntu 18.04.3 LTS) / x86_64  OK  ERROR  skipped 
tokay2 Windows Server 2012 R2 Standard / x64  OK  ERROR  skipped  skipped 
Package 346/1819HostnameOS / ArchINSTALLBUILDCHECKBUILD BIN
compEpiTools 1.21.0
Kamal Kishore
Last Commit: 2ca101f
Last Changed Date: 2019-10-29 13:37:57 -0500
malbec2 Linux (Ubuntu 18.04.3 LTS) / x86_64  OK  OK  OK UNNEEDED, same version exists in internal repository
tokay2 Windows Server 2012 R2 Standard / x64  OK  OK  OK  OK UNNEEDED, same version exists in internal repository
Package 347/1819HostnameOS / ArchINSTALLBUILDCHECKBUILD BIN
CompGO 1.23.0
Ashley J. Waardenberg
Last Commit: 89b2d6c
Last Changed Date: 2019-10-29 13:37:21 -0500
malbec2 Linux (Ubuntu 18.04.3 LTS) / x86_64  OK  OK  OK UNNEEDED, same version exists in internal repository
tokay2 Windows Server 2012 R2 Standard / x64  OK  OK  OK  OK UNNEEDED, same version exists in internal repository
Package 348/1819HostnameOS / ArchINSTALLBUILDCHECKBUILD BIN
ComplexHeatmap 2.3.0
Zuguang Gu
Last Commit: b931f95
Last Changed Date: 2019-10-29 13:39:12 -0500
malbec2 Linux (Ubuntu 18.04.3 LTS) / x86_64  OK  OK  OK UNNEEDED, same version exists in internal repository
tokay2 Windows Server 2012 R2 Standard / x64  OK  OK  OK  OK UNNEEDED, same version exists in internal repository
Package 349/1819HostnameOS / ArchINSTALLBUILDCHECKBUILD BIN
CONFESS 1.15.0
Diana LOW
Last Commit: 6c7082a
Last Changed Date: 2019-10-29 13:40:56 -0500
malbec2 Linux (Ubuntu 18.04.3 LTS) / x86_64  OK  OK  WARNINGS UNNEEDED, same version exists in internal repository
tokay2 Windows Server 2012 R2 Standard / x64  OK  OK  WARNINGS  OK UNNEEDED, same version exists in internal repository
Package 350/1819HostnameOS / ArchINSTALLBUILDCHECKBUILD BIN
consensus 1.5.0
Tim Peters
Last Commit: 70593e1
Last Changed Date: 2019-10-29 13:43:17 -0500
malbec2 Linux (Ubuntu 18.04.3 LTS) / x86_64  OK  OK  OK UNNEEDED, same version exists in internal repository
tokay2 Windows Server 2012 R2 Standard / x64  OK  OK  OK  OK UNNEEDED, same version exists in internal repository
Package 351/1819HostnameOS / ArchINSTALLBUILDCHECKBUILD BIN
ConsensusClusterPlus 1.51.0
Matt Wilkerson
Last Commit: bde4b0a
Last Changed Date: 2019-10-29 13:35:13 -0500
malbec2 Linux (Ubuntu 18.04.3 LTS) / x86_64  OK  OK  OK UNNEEDED, same version exists in internal repository
tokay2 Windows Server 2012 R2 Standard / x64  OK  OK  OK  OK UNNEEDED, same version exists in internal repository
Package 352/1819HostnameOS / ArchINSTALLBUILDCHECKBUILD BIN
consensusDE 1.5.1
Ashley J. Waardenberg
Last Commit: ce37089
Last Changed Date: 2019-12-03 01:54:30 -0500
malbec2 Linux (Ubuntu 18.04.3 LTS) / x86_64  OK  OK  OK UNNEEDED, same version exists in internal repository
tokay2 Windows Server 2012 R2 Standard / x64  OK  OK  OK  OK UNNEEDED, same version exists in internal repository
Package 353/1819HostnameOS / ArchINSTALLBUILDCHECKBUILD BIN
consensusOV 1.9.1
Benjamin Haibe-Kains
Last Commit: 25bca15
Last Changed Date: 2019-12-04 17:01:13 -0500
malbec2 Linux (Ubuntu 18.04.3 LTS) / x86_64  OK  OK  OK UNNEEDED, same version exists in internal repository
tokay2 Windows Server 2012 R2 Standard / x64  OK  OK  OK  OK UNNEEDED, same version exists in internal repository
Package 354/1819HostnameOS / ArchINSTALLBUILDCHECKBUILD BIN
consensusSeekeR 1.15.0
Astrid Deschenes
Last Commit: e57e02e
Last Changed Date: 2019-10-29 13:40:11 -0500
malbec2 Linux (Ubuntu 18.04.3 LTS) / x86_64  OK  ERROR  skipped 
tokay2 Windows Server 2012 R2 Standard / x64  OK  ERROR  skipped  skipped 
Package 355/1819HostnameOS / ArchINSTALLBUILDCHECKBUILD BIN
contiBAIT 1.15.0
Kieran O'Neill
Last Commit: 95ca5ae
Last Changed Date: 2019-10-29 13:40:27 -0500
malbec2 Linux (Ubuntu 18.04.3 LTS) / x86_64  OK  OK  OK UNNEEDED, same version exists in internal repository
tokay2 Windows Server 2012 R2 Standard / x64  OK  OK  WARNINGS  OK UNNEEDED, same version exists in internal repository
Package 356/1819HostnameOS / ArchINSTALLBUILDCHECKBUILD BIN
conumee 1.21.0
Volker Hovestadt
Last Commit: 459aae9
Last Changed Date: 2019-10-29 13:39:18 -0500
malbec2 Linux (Ubuntu 18.04.3 LTS) / x86_64  OK  OK  OK UNNEEDED, same version exists in internal repository
tokay2 Windows Server 2012 R2 Standard / x64 ...NOT SUPPORTED...
Package 357/1819HostnameOS / ArchINSTALLBUILDCHECKBUILD BIN
convert 1.63.0
Yee Hwa (Jean) Yang
Last Commit: e810a29
Last Changed Date: 2019-10-29 13:34:35 -0500
malbec2 Linux (Ubuntu 18.04.3 LTS) / x86_64  OK  OK  OK UNNEEDED, same version exists in internal repository
tokay2 Windows Server 2012 R2 Standard / x64  OK  OK  OK  OK UNNEEDED, same version exists in internal repository
Package 358/1819HostnameOS / ArchINSTALLBUILDCHECKBUILD BIN
copa 1.55.0
James W. MacDonald
Last Commit: 29fd4a3
Last Changed Date: 2019-10-29 13:34:41 -0500
malbec2 Linux (Ubuntu 18.04.3 LTS) / x86_64  OK  OK  OK UNNEEDED, same version exists in internal repository
tokay2 Windows Server 2012 R2 Standard / x64  OK  OK  OK  OK UNNEEDED, same version exists in internal repository
Package 359/1819HostnameOS / ArchINSTALLBUILDCHECKBUILD BIN
copynumber 1.27.0
Gro Nilsen
Last Commit: 2af7994
Last Changed Date: 2019-10-29 13:36:49 -0500
malbec2 Linux (Ubuntu 18.04.3 LTS) / x86_64  OK  OK  OK UNNEEDED, same version exists in internal repository
tokay2 Windows Server 2012 R2 Standard / x64  OK  OK  OK  OK UNNEEDED, same version exists in internal repository
Package 360/1819HostnameOS / ArchINSTALLBUILDCHECKBUILD BIN
CopyNumberPlots 1.3.3
Bernat Gel
Last Commit: 2ce15ae
Last Changed Date: 2019-12-23 10:09:09 -0500
malbec2 Linux (Ubuntu 18.04.3 LTS) / x86_64  OK  OK  OK UNNEEDED, same version exists in internal repository
tokay2 Windows Server 2012 R2 Standard / x64  OK  OK  OK  OK UNNEEDED, same version exists in internal repository
Package 361/1819HostnameOS / ArchINSTALLBUILDCHECKBUILD BIN
CopywriteR 2.19.0
Oscar Krijgsman
Last Commit: 52490cd
Last Changed Date: 2019-10-29 13:39:16 -0500
malbec2 Linux (Ubuntu 18.04.3 LTS) / x86_64  OK  OK  OK UNNEEDED, same version exists in internal repository
tokay2 Windows Server 2012 R2 Standard / x64  OK  OK  OK  OK UNNEEDED, same version exists in internal repository
Package 362/1819HostnameOS / ArchINSTALLBUILDCHECKBUILD BIN
coRdon 1.5.0
Anamaria Elek
Last Commit: c6e7024
Last Changed Date: 2019-10-29 13:43:17 -0500
malbec2 Linux (Ubuntu 18.04.3 LTS) / x86_64  OK  OK  OK UNNEEDED, same version exists in internal repository
tokay2 Windows Server 2012 R2 Standard / x64  OK  OK  OK  OK UNNEEDED, same version exists in internal repository
Package 363/1819HostnameOS / ArchINSTALLBUILDCHECKBUILD BIN
CoRegFlux 1.3.0
Pauline Trébulle and Mohamed Elati
Last Commit: e876508
Last Changed Date: 2019-10-29 13:43:31 -0500
malbec2 Linux (Ubuntu 18.04.3 LTS) / x86_64  OK  OK  OK UNNEEDED, same version exists in internal repository
tokay2 Windows Server 2012 R2 Standard / x64  OK  OK  OK  OK UNNEEDED, same version exists in internal repository
Package 364/1819HostnameOS / ArchINSTALLBUILDCHECKBUILD BIN
CoRegNet 1.25.0
Remy Nicolle
Last Commit: 90f4b5b
Last Changed Date: 2019-10-29 13:38:28 -0500
malbec2 Linux (Ubuntu 18.04.3 LTS) / x86_64  OK  OK  WARNINGS UNNEEDED, same version exists in internal repository
tokay2 Windows Server 2012 R2 Standard / x64  OK  OK  WARNINGS  OK UNNEEDED, same version exists in internal repository
Package 365/1819HostnameOS / ArchINSTALLBUILDCHECKBUILD BIN
Cormotif 1.33.0
Yingying Wei
Last Commit: e9f7476
Last Changed Date: 2019-10-29 13:35:38 -0500
malbec2 Linux (Ubuntu 18.04.3 LTS) / x86_64  OK  OK  OK UNNEEDED, same version exists in internal repository
tokay2 Windows Server 2012 R2 Standard / x64  OK  OK  OK  OK UNNEEDED, same version exists in internal repository
Package 366/1819HostnameOS / ArchINSTALLBUILDCHECKBUILD BIN
CorMut 1.29.0
Zhenpeng Li
Last Commit: f73865e
Last Changed Date: 2019-10-29 13:36:18 -0500
malbec2 Linux (Ubuntu 18.04.3 LTS) / x86_64  OK  OK  OK UNNEEDED, same version exists in internal repository
tokay2 Windows Server 2012 R2 Standard / x64  OK  OK  OK  OK UNNEEDED, same version exists in internal repository
Package 367/1819HostnameOS / ArchINSTALLBUILDCHECKBUILD BIN
CORREP 1.53.0
Dongxiao Zhu
Last Commit: 9717a10
Last Changed Date: 2019-10-29 13:34:46 -0500
malbec2 Linux (Ubuntu 18.04.3 LTS) / x86_64  OK  OK  OK UNNEEDED, same version exists in internal repository
tokay2 Windows Server 2012 R2 Standard / x64  OK  OK  OK  OK UNNEEDED, same version exists in internal repository
Package 368/1819HostnameOS / ArchINSTALLBUILDCHECKBUILD BIN
coseq 1.11.1
Andrea Rau
Last Commit: 4bcc840
Last Changed Date: 2020-01-14 08:14:56 -0500
malbec2 Linux (Ubuntu 18.04.3 LTS) / x86_64  OK  OK  OK UNNEEDED, same version exists in internal repository
tokay2 Windows Server 2012 R2 Standard / x64  OK  OK  OK  OK UNNEEDED, same version exists in internal repository
Package 369/1819HostnameOS / ArchINSTALLBUILDCHECKBUILD BIN
cosmiq 1.21.0
David Fischer
Last Commit: 27269a5
Last Changed Date: 2019-10-29 13:37:34 -0500
malbec2 Linux (Ubuntu 18.04.3 LTS) / x86_64  OK  OK  OK UNNEEDED, same version exists in internal repository
tokay2 Windows Server 2012 R2 Standard / x64  OK  OK  OK  OK UNNEEDED, same version exists in internal repository
Package 370/1819HostnameOS / ArchINSTALLBUILDCHECKBUILD BIN
COSNet 1.21.0
Marco Frasca
Last Commit: 26ca271
Last Changed Date: 2019-10-29 13:38:36 -0500
malbec2 Linux (Ubuntu 18.04.3 LTS) / x86_64  OK  OK  OK UNNEEDED, same version exists in internal repository
tokay2 Windows Server 2012 R2 Standard / x64  OK  OK  OK  OK UNNEEDED, same version exists in internal repository
Package 371/1819HostnameOS / ArchINSTALLBUILDCHECKBUILD BIN
CountClust 1.15.0
Kushal Dey
Last Commit: 5af0c7a
Last Changed Date: 2019-10-29 13:40:42 -0500
malbec2 Linux (Ubuntu 18.04.3 LTS) / x86_64  OK  OK  OK UNNEEDED, same version exists in internal repository
tokay2 Windows Server 2012 R2 Standard / x64  OK  OK  OK  OK UNNEEDED, same version exists in internal repository
Package 372/1819HostnameOS / ArchINSTALLBUILDCHECKBUILD BIN
countsimQC 1.5.0
Charlotte Soneson
Last Commit: c2ec3b1
Last Changed Date: 2019-10-29 13:43:20 -0500
malbec2 Linux (Ubuntu 18.04.3 LTS) / x86_64  OK  OK  OK UNNEEDED, same version exists in internal repository
tokay2 Windows Server 2012 R2 Standard / x64  OK  OK  OK  OK UNNEEDED, same version exists in internal repository
Package 373/1819HostnameOS / ArchINSTALLBUILDCHECKBUILD BIN
covEB 1.13.0
C. Pacini
Last Commit: 0196c26
Last Changed Date: 2019-10-29 13:41:35 -0500
malbec2 Linux (Ubuntu 18.04.3 LTS) / x86_64  OK  OK  OK UNNEEDED, same version exists in internal repository
tokay2 Windows Server 2012 R2 Standard / x64