Back to Multiple platform build/check report for BioC 3.11
ABCDEFGHIJKLMNOPQR[S]TUVWXYZ

INSTALL report for signeR on malbec2

This page was generated on 2020-08-08 12:37:59 -0400 (Sat, 08 Aug 2020).

TO THE DEVELOPERS/MAINTAINERS OF THE signeR PACKAGE: Please make sure to use the following settings in order to reproduce any error or warning you see on this page.
Package 1656/1905HostnameOS / ArchINSTALLBUILDCHECKBUILD BIN
signeR 1.14.0
Renan Valieris
Snapshot Date: 2020-08-07 14:50:16 -0400 (Fri, 07 Aug 2020)
URL: https://git.bioconductor.org/packages/signeR
Branch: RELEASE_3_11
Last Commit: 4fcdc43
Last Changed Date: 2020-04-27 15:01:35 -0400 (Mon, 27 Apr 2020)
malbec2 Linux (Ubuntu 18.04.4 LTS) / x86_64 [ OK ] OK  OK UNNEEDED, same version exists in internal repository
tokay2 Windows Server 2012 R2 Standard / x64  OK  OK  OK  OK UNNEEDED, same version exists in internal repository
machv2 macOS 10.14.6 Mojave / x86_64  OK  OK  OK  OK UNNEEDED, same version exists in internal repository

Summary

Package: signeR
Version: 1.14.0
Command: /home/biocbuild/bbs-3.11-bioc/R/bin/R CMD INSTALL signeR
StartedAt: 2020-08-07 17:07:21 -0400 (Fri, 07 Aug 2020)
EndedAt: 2020-08-07 17:08:29 -0400 (Fri, 07 Aug 2020)
EllapsedTime: 68.2 seconds
RetCode: 0
Status:  OK 

Command output

##############################################################################
##############################################################################
###
### Running command:
###
###   /home/biocbuild/bbs-3.11-bioc/R/bin/R CMD INSTALL signeR
###
##############################################################################
##############################################################################


* installing to library ‘/home/biocbuild/bbs-3.11-bioc/R/library’
* installing *source* package ‘signeR’ ...
** using staged installation
** libs
g++ -std=gnu++11 -I"/home/biocbuild/bbs-3.11-bioc/R/include" -DNDEBUG  -I'/home/biocbuild/bbs-3.11-bioc/R/library/Rcpp/include' -I'/home/biocbuild/bbs-3.11-bioc/R/library/RcppArmadillo/include' -I/usr/local/include   -fpic  -g -O2  -Wall -c RcppExports.cpp -o RcppExports.o
g++ -std=gnu++11 -I"/home/biocbuild/bbs-3.11-bioc/R/include" -DNDEBUG  -I'/home/biocbuild/bbs-3.11-bioc/R/library/Rcpp/include' -I'/home/biocbuild/bbs-3.11-bioc/R/library/RcppArmadillo/include' -I/usr/local/include   -fpic  -g -O2  -Wall -c gibbs_2.cpp -o gibbs_2.o
gcc -I"/home/biocbuild/bbs-3.11-bioc/R/include" -DNDEBUG  -I'/home/biocbuild/bbs-3.11-bioc/R/library/Rcpp/include' -I'/home/biocbuild/bbs-3.11-bioc/R/library/RcppArmadillo/include' -I/usr/local/include   -fpic  -g -O2  -Wall -c signeR_init.c -o signeR_init.o
g++ -std=gnu++11 -shared -L/home/biocbuild/bbs-3.11-bioc/R/lib -L/usr/local/lib -o signeR.so RcppExports.o gibbs_2.o signeR_init.o -Wl,-S -L/home/biocbuild/bbs-3.11-bioc/R/lib -lRlapack -L/home/biocbuild/bbs-3.11-bioc/R/lib -lRblas -lgfortran -lm -lquadmath -L/home/biocbuild/bbs-3.11-bioc/R/lib -lR
installing to /home/biocbuild/bbs-3.11-bioc/R/library/00LOCK-signeR/00new/signeR/libs
** R
** inst
** byte-compile and prepare package for lazy loading
** help
*** installing help indices
** building package indices
** installing vignettes
** testing if installed package can be loaded from temporary location
** checking absolute paths in shared objects and dynamic libraries
** testing if installed package can be loaded from final location
** testing if installed package keeps a record of temporary installation path
* DONE (signeR)