Back to Multiple platform build/check report for BioC 3.11
ABCDEFGHIJKLMNOPQR[S]TUVWXYZ

BUILD report for signeR on tokay2

This page was generated on 2020-08-08 12:54:28 -0400 (Sat, 08 Aug 2020).

TO THE DEVELOPERS/MAINTAINERS OF THE signeR PACKAGE: Please make sure to use the following settings in order to reproduce any error or warning you see on this page.
Package 1656/1905HostnameOS / ArchINSTALLBUILDCHECKBUILD BIN
signeR 1.14.0
Renan Valieris
Snapshot Date: 2020-08-07 14:50:16 -0400 (Fri, 07 Aug 2020)
URL: https://git.bioconductor.org/packages/signeR
Branch: RELEASE_3_11
Last Commit: 4fcdc43
Last Changed Date: 2020-04-27 15:01:35 -0400 (Mon, 27 Apr 2020)
malbec2 Linux (Ubuntu 18.04.4 LTS) / x86_64  OK  OK  OK UNNEEDED, same version exists in internal repository
tokay2 Windows Server 2012 R2 Standard / x64  OK [ OK ] OK  OK UNNEEDED, same version exists in internal repository
machv2 macOS 10.14.6 Mojave / x86_64  OK  OK  OK  OK UNNEEDED, same version exists in internal repository

Summary

Package: signeR
Version: 1.14.0
Command: chmod a+r signeR -R && C:\Users\biocbuild\bbs-3.11-bioc\R\bin\R.exe CMD build --keep-empty-dirs --no-resave-data signeR
StartedAt: 2020-08-07 22:53:35 -0400 (Fri, 07 Aug 2020)
EndedAt: 2020-08-07 22:56:43 -0400 (Fri, 07 Aug 2020)
EllapsedTime: 187.7 seconds
RetCode: 0
Status:  OK  
PackageFile: signeR_1.14.0.tar.gz
PackageFileSize: 507 KiB

Command output

##############################################################################
##############################################################################
###
### Running command:
###
###   chmod a+r signeR -R && C:\Users\biocbuild\bbs-3.11-bioc\R\bin\R.exe CMD build --keep-empty-dirs --no-resave-data signeR
###
##############################################################################
##############################################################################


* checking for file 'signeR/DESCRIPTION' ... OK
* preparing 'signeR':
* checking DESCRIPTION meta-information ... OK
* cleaning src
* installing the package to process help pages
* saving partial Rd database
* creating vignettes ... OK
* cleaning src
* checking for LF line-endings in source and make files and shell scripts
* checking for empty or unneeded directories
* building 'signeR_1.14.0.tar.gz'