Back to Multiple platform build/check report for BioC 3.15
ABCDEF[G]HIJKLMNOPQRSTUVWXYZ

This page was generated on 2022-08-12 13:21:30 -0400 (Fri, 12 Aug 2022).

HostnameOSArch (*)R versionInstalled pkgs
nebbiolo1Linux (Ubuntu 20.04.4 LTS)x86_644.2.1 (2022-06-23) -- "Funny-Looking Kid" 4364
palomino3Windows Server 2022 Datacenterx644.2.1 (2022-06-23 ucrt) -- "Funny-Looking Kid" 4117
merida1macOS 10.14.6 Mojavex86_644.2.1 (2022-06-23) -- "Funny-Looking Kid" 4182
Click on any hostname to see more info about the system (e.g. compilers)      (*) as reported by 'uname -p', except on Windows and Mac OS X

INSTALL results for geneXtendeR on palomino3


To the developers/maintainers of the geneXtendeR package:
- Please allow up to 24 hours (and sometimes 48 hours) for your latest push to git@git.bioconductor.org:packages/geneXtendeR.git to
reflect on this report. See How and When does the builder pull? When will my changes propagate? for more information.
- Make sure to use the following settings in order to reproduce any error or warning you see on this page.

raw results

Package 761/2140HostnameOS / ArchINSTALLBUILDCHECKBUILD BIN
geneXtendeR 1.22.0  (landing page)
Bohdan Khomtchouk
Snapshot Date: 2022-08-11 13:55:06 -0400 (Thu, 11 Aug 2022)
git_url: https://git.bioconductor.org/packages/geneXtendeR
git_branch: RELEASE_3_15
git_last_commit: 36e8d12
git_last_commit_date: 2022-04-26 11:36:15 -0400 (Tue, 26 Apr 2022)
nebbiolo1Linux (Ubuntu 20.04.4 LTS) / x86_64  OK    OK    WARNINGS  UNNEEDED, same version is already published
palomino3Windows Server 2022 Datacenter / x64  OK    OK    WARNINGS    OK  UNNEEDED, same version is already published
merida1macOS 10.14.6 Mojave / x86_64  OK    OK    WARNINGS    OK  UNNEEDED, same version is already published

Summary

Package: geneXtendeR
Version: 1.22.0
Command: F:\biocbuild\bbs-3.15-bioc\R\bin\R.exe CMD INSTALL geneXtendeR
StartedAt: 2022-08-11 16:33:50 -0400 (Thu, 11 Aug 2022)
EndedAt: 2022-08-11 16:34:55 -0400 (Thu, 11 Aug 2022)
EllapsedTime: 65.0 seconds
RetCode: 0
Status:   OK  

Command output

##############################################################################
##############################################################################
###
### Running command:
###
###   F:\biocbuild\bbs-3.15-bioc\R\bin\R.exe CMD INSTALL geneXtendeR
###
##############################################################################
##############################################################################


* installing to library 'F:/biocbuild/bbs-3.15-bioc/R/library'
* installing *source* package 'geneXtendeR' ...
** using staged installation
** libs
gcc  -I"F:/biocbuild/bbs-3.15-bioc/R/include" -DNDEBUG     -I"C:/rtools42/x86_64-w64-mingw32.static.posix/include"     -O2 -Wall  -std=gnu99 -mfpmath=sse -msse2 -mstackrealign  -c annotate.c -o annotate.o
gcc  -I"F:/biocbuild/bbs-3.15-bioc/R/include" -DNDEBUG     -I"C:/rtools42/x86_64-w64-mingw32.static.posix/include"     -O2 -Wall  -std=gnu99 -mfpmath=sse -msse2 -mstackrealign  -c extract_number.c -o extract_number.o
extract_number.c: In function 'extractnumber':
extract_number.c:72:10: warning: variable 'n_1' set but not used [-Wunused-but-set-variable]
   72 |     long n_1;
      |          ^~~
extract_number.c:66:10: warning: variable 'j_1' set but not used [-Wunused-but-set-variable]
   66 |     long j_1;
      |          ^~~
extract_number.c:54:12: warning: variable 'pvcfcol5_5' set but not used [-Wunused-but-set-variable]
   54 |     char * pvcfcol5_5;
      |            ^~~~~~~~~~
extract_number.c:53:12: warning: variable 'pvcfcol4_4' set but not used [-Wunused-but-set-variable]
   53 |     char * pvcfcol4_4;
      |            ^~~~~~~~~~
extract_number.c:52:12: warning: variable 'pvcfcol3_3' set but not used [-Wunused-but-set-variable]
   52 |     char * pvcfcol3_3;
      |            ^~~~~~~~~~
extract_number.c:51:12: warning: variable 'pvcfcol2_2' set but not used [-Wunused-but-set-variable]
   51 |     char * pvcfcol2_2;
      |            ^~~~~~~~~~
extract_number.c:50:12: warning: variable 'pvcfcol1_1' set but not used [-Wunused-but-set-variable]
   50 |     char * pvcfcol1_1;
      |            ^~~~~~~~~~
gcc  -I"F:/biocbuild/bbs-3.15-bioc/R/include" -DNDEBUG     -I"C:/rtools42/x86_64-w64-mingw32.static.posix/include"     -O2 -Wall  -std=gnu99 -mfpmath=sse -msse2 -mstackrealign  -c extract_peaks.c -o extract_peaks.o
gcc -shared -s -static-libgcc -o geneXtendeR.dll tmp.def annotate.o extract_number.o extract_peaks.o -LC:/rtools42/x86_64-w64-mingw32.static.posix/lib/x64 -LC:/rtools42/x86_64-w64-mingw32.static.posix/lib -LF:/biocbuild/bbs-3.15-bioc/R/bin/x64 -lR
installing to F:/biocbuild/bbs-3.15-bioc/R/library/00LOCK-geneXtendeR/00new/geneXtendeR/libs/x64
** R
** data
*** moving datasets to lazyload DB
** inst
** byte-compile and prepare package for lazy loading
** help
*** installing help indices
** building package indices
** installing vignettes
** testing if installed package can be loaded from temporary location
** testing if installed package can be loaded from final location
** testing if installed package keeps a record of temporary installation path
* DONE (geneXtendeR)