Back to Multiple platform build/check report for BioC 3.15
ABCDEFGHIJKLMN[O]PQRSTUVWXYZ

This page was generated on 2022-08-12 13:21:55 -0400 (Fri, 12 Aug 2022).

HostnameOSArch (*)R versionInstalled pkgs
nebbiolo1Linux (Ubuntu 20.04.4 LTS)x86_644.2.1 (2022-06-23) -- "Funny-Looking Kid" 4364
palomino3Windows Server 2022 Datacenterx644.2.1 (2022-06-23 ucrt) -- "Funny-Looking Kid" 4117
merida1macOS 10.14.6 Mojavex86_644.2.1 (2022-06-23) -- "Funny-Looking Kid" 4182
Click on any hostname to see more info about the system (e.g. compilers)      (*) as reported by 'uname -p', except on Windows and Mac OS X

BUILD results for OMICsPCA on palomino3


To the developers/maintainers of the OMICsPCA package:
- Please allow up to 24 hours (and sometimes 48 hours) for your latest push to git@git.bioconductor.org:packages/OMICsPCA.git to
reflect on this report. See How and When does the builder pull? When will my changes propagate? for more information.
- Make sure to use the following settings in order to reproduce any error or warning you see on this page.

raw results

Package 1362/2140HostnameOS / ArchINSTALLBUILDCHECKBUILD BIN
OMICsPCA 1.14.0  (landing page)
Subhadeep Das
Snapshot Date: 2022-08-11 13:55:06 -0400 (Thu, 11 Aug 2022)
git_url: https://git.bioconductor.org/packages/OMICsPCA
git_branch: RELEASE_3_15
git_last_commit: 7077ea9
git_last_commit_date: 2022-04-26 11:51:14 -0400 (Tue, 26 Apr 2022)
nebbiolo1Linux (Ubuntu 20.04.4 LTS) / x86_64  OK    OK    OK  UNNEEDED, same version is already published
palomino3Windows Server 2022 Datacenter / x64  OK    OK    OK    OK  UNNEEDED, same version is already published
merida1macOS 10.14.6 Mojave / x86_64  OK    OK    OK    OK  UNNEEDED, same version is already published

Summary

Package: OMICsPCA
Version: 1.14.0
Command: chmod a+r OMICsPCA -R && F:\biocbuild\bbs-3.15-bioc\R\bin\R.exe CMD build --keep-empty-dirs --no-resave-data OMICsPCA
StartedAt: 2022-08-11 19:49:44 -0400 (Thu, 11 Aug 2022)
EndedAt: 2022-08-11 20:16:32 -0400 (Thu, 11 Aug 2022)
EllapsedTime: 1608.0 seconds
RetCode: 0
Status:   OK  
PackageFile: OMICsPCA_1.14.0.tar.gz
PackageFileSize: 1.623 MiB

Command output

##############################################################################
##############################################################################
###
### Running command:
###
###   chmod a+r OMICsPCA -R && F:\biocbuild\bbs-3.15-bioc\R\bin\R.exe CMD build --keep-empty-dirs --no-resave-data OMICsPCA
###
##############################################################################
##############################################################################


* checking for file 'OMICsPCA/DESCRIPTION' ... OK
* preparing 'OMICsPCA':
* checking DESCRIPTION meta-information ... OK
* installing the package to build vignettes
* creating vignettes ... OK
* checking for LF line-endings in source and make files and shell scripts
* checking for empty or unneeded directories
Omitted 'LazyData' from DESCRIPTION
* building 'OMICsPCA_1.14.0.tar.gz'