Back to Multiple platform build/check report for BioC 3.15 |
|
This page was generated on 2022-08-08 13:19:51 -0400 (Mon, 08 Aug 2022).
Hostname | OS | Arch (*) | R version | Installed pkgs |
---|---|---|---|---|
nebbiolo1 | Linux (Ubuntu 20.04.4 LTS) | x86_64 | 4.2.1 (2022-06-23) -- "Funny-Looking Kid" | 4362 |
merida1 | macOS 10.14.6 Mojave | x86_64 | 4.2.1 (2022-06-23) -- "Funny-Looking Kid" | 4180 |
Click on any hostname to see more info about the system (e.g. compilers) (*) as reported by 'uname -p', except on Windows and Mac OS X |
To the developers/maintainers of the rifi package: - Please allow up to 24 hours (and sometimes 48 hours) for your latest push to git@git.bioconductor.org:packages/rifi.git to reflect on this report. See How and When does the builder pull? When will my changes propagate? for more information. - Make sure to use the following settings in order to reproduce any error or warning you see on this page. |
Package 1654/2140 | Hostname | OS / Arch | INSTALL | BUILD | CHECK | BUILD BIN | ||||||||
rifi 1.0.0 (landing page) Jens Georg
| nebbiolo1 | Linux (Ubuntu 20.04.4 LTS) / x86_64 | OK | OK | OK | ![]() | ||||||||
merida1 | macOS 10.14.6 Mojave / x86_64 | OK | OK | OK | OK | ![]() | ||||||||
Package: rifi |
Version: 1.0.0 |
Command: /home/biocbuild/bbs-3.15-bioc/R/bin/R CMD check --install=check:rifi.install-out.txt --library=/home/biocbuild/bbs-3.15-bioc/R/library --no-vignettes --timings rifi_1.0.0.tar.gz |
StartedAt: 2022-08-07 21:42:41 -0400 (Sun, 07 Aug 2022) |
EndedAt: 2022-08-07 21:51:17 -0400 (Sun, 07 Aug 2022) |
EllapsedTime: 515.4 seconds |
RetCode: 0 |
Status: OK |
CheckDir: rifi.Rcheck |
Warnings: 0 |
############################################################################## ############################################################################## ### ### Running command: ### ### /home/biocbuild/bbs-3.15-bioc/R/bin/R CMD check --install=check:rifi.install-out.txt --library=/home/biocbuild/bbs-3.15-bioc/R/library --no-vignettes --timings rifi_1.0.0.tar.gz ### ############################################################################## ############################################################################## * using log directory ‘/home/biocbuild/bbs-3.15-bioc/meat/rifi.Rcheck’ * using R version 4.2.1 (2022-06-23) * using platform: x86_64-pc-linux-gnu (64-bit) * using session charset: UTF-8 * using option ‘--no-vignettes’ * checking for file ‘rifi/DESCRIPTION’ ... OK * this is package ‘rifi’ version ‘1.0.0’ * package encoding: UTF-8 * checking package namespace information ... OK * checking package dependencies ... OK * checking if this is a source package ... OK * checking if there is a namespace ... OK * checking for hidden files and directories ... OK * checking for portable file names ... OK * checking for sufficient/correct file permissions ... OK * checking whether package ‘rifi’ can be installed ... OK * checking installed package size ... OK * checking package directory ... OK * checking ‘build’ directory ... OK * checking DESCRIPTION meta-information ... OK * checking top-level files ... OK * checking for left-over files ... OK * checking index information ... OK * checking package subdirectories ... OK * checking R files for non-ASCII characters ... OK * checking R files for syntax errors ... OK * checking whether the package can be loaded ... OK * checking whether the package can be loaded with stated dependencies ... OK * checking whether the package can be unloaded cleanly ... OK * checking whether the namespace can be loaded with stated dependencies ... OK * checking whether the namespace can be unloaded cleanly ... OK * checking dependencies in R code ... OK * checking S3 generic/method consistency ... OK * checking replacement functions ... OK * checking foreign function calls ... OK * checking R code for possible problems ... OK * checking Rd files ... OK * checking Rd metadata ... OK * checking Rd cross-references ... OK * checking for missing documentation entries ... OK * checking for code/documentation mismatches ... OK * checking Rd \usage sections ... OK * checking Rd contents ... OK * checking for unstated dependencies in examples ... OK * checking contents of ‘data’ directory ... OK * checking data for non-ASCII characters ... OK * checking data for ASCII and uncompressed saves ... OK * checking files in ‘vignettes’ ... OK * checking examples ... OK Examples with CPU (user + system) or elapsed time > 5s user system elapsed rifi_wrapper 105.248 52.112 117.777 rifi_penalties 49.681 34.615 66.832 rifi_visualization 32.795 2.197 34.993 rifi_fit 23.902 0.620 24.523 nls2_fit 15.799 2.057 10.018 make_pen 9.726 7.163 12.777 TI_fit 10.302 0.897 7.084 * checking for unstated dependencies in vignettes ... OK * checking package vignettes in ‘inst/doc’ ... OK * checking running R code from vignettes ... SKIPPED * checking re-building of vignette outputs ... SKIPPED * checking PDF version of manual ... OK * DONE Status: OK
rifi.Rcheck/00install.out
############################################################################## ############################################################################## ### ### Running command: ### ### /home/biocbuild/bbs-3.15-bioc/R/bin/R CMD INSTALL rifi ### ############################################################################## ############################################################################## * installing to library ‘/home/biocbuild/bbs-3.15-bioc/R/library’ * installing *source* package ‘rifi’ ... ** using staged installation ** R ** data ** inst ** byte-compile and prepare package for lazy loading ** help *** installing help indices ** building package indices ** installing vignettes ** testing if installed package can be loaded from temporary location ** testing if installed package can be loaded from final location ** testing if installed package keeps a record of temporary installation path * DONE (rifi)
rifi.Rcheck/rifi-Ex.timings
name | user | system | elapsed | |
TI_fit | 10.302 | 0.897 | 7.084 | |
TUgether | 0.498 | 0.190 | 0.624 | |
apply_Ttest_delay | 0.119 | 0.008 | 0.127 | |
apply_ancova | 0.322 | 0.049 | 0.371 | |
apply_event_position | 0.101 | 0.023 | 0.124 | |
apply_manova | 0.562 | 0.029 | 0.590 | |
apply_t_test | 0.734 | 0.063 | 0.798 | |
apply_t_test_ti | 0.201 | 0.013 | 0.212 | |
check_input | 0.385 | 0.007 | 0.393 | |
dataframe_summary | 0.095 | 0.008 | 0.103 | |
dataframe_summary_TI | 0.044 | 0.000 | 0.044 | |
dataframe_summary_events | 0.874 | 0.061 | 0.934 | |
dataframe_summary_events_HL_int | 0.685 | 0.043 | 0.729 | |
dataframe_summary_events_ps_itss | 0.268 | 0.008 | 0.276 | |
dataframe_summary_events_velocity | 0.279 | 0.019 | 0.299 | |
event_dataframe | 0.794 | 0.044 | 0.838 | |
finding_PDD | 0.214 | 0.130 | 0.277 | |
finding_TI | 0.321 | 0.172 | 0.425 | |
fold_change | 2.927 | 0.160 | 3.088 | |
fragment_HL | 0.652 | 0.139 | 0.701 | |
fragment_TI | 0.431 | 0.024 | 0.455 | |
fragment_delay | 0.976 | 0.217 | 1.096 | |
fragment_inty | 0.620 | 0.198 | 0.737 | |
gff3_preprocess | 0.631 | 0.060 | 0.695 | |
make_df | 0.691 | 0.276 | 0.623 | |
make_pen | 9.726 | 7.163 | 12.777 | |
nls2_fit | 15.799 | 2.057 | 10.018 | |
predict_ps_itss | 0.253 | 0.040 | 0.292 | |
rifi_fit | 23.902 | 0.620 | 24.523 | |
rifi_fragmentation | 3.192 | 0.931 | 3.771 | |
rifi_penalties | 49.681 | 34.615 | 66.832 | |
rifi_preprocess | 1.628 | 0.502 | 1.751 | |
rifi_stats | 4.787 | 0.188 | 4.975 | |
rifi_summary | 2.031 | 0.060 | 2.091 | |
rifi_visualization | 32.795 | 2.197 | 34.993 | |
rifi_wrapper | 105.248 | 52.112 | 117.777 | |
segment_pos | 0.157 | 0.011 | 0.167 | |
viz_pen_obj | 0.01 | 0.00 | 0.01 | |