Back to Multiple platform build/check report for BioC 3.15
A[B]CDEFGHIJKLMNOPQRSTUVWXYZ

This page was generated on 2022-08-12 13:22:34 -0400 (Fri, 12 Aug 2022).

HostnameOSArch (*)R versionInstalled pkgs
nebbiolo1Linux (Ubuntu 20.04.4 LTS)x86_644.2.1 (2022-06-23) -- "Funny-Looking Kid" 4364
palomino3Windows Server 2022 Datacenterx644.2.1 (2022-06-23 ucrt) -- "Funny-Looking Kid" 4117
merida1macOS 10.14.6 Mojavex86_644.2.1 (2022-06-23) -- "Funny-Looking Kid" 4182
Click on any hostname to see more info about the system (e.g. compilers)      (*) as reported by 'uname -p', except on Windows and Mac OS X

BUILD BIN results for BgeeCall on merida1


To the developers/maintainers of the BgeeCall package:
- Please allow up to 24 hours (and sometimes 48 hours) for your latest push to git@git.bioconductor.org:packages/BgeeCall.git to
reflect on this report. See How and When does the builder pull? When will my changes propagate? for more information.
- Make sure to use the following settings in order to reproduce any error or warning you see on this page.

raw results

Package 141/2140HostnameOS / ArchINSTALLBUILDCHECKBUILD BIN
BgeeCall 1.12.1  (landing page)
Julien Wollbrett
Snapshot Date: 2022-08-11 13:55:06 -0400 (Thu, 11 Aug 2022)
git_url: https://git.bioconductor.org/packages/BgeeCall
git_branch: RELEASE_3_15
git_last_commit: 77a4004
git_last_commit_date: 2022-05-19 09:21:50 -0400 (Thu, 19 May 2022)
nebbiolo1Linux (Ubuntu 20.04.4 LTS) / x86_64  OK    OK    OK  UNNEEDED, same version is already published
palomino3Windows Server 2022 Datacenter / x64  OK    OK    OK    OK  UNNEEDED, same version is already published
merida1macOS 10.14.6 Mojave / x86_64  OK    OK    OK    OK  UNNEEDED, same version is already published

Summary

Package: BgeeCall
Version: 1.12.1
Command: rm -rf BgeeCall.buildbin-libdir && mkdir BgeeCall.buildbin-libdir && /Users/biocbuild/BBS/utils/build-universal.sh BgeeCall_1.12.1.tar.gz /Library/Frameworks/R.framework/Resources/bin/R BgeeCall.buildbin-libdir
StartedAt: 2022-08-12 10:14:39 -0400 (Fri, 12 Aug 2022)
EndedAt: 2022-08-12 10:15:59 -0400 (Fri, 12 Aug 2022)
EllapsedTime: 79.7 seconds
RetCode: 0
Status:   OK  
PackageFile: BgeeCall_1.12.1.tgz
PackageFileSize: 5.935 MiB

Command output

##############################################################################
##############################################################################
###
### Running command:
###
###   rm -rf BgeeCall.buildbin-libdir && mkdir BgeeCall.buildbin-libdir && /Users/biocbuild/BBS/utils/build-universal.sh BgeeCall_1.12.1.tar.gz /Library/Frameworks/R.framework/Resources/bin/R BgeeCall.buildbin-libdir
###
##############################################################################
##############################################################################


>>>>>>> 
>>>>>>> INSTALLATION WITH 'R CMD INSTALL --preclean --no-multiarch --library=BgeeCall.buildbin-libdir BgeeCall_1.12.1.tar.gz'
>>>>>>> 

* installing *source* package ‘BgeeCall’ ...
** using staged installation
** R
** inst
** byte-compile and prepare package for lazy loading
** help
*** installing help indices
** building package indices
** installing vignettes
** testing if installed package can be loaded from temporary location
** testing if installed package can be loaded from final location
** testing if installed package keeps a record of temporary installation path
* DONE (BgeeCall)