Back to Multiple platform build/check report for BioC 3.15
ABCDEFGHIJKLMNOPQR[S]TUVWXYZ

This page was generated on 2022-08-12 13:22:12 -0400 (Fri, 12 Aug 2022).

HostnameOSArch (*)R versionInstalled pkgs
nebbiolo1Linux (Ubuntu 20.04.4 LTS)x86_644.2.1 (2022-06-23) -- "Funny-Looking Kid" 4364
palomino3Windows Server 2022 Datacenterx644.2.1 (2022-06-23 ucrt) -- "Funny-Looking Kid" 4117
merida1macOS 10.14.6 Mojavex86_644.2.1 (2022-06-23) -- "Funny-Looking Kid" 4182
Click on any hostname to see more info about the system (e.g. compilers)      (*) as reported by 'uname -p', except on Windows and Mac OS X

BUILD results for SCANVIS on palomino3


To the developers/maintainers of the SCANVIS package:
- Please allow up to 24 hours (and sometimes 48 hours) for your latest push to git@git.bioconductor.org:packages/SCANVIS.git to
reflect on this report. See How and When does the builder pull? When will my changes propagate? for more information.
- Make sure to use the following settings in order to reproduce any error or warning you see on this page.

raw results

Package 1754/2140HostnameOS / ArchINSTALLBUILDCHECKBUILD BIN
SCANVIS 1.10.0  (landing page)
Phaedra Agius
Snapshot Date: 2022-08-11 13:55:06 -0400 (Thu, 11 Aug 2022)
git_url: https://git.bioconductor.org/packages/SCANVIS
git_branch: RELEASE_3_15
git_last_commit: d559a6b
git_last_commit_date: 2022-04-26 11:57:29 -0400 (Tue, 26 Apr 2022)
nebbiolo1Linux (Ubuntu 20.04.4 LTS) / x86_64  OK    OK    OK  UNNEEDED, same version is already published
palomino3Windows Server 2022 Datacenter / x64  OK    OK    OK    OK  UNNEEDED, same version is already published
merida1macOS 10.14.6 Mojave / x86_64  OK    OK    OK    OK  UNNEEDED, same version is already published

Summary

Package: SCANVIS
Version: 1.10.0
Command: chmod a+r SCANVIS -R && F:\biocbuild\bbs-3.15-bioc\R\bin\R.exe CMD build --keep-empty-dirs --no-resave-data SCANVIS
StartedAt: 2022-08-11 20:46:08 -0400 (Thu, 11 Aug 2022)
EndedAt: 2022-08-11 20:46:55 -0400 (Thu, 11 Aug 2022)
EllapsedTime: 47.5 seconds
RetCode: 0
Status:   OK  
PackageFile: SCANVIS_1.10.0.tar.gz
PackageFileSize: 469.9 KiB

Command output

##############################################################################
##############################################################################
###
### Running command:
###
###   chmod a+r SCANVIS -R && F:\biocbuild\bbs-3.15-bioc\R\bin\R.exe CMD build --keep-empty-dirs --no-resave-data SCANVIS
###
##############################################################################
##############################################################################


* checking for file 'SCANVIS/DESCRIPTION' ... OK
* preparing 'SCANVIS':
* checking DESCRIPTION meta-information ... OK
* installing the package to process help pages
* saving partial Rd database
* creating vignettes ... OK
* checking for LF line-endings in source and make files and shell scripts
* checking for empty or unneeded directories
* looking to see if a 'data/datalist' file should be added
* building 'SCANVIS_1.10.0.tar.gz'