Back to Multiple platform build/check report for BioC 3.15
ABCDEFGHIJKLMNOPQ[R]STUVWXYZ

This page was generated on 2022-08-12 13:22:07 -0400 (Fri, 12 Aug 2022).

HostnameOSArch (*)R versionInstalled pkgs
nebbiolo1Linux (Ubuntu 20.04.4 LTS)x86_644.2.1 (2022-06-23) -- "Funny-Looking Kid" 4364
palomino3Windows Server 2022 Datacenterx644.2.1 (2022-06-23 ucrt) -- "Funny-Looking Kid" 4117
merida1macOS 10.14.6 Mojavex86_644.2.1 (2022-06-23) -- "Funny-Looking Kid" 4182
Click on any hostname to see more info about the system (e.g. compilers)      (*) as reported by 'uname -p', except on Windows and Mac OS X

INSTALL results for rifi on palomino3


To the developers/maintainers of the rifi package:
- Please allow up to 24 hours (and sometimes 48 hours) for your latest push to git@git.bioconductor.org:packages/rifi.git to
reflect on this report. See How and When does the builder pull? When will my changes propagate? for more information.
- Make sure to use the following settings in order to reproduce any error or warning you see on this page.

raw results

Package 1654/2140HostnameOS / ArchINSTALLBUILDCHECKBUILD BIN
rifi 1.0.0  (landing page)
Jens Georg
Snapshot Date: 2022-08-11 13:55:06 -0400 (Thu, 11 Aug 2022)
git_url: https://git.bioconductor.org/packages/rifi
git_branch: RELEASE_3_15
git_last_commit: a495442
git_last_commit_date: 2022-04-27 15:48:36 -0400 (Wed, 27 Apr 2022)
nebbiolo1Linux (Ubuntu 20.04.4 LTS) / x86_64  OK    OK    OK  UNNEEDED, same version is already published
palomino3Windows Server 2022 Datacenter / x64  ERROR    ERROR  skippedskipped
merida1macOS 10.14.6 Mojave / x86_64  OK    OK    OK    OK  UNNEEDED, same version is already published

Summary

Package: rifi
Version: 1.0.0
Command: F:\biocbuild\bbs-3.15-bioc\R\bin\R.exe CMD INSTALL rifi
StartedAt: 2022-08-11 16:51:47 -0400 (Thu, 11 Aug 2022)
EndedAt: 2022-08-11 16:51:47 -0400 (Thu, 11 Aug 2022)
EllapsedTime: 0.5 seconds
RetCode: 1
Status:   ERROR  

Command output

##############################################################################
##############################################################################
###
### Running command:
###
###   F:\biocbuild\bbs-3.15-bioc\R\bin\R.exe CMD INSTALL rifi
###
##############################################################################
##############################################################################


* installing to library 'F:/biocbuild/bbs-3.15-bioc/R/library'
ERROR: dependency 'doMC' is not available for package 'rifi'
* removing 'F:/biocbuild/bbs-3.15-bioc/R/library/rifi'