Back to Multiple platform build/check report for BioC 3.15
A[B]CDEFGHIJKLMNOPQRSTUVWXYZ

This page was generated on 2022-08-15 13:22:30 -0400 (Mon, 15 Aug 2022).

HostnameOSArch (*)R versionInstalled pkgs
nebbiolo1Linux (Ubuntu 20.04.4 LTS)x86_644.2.1 (2022-06-23) -- "Funny-Looking Kid" 4365
palomino3Windows Server 2022 Datacenterx644.2.1 (2022-06-23 ucrt) -- "Funny-Looking Kid" 4118
merida1macOS 10.14.6 Mojavex86_644.2.1 (2022-06-23) -- "Funny-Looking Kid" 4183
Click on any hostname to see more info about the system (e.g. compilers)      (*) as reported by 'uname -p', except on Windows and Mac OS X

CHECK results for BgeeCall on merida1


To the developers/maintainers of the BgeeCall package:
- Please allow up to 24 hours (and sometimes 48 hours) for your latest push to git@git.bioconductor.org:packages/BgeeCall.git to
reflect on this report. See How and When does the builder pull? When will my changes propagate? for more information.
- Make sure to use the following settings in order to reproduce any error or warning you see on this page.

raw results

Package 141/2140HostnameOS / ArchINSTALLBUILDCHECKBUILD BIN
BgeeCall 1.12.1  (landing page)
Julien Wollbrett
Snapshot Date: 2022-08-14 13:55:13 -0400 (Sun, 14 Aug 2022)
git_url: https://git.bioconductor.org/packages/BgeeCall
git_branch: RELEASE_3_15
git_last_commit: 77a4004
git_last_commit_date: 2022-05-19 09:21:50 -0400 (Thu, 19 May 2022)
nebbiolo1Linux (Ubuntu 20.04.4 LTS) / x86_64  OK    OK    OK  UNNEEDED, same version is already published
palomino3Windows Server 2022 Datacenter / x64  OK    OK    OK    OK  UNNEEDED, same version is already published
merida1macOS 10.14.6 Mojave / x86_64  OK    OK    OK    OK  UNNEEDED, same version is already published

Summary

Package: BgeeCall
Version: 1.12.1
Command: /Library/Frameworks/R.framework/Resources/bin/R CMD check --install=check:BgeeCall.install-out.txt --library=/Library/Frameworks/R.framework/Resources/library --no-vignettes --timings BgeeCall_1.12.1.tar.gz
StartedAt: 2022-08-14 23:25:42 -0400 (Sun, 14 Aug 2022)
EndedAt: 2022-08-14 23:34:18 -0400 (Sun, 14 Aug 2022)
EllapsedTime: 516.7 seconds
RetCode: 0
Status:   OK  
CheckDir: BgeeCall.Rcheck
Warnings: 0

Command output

##############################################################################
##############################################################################
###
### Running command:
###
###   /Library/Frameworks/R.framework/Resources/bin/R CMD check --install=check:BgeeCall.install-out.txt --library=/Library/Frameworks/R.framework/Resources/library --no-vignettes --timings BgeeCall_1.12.1.tar.gz
###
##############################################################################
##############################################################################


* using log directory ‘/Users/biocbuild/bbs-3.15-bioc/meat/BgeeCall.Rcheck’
* using R version 4.2.1 (2022-06-23)
* using platform: x86_64-apple-darwin17.0 (64-bit)
* using session charset: UTF-8
* using option ‘--no-vignettes’
* checking for file ‘BgeeCall/DESCRIPTION’ ... OK
* checking extension type ... Package
* this is package ‘BgeeCall’ version ‘1.12.1’
* package encoding: UTF-8
* checking package namespace information ... OK
* checking package dependencies ... OK
* checking if this is a source package ... OK
* checking if there is a namespace ... OK
* checking for hidden files and directories ... OK
* checking for portable file names ... OK
* checking for sufficient/correct file permissions ... OK
* checking whether package ‘BgeeCall’ can be installed ... OK
* checking installed package size ... NOTE
  installed size is  9.1Mb
  sub-directories of 1Mb or more:
    extdata   8.6Mb
* checking package directory ... OK
* checking ‘build’ directory ... OK
* checking DESCRIPTION meta-information ... OK
* checking top-level files ... OK
* checking for left-over files ... OK
* checking index information ... OK
* checking package subdirectories ... OK
* checking R files for non-ASCII characters ... OK
* checking R files for syntax errors ... OK
* checking whether the package can be loaded ... OK
* checking whether the package can be loaded with stated dependencies ... OK
* checking whether the package can be unloaded cleanly ... OK
* checking whether the namespace can be loaded with stated dependencies ... OK
* checking whether the namespace can be unloaded cleanly ... OK
* checking dependencies in R code ... OK
* checking S3 generic/method consistency ... OK
* checking replacement functions ... OK
* checking foreign function calls ... OK
* checking R code for possible problems ... NOTE
approachesMerging : <anonymous>: no visible global function definition
  for ‘p.adjust’
generate_calls_workflow: no visible binding for global variable
  ‘myUserMetadata’
generate_qValue: no visible global function definition for ‘approxfun’
generate_qValue: no visible global function definition for ‘integrate’
generate_qValue : calculate_qValue: no visible global function
  definition for ‘integrate’
generate_theoretical_pValue: no visible binding for global variable
  ‘abundance’
generate_theoretical_pValue: no visible binding for global variable
  ‘type’
generate_theoretical_pValue: no visible global function definition for
  ‘pnorm’
merging_libraries: no visible binding for global variable ‘read.delim’
should_ignore_tx_version: no visible global function definition for
  ‘complete.cases’
Undefined global functions or variables:
  abundance approxfun complete.cases integrate myUserMetadata p.adjust
  pnorm read.delim type
Consider adding
  importFrom("stats", "approxfun", "complete.cases", "integrate",
             "p.adjust", "pnorm")
  importFrom("utils", "read.delim")
to your NAMESPACE file.
* checking Rd files ... OK
* checking Rd metadata ... OK
* checking Rd cross-references ... OK
* checking for missing documentation entries ... OK
* checking for code/documentation mismatches ... OK
* checking Rd \usage sections ... OK
* checking Rd contents ... OK
* checking for unstated dependencies in examples ... OK
* checking files in ‘vignettes’ ... OK
* checking examples ... OK
Examples with CPU (user + system) or elapsed time > 5s
                           user system elapsed
generate_presence_absence 7.159  0.291  10.637
setAnnotationFromFile     3.550  0.758  11.744
* checking for unstated dependencies in ‘tests’ ... OK
* checking tests ...
  Running ‘testthat.R’
 OK
* checking for unstated dependencies in vignettes ... OK
* checking package vignettes in ‘inst/doc’ ... OK
* checking running R code from vignettes ... SKIPPED
* checking re-building of vignette outputs ... SKIPPED
* checking PDF version of manual ... OK
* DONE

Status: 2 NOTEs
See
  ‘/Users/biocbuild/bbs-3.15-bioc/meat/BgeeCall.Rcheck/00check.log’
for details.



Installation output

BgeeCall.Rcheck/00install.out

##############################################################################
##############################################################################
###
### Running command:
###
###   /Library/Frameworks/R.framework/Resources/bin/R CMD INSTALL BgeeCall
###
##############################################################################
##############################################################################


* installing to library ‘/Library/Frameworks/R.framework/Versions/4.2/Resources/library’
* installing *source* package ‘BgeeCall’ ...
** using staged installation
** R
** inst
** byte-compile and prepare package for lazy loading
** help
*** installing help indices
** building package indices
** installing vignettes
** testing if installed package can be loaded from temporary location
** testing if installed package can be loaded from final location
** testing if installed package keeps a record of temporary installation path
* DONE (BgeeCall)

Tests output

BgeeCall.Rcheck/tests/testthat.Rout


R version 4.2.1 (2022-06-23) -- "Funny-Looking Kid"
Copyright (C) 2022 The R Foundation for Statistical Computing
Platform: x86_64-apple-darwin17.0 (64-bit)

R is free software and comes with ABSOLUTELY NO WARRANTY.
You are welcome to redistribute it under certain conditions.
Type 'license()' or 'licence()' for distribution details.

R is a collaborative project with many contributors.
Type 'contributors()' for more information and
'citation()' on how to cite R or R packages in publications.

Type 'demo()' for some demos, 'help()' for on-line help, or
'help.start()' for an HTML browser interface to help.
Type 'q()' to quit R.

> library(testthat)
> library(BgeeCall)
> 
> Sys.setenv("R_TESTS" = "")
> test_check("BgeeCall")
trying URL 'https://bgee.org/ftp/intergenic/0.1/ref_intergenic/6239_intergenic.fa.gz'
Content type 'application/x-gzip' length 4420457 bytes (4.2 MB)
==================================================
downloaded 4.2 MB

trying URL 'https://bgee.org/ftp/intergenic/0.1/ref_intergenic/6239_intergenic.fa.gz'
Content type 'application/x-gzip' length 4420457 bytes (4.2 MB)
==================================================
downloaded 4.2 MB

trying URL 'https://bgee.org/ftp/intergenic/0.1/ref_intergenic/6239_intergenic.fa.gz'
Content type 'application/x-gzip' length 4420457 bytes (4.2 MB)
==================================================
downloaded 4.2 MB

trying URL 'https://bgee.org/ftp/intergenic/0.1/ref_intergenic/6239_intergenic.fa.gz'
Content type 'application/x-gzip' length 4420457 bytes (4.2 MB)
==================================================
downloaded 4.2 MB

[ FAIL 0 | WARN 0 | SKIP 0 | PASS 15 ]
> 
> proc.time()
   user  system elapsed 
 43.159   2.211  59.383 

Example timings

BgeeCall.Rcheck/BgeeCall-Ex.timings

nameusersystemelapsed
create_kallisto_index0.0000.0000.001
download_fasta_intergenic0.0030.0000.003
download_kallisto0.0990.0400.677
generate_calls_workflow0.0010.0010.001
generate_presence_absence 7.159 0.29110.637
generate_slurm_calls0.0000.0010.001
generate_slurm_indexes000
getIntergenicPrefix0.0250.0030.612
getIntergenicRelease0.0250.0031.047
getRunIds0.0010.0000.000
getSimpleArborescence000
getWorkingPath0.0010.0000.001
list_bgee_ref_intergenic_species0.1360.0113.134
list_community_ref_intergenic_species0.0490.0020.968
list_intergenic_release0.0260.0030.964
merge_transcriptome_and_intergenic0.6310.1363.188
merging_libraries000
run_kallisto0.0000.0010.001
run_tximport1.7400.0452.434
setAnnotationFromFile 3.550 0.75811.744
setAnnotationFromObject0.4710.0081.058
setIntergenicRelease0.0270.0030.617
setOutputDir0.0010.0000.001
setRNASeqLibPath0.0000.0000.001
setRunIds0.0000.0000.001
setSimpleArborescence0.0010.0000.001
setTranscriptomeFromFile0.0300.0010.031
setTranscriptomeFromObject0.0090.0000.010
setWorkingPath000