Multiple platform build/check report for BioC 3.13 experimental data

This page was generated on 2021-05-11 16:04:07 -0400 (Tue, 11 May 2021).

Approx. Package Snapshot Date (git pull): 2021-05-11 09:30:09 -0400 (Tue, 11 May 2021)

HostnameOSArch (*)Platform label (**)R versionInstalled pkgs
malbec2Linux (Ubuntu 20.04.2 LTS)x86_64x86_64-linux-gnu4.1.0 alpha (2021-05-01 r80254) 4116
riesling1Windows Server 2019 Standardx64mingw32 / x86_64-w64-mingw324.1.0 alpha (2021-04-29 r80249) 4073
Click on any hostname to see more info about the system (e.g. compilers)      (*) as reported by 'uname -p', except on Windows and Mac OS X      (**) as reported by 'gcc -v'

Package status is indicated by one of the following glyphs
  TIMEOUT  
INSTALL, BUILD, CHECK or BUILD BIN of package took more than 40, 80, 80 or 40 minutes, respectively
  ERROR  
Bad DESCRIPTION file or INSTALL, BUILD or BUILD BIN of package failed, or CHECK produced errors
  WARNINGS  
CHECK of package produced warnings
  OK  
INSTALL, BUILD, CHECK or BUILD BIN of package was OK
skipped
CHECK or BUILD BIN of package was skipped because the BUILD step failed
  NA  
BUILD, CHECK or BUILD BIN result is not available because of an anomaly in the Build System
Click on any glyph in the report below to access the detailed report.
Package propagation status is indicated by one of the following LEDs
YES YES: Package was propagated because it didn't previously exist or version was bumped
NO NO: Package was not propagated because of a problem (impossible dependencies, or version lower than what is already propagated)
UNNEEDED UNNEEDED: Package was not propagated because it is already in the repository with this version. A version bump is required in order to propagate it

A crossed-out package name indicates the package is deprecated


QUICK STATSOS / ArchINSTALLBUILDCHECK
malbec2Linux (Ubuntu 20.04.2 LTS) / x86_64
07395
05397
06122269
riesling1Windows Server 2019 Standard / x64
08393
06395
010119266
A
ABCDEFGHIJKLMNOPQRSTUVWXYZ
Package 1/402HostnameOS / ArchINSTALLBUILDCHECK
ABAData 1.21.0  (landing page)
Steffi Grote
Last Commit: 7550693
Last Changed Date: 2020-10-27 10:13:41 -0400
malbec2Linux (Ubuntu 20.04.2 LTS) / x86_64  OK    OK    OK  UNNEEDED, same version exists in internal repository
riesling1Windows Server 2019 Standard / x64  OK    OK    OK  
Package 2/402HostnameOS / ArchINSTALLBUILDCHECK
adductData 1.7.0  (landing page)
Josie Hayes
Last Commit: f321628
Last Changed Date: 2020-10-27 10:29:10 -0400
malbec2Linux (Ubuntu 20.04.2 LTS) / x86_64  OK    OK    OK  UNNEEDED, same version exists in internal repository
riesling1Windows Server 2019 Standard / x64  OK    OK    OK  
Package 3/402HostnameOS / ArchINSTALLBUILDCHECK
affycompData 1.29.0  (landing page)
Harris Jaffee
Last Commit: 0a7753d
Last Changed Date: 2020-10-27 09:52:33 -0400
malbec2Linux (Ubuntu 20.04.2 LTS) / x86_64  OK    OK    OK  UNNEEDED, same version exists in internal repository
riesling1Windows Server 2019 Standard / x64  OK    OK    OK  
Package 4/402HostnameOS / ArchINSTALLBUILDCHECK
affydata 1.39.0  (landing page)
Harris Jaffee
Last Commit: 080210b
Last Changed Date: 2020-10-27 09:44:24 -0400
malbec2Linux (Ubuntu 20.04.2 LTS) / x86_64  OK    OK    WARNINGS  UNNEEDED, same version exists in internal repository
riesling1Windows Server 2019 Standard / x64  OK    OK    WARNINGS  
Package 5/402HostnameOS / ArchINSTALLBUILDCHECK
Affyhgu133A2Expr 1.27.0  (landing page)
Zhicheng Ji
Last Commit: 325a4ba
Last Changed Date: 2020-10-27 10:08:21 -0400
malbec2Linux (Ubuntu 20.04.2 LTS) / x86_64  OK    OK    OK  UNNEEDED, same version exists in internal repository
riesling1Windows Server 2019 Standard / x64  OK    OK    OK  
Package 6/402HostnameOS / ArchINSTALLBUILDCHECK
Affyhgu133aExpr 1.29.0  (landing page)
Zhicheng Ji
Last Commit: 9cbb782
Last Changed Date: 2020-10-27 10:07:40 -0400
malbec2Linux (Ubuntu 20.04.2 LTS) / x86_64  OK    OK    OK  UNNEEDED, same version exists in internal repository
riesling1Windows Server 2019 Standard / x64  OK    OK    OK  
Package 7/402HostnameOS / ArchINSTALLBUILDCHECK
Affyhgu133Plus2Expr 1.25.0  (landing page)
Zhicheng Ji
Last Commit: cc97d22
Last Changed Date: 2020-10-27 10:08:24 -0400
malbec2Linux (Ubuntu 20.04.2 LTS) / x86_64  OK    OK    OK  UNNEEDED, same version exists in internal repository
riesling1Windows Server 2019 Standard / x64  OK    OK    OK  
Package 8/402HostnameOS / ArchINSTALLBUILDCHECK
AffymetrixDataTestFiles 0.29.0  (landing page)
Henrik Bengtsson
Last Commit: b0450e1
Last Changed Date: 2020-10-27 09:44:28 -0400
malbec2Linux (Ubuntu 20.04.2 LTS) / x86_64  OK    OK    OK  UNNEEDED, same version exists in internal repository
riesling1Windows Server 2019 Standard / x64  OK    OK    OK  
Package 9/402HostnameOS / ArchINSTALLBUILDCHECK
Affymoe4302Expr 1.29.0  (landing page)
Zhicheng Ji
Last Commit: ddab6bb
Last Changed Date: 2020-10-27 10:07:56 -0400
malbec2Linux (Ubuntu 20.04.2 LTS) / x86_64  OK    OK    OK  UNNEEDED, same version exists in internal repository
riesling1Windows Server 2019 Standard / x64  OK    OK    OK  
Package 10/402HostnameOS / ArchINSTALLBUILDCHECK
airway 1.11.1  (landing page)
Michael Love
Last Commit: e57c7cb
Last Changed Date: 2021-04-17 07:12:19 -0400
malbec2Linux (Ubuntu 20.04.2 LTS) / x86_64  OK    OK    WARNINGS  UNNEEDED, same version exists in internal repository
riesling1Windows Server 2019 Standard / x64  OK    OK    WARNINGS  
Package 11/402HostnameOS / ArchINSTALLBUILDCHECK
ALL 1.33.0  (landing page)
Robert Gentleman
Last Commit: b374d82
Last Changed Date: 2020-10-27 09:44:39 -0400
malbec2Linux (Ubuntu 20.04.2 LTS) / x86_64  OK    OK    OK  UNNEEDED, same version exists in internal repository
riesling1Windows Server 2019 Standard / x64  OK    OK    OK  
Package 12/402HostnameOS / ArchINSTALLBUILDCHECK
ALLMLL 1.31.0  (landing page)
B. M. Bolstad
Last Commit: 44945ac
Last Changed Date: 2020-10-27 09:44:43 -0400
malbec2Linux (Ubuntu 20.04.2 LTS) / x86_64  OK    OK    OK  UNNEEDED, same version exists in internal repository
riesling1Windows Server 2019 Standard / x64  OK    OK    OK  
Package 13/402HostnameOS / ArchINSTALLBUILDCHECK
alpineData 1.17.1  (landing page)
Michael Love
Last Commit: 6b284ec
Last Changed Date: 2021-04-17 07:20:12 -0400
malbec2Linux (Ubuntu 20.04.2 LTS) / x86_64  OK    OK    OK  UNNEEDED, same version exists in internal repository
riesling1Windows Server 2019 Standard / x64  OK    OK    OK  
Package 14/402HostnameOS / ArchINSTALLBUILDCHECK
AmpAffyExample 1.31.0  (landing page)
Rafael A. Irizarry
Last Commit: 5bf96c0
Last Changed Date: 2020-10-27 09:44:46 -0400
malbec2Linux (Ubuntu 20.04.2 LTS) / x86_64  OK    OK    WARNINGS  UNNEEDED, same version exists in internal repository
riesling1Windows Server 2019 Standard / x64  OK    OK    WARNINGS  
Package 15/402HostnameOS / ArchINSTALLBUILDCHECK
AneuFinderData 1.19.0  (landing page)
Aaron Taudt
Last Commit: 31d0d3f
Last Changed Date: 2020-10-27 10:18:25 -0400
malbec2Linux (Ubuntu 20.04.2 LTS) / x86_64  OK    OK    WARNINGS  UNNEEDED, same version exists in internal repository
riesling1Windows Server 2019 Standard / x64  OK    OK    WARNINGS  
Package 16/402HostnameOS / ArchINSTALLBUILDCHECK
antiProfilesData 1.27.0  (landing page)
Hector Corrada Bravo
Last Commit: bfaa695
Last Changed Date: 2020-10-27 10:01:42 -0400
malbec2Linux (Ubuntu 20.04.2 LTS) / x86_64  OK    OK    OK  UNNEEDED, same version exists in internal repository
riesling1Windows Server 2019 Standard / x64  OK    OK    OK  
Package 17/402HostnameOS / ArchINSTALLBUILDCHECK
aracne.networks 1.17.0  (landing page)
Federico M. Giorgi , Mariano Alvarez
Last Commit: 0719873
Last Changed Date: 2020-10-27 10:20:54 -0400
malbec2Linux (Ubuntu 20.04.2 LTS) / x86_64  OK    OK    WARNINGS  UNNEEDED, same version exists in internal repository
riesling1Windows Server 2019 Standard / x64  OK    OK    WARNINGS  
Package 18/402HostnameOS / ArchINSTALLBUILDCHECK
ARRmData 1.27.0  (landing page)
Jean-Philippe Fortin
Last Commit: b224c9c
Last Changed Date: 2020-10-27 10:00:59 -0400
malbec2Linux (Ubuntu 20.04.2 LTS) / x86_64  OK    OK    OK  UNNEEDED, same version exists in internal repository
riesling1Windows Server 2019 Standard / x64  OK    OK    OK  
Package 19/402HostnameOS / ArchINSTALLBUILDCHECK
AshkenazimSonChr21 1.21.0  (landing page)
Who to complain to
Last Commit: d530d6e
Last Changed Date: 2020-10-27 10:13:29 -0400
malbec2Linux (Ubuntu 20.04.2 LTS) / x86_64  OK    OK    OK  UNNEEDED, same version exists in internal repository
riesling1Windows Server 2019 Standard / x64  OK    OK    OK  
Package 20/402HostnameOS / ArchINSTALLBUILDCHECK
ASICSdata 1.11.0  (landing page)
Gaëlle Lefort
Last Commit: e37e1d2
Last Changed Date: 2020-10-27 10:26:25 -0400
malbec2Linux (Ubuntu 20.04.2 LTS) / x86_64  OK    OK    OK  UNNEEDED, same version exists in internal repository
riesling1Windows Server 2019 Standard / x64  OK    OK    OK  
Package 21/402HostnameOS / ArchINSTALLBUILDCHECK
AssessORFData 1.9.0  (landing page)
Deepank Korandla
Last Commit: a2da368
Last Changed Date: 2020-10-27 10:28:32 -0400
malbec2Linux (Ubuntu 20.04.2 LTS) / x86_64  OK    OK    OK  UNNEEDED, same version exists in internal repository
riesling1Windows Server 2019 Standard / x64  OK    OK    OK  
B
ABCDEFGHIJKLMNOPQRSTUVWXYZ
Package 22/402HostnameOS / ArchINSTALLBUILDCHECK
bcellViper 1.27.0  (landing page)
Mariano Javier Alvarez
Last Commit: 676db9a
Last Changed Date: 2020-10-27 10:08:37 -0400
malbec2Linux (Ubuntu 20.04.2 LTS) / x86_64  OK    OK    OK  UNNEEDED, same version exists in internal repository
riesling1Windows Server 2019 Standard / x64  OK    OK    OK  
Package 23/402HostnameOS / ArchINSTALLBUILDCHECK
beadarrayExampleData 1.29.0  (landing page)
Mark Dunning
Last Commit: fd38a77
Last Changed Date: 2020-10-27 09:53:57 -0400
malbec2Linux (Ubuntu 20.04.2 LTS) / x86_64  OK    OK    OK  UNNEEDED, same version exists in internal repository
riesling1Windows Server 2019 Standard / x64  OK    OK    OK  
Package 24/402HostnameOS / ArchINSTALLBUILDCHECK
BeadArrayUseCases 1.29.0  (landing page)
Mike Smith
Last Commit: 9416683
Last Changed Date: 2020-10-27 09:54:12 -0400
malbec2Linux (Ubuntu 20.04.2 LTS) / x86_64  OK    OK    OK  UNNEEDED, same version exists in internal repository
riesling1Windows Server 2019 Standard / x64  OK    OK    OK  
Package 25/402HostnameOS / ArchINSTALLBUILDCHECK
BeadSorted.Saliva.EPIC 0.99.12  (landing page)
Jonah Fisher
Last Commit: a12a7ad
Last Changed Date: 2021-04-29 11:33:23 -0400
malbec2Linux (Ubuntu 20.04.2 LTS) / x86_64  OK    OK    OK  UNNEEDED, same version exists in internal repository
riesling1Windows Server 2019 Standard / x64  OK    OK    OK  
Package 26/402HostnameOS / ArchINSTALLBUILDCHECK
benchmarkfdrData2019 1.5.0  (landing page)
Stephanie Hicks
Last Commit: 259eb05
Last Changed Date: 2020-10-27 10:30:09 -0400
malbec2Linux (Ubuntu 20.04.2 LTS) / x86_64  OK    OK    OK  UNNEEDED, same version exists in internal repository
riesling1Windows Server 2019 Standard / x64  OK    OK    OK  
Package 27/402HostnameOS / ArchINSTALLBUILDCHECK
beta7 1.29.0  (landing page)
Jean Yang
Last Commit: 219d575
Last Changed Date: 2020-10-27 09:44:50 -0400
malbec2Linux (Ubuntu 20.04.2 LTS) / x86_64  OK    OK    WARNINGS  UNNEEDED, same version exists in internal repository
riesling1Windows Server 2019 Standard / x64  OK    OK    WARNINGS  
Package 28/402HostnameOS / ArchINSTALLBUILDCHECK
BioImageDbs 0.99.3  (landing page)
Satoshi Kume
Last Commit: 6177b6e
Last Changed Date: 2021-05-06 08:04:17 -0400
malbec2Linux (Ubuntu 20.04.2 LTS) / x86_64  OK    OK    OK  UNNEEDED, same version exists in internal repository
riesling1Windows Server 2019 Standard / x64  OK    OK    OK  
Package 29/402HostnameOS / ArchINSTALLBUILDCHECK
biotmleData 1.15.0  (landing page)
Nima Hejazi
Last Commit: ecab0d2
Last Changed Date: 2020-10-27 10:22:49 -0400
malbec2Linux (Ubuntu 20.04.2 LTS) / x86_64  OK    OK    WARNINGS  UNNEEDED, same version exists in internal repository
riesling1Windows Server 2019 Standard / x64  OK    OK    WARNINGS  
Package 30/402HostnameOS / ArchINSTALLBUILDCHECK
biscuiteerData 1.5.0  (landing page)
"Jacob Morrison"
Last Commit: 3d8ba53
Last Changed Date: 2020-10-27 10:30:54 -0400
malbec2Linux (Ubuntu 20.04.2 LTS) / x86_64  OK    OK    OK  UNNEEDED, same version exists in internal repository
riesling1Windows Server 2019 Standard / x64  OK    OK    OK  
Package 31/402HostnameOS / ArchINSTALLBUILDCHECK
bladderbatch 1.29.0  (landing page)
Jeffrey T. Leek
Last Commit: 8eb688a
Last Changed Date: 2020-10-27 09:53:50 -0400
malbec2Linux (Ubuntu 20.04.2 LTS) / x86_64  OK    OK    WARNINGS  UNNEEDED, same version exists in internal repository
riesling1Windows Server 2019 Standard / x64  OK    OK    WARNINGS  
Package 32/402HostnameOS / ArchINSTALLBUILDCHECK
blimaTestingData 1.11.0  (landing page)
Vojtech Kulvait
Last Commit: 6689baa
Last Changed Date: 2020-10-27 10:09:04 -0400
malbec2Linux (Ubuntu 20.04.2 LTS) / x86_64  OK    OK    OK  UNNEEDED, same version exists in internal repository
riesling1Windows Server 2019 Standard / x64  OK    OK    OK  
Package 33/402HostnameOS / ArchINSTALLBUILDCHECK
BloodCancerMultiOmics2017 1.11.0  (landing page)
Malgorzata Oles
Last Commit: 7d60da4
Last Changed Date: 2020-10-27 10:26:12 -0400
malbec2Linux (Ubuntu 20.04.2 LTS) / x86_64  OK    OK    WARNINGS  UNNEEDED, same version exists in internal repository
riesling1Windows Server 2019 Standard / x64  OK    OK    WARNINGS  
Package 34/402HostnameOS / ArchINSTALLBUILDCHECK
bodymapRat 1.7.0  (landing page)
Stephanie Hicks
Last Commit: d3a4487
Last Changed Date: 2020-10-27 10:29:45 -0400
malbec2Linux (Ubuntu 20.04.2 LTS) / x86_64  OK    OK    OK  UNNEEDED, same version exists in internal repository
riesling1Windows Server 2019 Standard / x64  OK    OK    OK  
Package 35/402HostnameOS / ArchINSTALLBUILDCHECK
brainImageRdata 1.9.0  (landing page)
Sara Linker
Last Commit: d37621d
Last Changed Date: 2020-10-27 10:27:37 -0400
malbec2Linux (Ubuntu 20.04.2 LTS) / x86_64  OK    OK    OK  UNNEEDED, same version exists in internal repository
riesling1Windows Server 2019 Standard / x64  OK    OK    OK  
Package 36/402HostnameOS / ArchINSTALLBUILDCHECK
breakpointRdata 1.9.0  (landing page)
David Porubsky
Last Commit: c32cc15
Last Changed Date: 2020-10-27 10:27:44 -0400
malbec2Linux (Ubuntu 20.04.2 LTS) / x86_64  OK    OK    OK  UNNEEDED, same version exists in internal repository
riesling1Windows Server 2019 Standard / x64  OK    OK    OK  
Package 37/402HostnameOS / ArchINSTALLBUILDCHECK
breastCancerMAINZ 1.29.0  (landing page)
Markus Schroeder , Benjamin Haibe-Kains
Last Commit: c14abaf
Last Changed Date: 2020-10-27 09:52:40 -0400
malbec2Linux (Ubuntu 20.04.2 LTS) / x86_64  OK    OK    WARNINGS  UNNEEDED, same version exists in internal repository
riesling1Windows Server 2019 Standard / x64  OK    OK    WARNINGS  
Package 38/402HostnameOS / ArchINSTALLBUILDCHECK
breastCancerNKI 1.29.0  (landing page)
Markus Schroeder , Benjamin Haibe-Kains
Last Commit: 8a22703
Last Changed Date: 2020-10-27 09:52:43 -0400
malbec2Linux (Ubuntu 20.04.2 LTS) / x86_64  OK    OK    WARNINGS  UNNEEDED, same version exists in internal repository
riesling1Windows Server 2019 Standard / x64  OK    OK    WARNINGS  
Package 39/402HostnameOS / ArchINSTALLBUILDCHECK
breastCancerTRANSBIG 1.29.0  (landing page)
Markus Schroeder , Benjamin Haibe-Kains
Last Commit: 884c4ac
Last Changed Date: 2020-10-27 09:52:47 -0400
malbec2Linux (Ubuntu 20.04.2 LTS) / x86_64  OK    OK    WARNINGS  UNNEEDED, same version exists in internal repository
riesling1Windows Server 2019 Standard / x64  OK    OK    WARNINGS  
Package 40/402HostnameOS / ArchINSTALLBUILDCHECK
breastCancerUNT 1.29.0  (landing page)
Markus Schroeder , Benjamin Haibe-Kains
Last Commit: 8e9b7ca
Last Changed Date: 2020-10-27 09:52:50 -0400
malbec2Linux (Ubuntu 20.04.2 LTS) / x86_64  OK    OK    WARNINGS  UNNEEDED, same version exists in internal repository
riesling1Windows Server 2019 Standard / x64  OK    OK    WARNINGS  
Package 41/402HostnameOS / ArchINSTALLBUILDCHECK
breastCancerUPP 1.29.0  (landing page)
Markus Schroeder , Benjamin Haibe-Kains
Last Commit: fb59a90
Last Changed Date: 2020-10-27 09:52:54 -0400
malbec2Linux (Ubuntu 20.04.2 LTS) / x86_64  OK    OK    WARNINGS  UNNEEDED, same version exists in internal repository
riesling1Windows Server 2019 Standard / x64  OK    OK    WARNINGS  
Package 42/402HostnameOS / ArchINSTALLBUILDCHECK
breastCancerVDX 1.29.0  (landing page)
Markus Schroeder , Benjamin Haibe-Kains
Last Commit: ea547c4
Last Changed Date: 2020-10-27 09:52:57 -0400
malbec2Linux (Ubuntu 20.04.2 LTS) / x86_64  OK    OK    WARNINGS  UNNEEDED, same version exists in internal repository
riesling1Windows Server 2019 Standard / x64  OK    OK    WARNINGS  
Package 43/402HostnameOS / ArchINSTALLBUILDCHECK
brgedata 1.13.0  (landing page)
Carlos Ruiz-Arenas
Last Commit: c9c7e98
Last Changed Date: 2020-10-27 10:23:31 -0400
malbec2Linux (Ubuntu 20.04.2 LTS) / x86_64  OK    OK    WARNINGS  UNNEEDED, same version exists in internal repository
riesling1Windows Server 2019 Standard / x64  OK    OK    WARNINGS  
Package 44/402HostnameOS / ArchINSTALLBUILDCHECK
bronchialIL13 1.29.0  (landing page)
Vince Carey
Last Commit: 2d5adca
Last Changed Date: 2020-10-27 09:44:55 -0400
malbec2Linux (Ubuntu 20.04.2 LTS) / x86_64  OK    OK    OK  UNNEEDED, same version exists in internal repository
riesling1Windows Server 2019 Standard / x64  OK    OK    OK  
Package 45/402HostnameOS / ArchINSTALLBUILDCHECK
bsseqData 0.29.0  (landing page)
Kasper Daniel Hansen
Last Commit: 05f855c
Last Changed Date: 2020-10-27 09:56:15 -0400
malbec2Linux (Ubuntu 20.04.2 LTS) / x86_64  OK    OK    WARNINGS  UNNEEDED, same version exists in internal repository
riesling1Windows Server 2019 Standard / x64  OK    OK    WARNINGS  
C
ABCDEFGHIJKLMNOPQRSTUVWXYZ
Package 46/402HostnameOS / ArchINSTALLBUILDCHECK
cancerdata 1.29.0  (landing page)
Daniel Kosztyla
Last Commit: 45b4aad
Last Changed Date: 2020-10-27 09:55:31 -0400
malbec2Linux (Ubuntu 20.04.2 LTS) / x86_64  OK    OK    OK  UNNEEDED, same version exists in internal repository
riesling1Windows Server 2019 Standard / x64  OK    OK    OK  
Package 47/402HostnameOS / ArchINSTALLBUILDCHECK
CardinalWorkflows 1.23.0  (landing page)
Kylie A. Bemis
Last Commit: eb287ce
Last Changed Date: 2020-10-27 10:11:32 -0400
malbec2Linux (Ubuntu 20.04.2 LTS) / x86_64  OK    OK    OK  UNNEEDED, same version exists in internal repository
riesling1Windows Server 2019 Standard / x64  OK    OK    OK  
Package 48/402HostnameOS / ArchINSTALLBUILDCHECK
ccdata 1.17.0  (landing page)
Alex Pickering
Last Commit: 7f6a164
Last Changed Date: 2020-10-27 10:21:01 -0400
malbec2Linux (Ubuntu 20.04.2 LTS) / x86_64  OK    OK    WARNINGS  UNNEEDED, same version exists in internal repository
riesling1Windows Server 2019 Standard / x64  OK    OK    WARNINGS  
Package 49/402HostnameOS / ArchINSTALLBUILDCHECK
CCl4 1.29.0  (landing page)
Audrey Kauffmann
Last Commit: d5d52d2
Last Changed Date: 2020-10-27 09:47:36 -0400
malbec2Linux (Ubuntu 20.04.2 LTS) / x86_64  OK    OK    WARNINGS  UNNEEDED, same version exists in internal repository
riesling1Windows Server 2019 Standard / x64  OK    OK    WARNINGS  
Package 50/402HostnameOS / ArchINSTALLBUILDCHECK
ccTutorial 1.29.0  (landing page)
Joern Toedling
Last Commit: edfce2d
Last Changed Date: 2020-10-27 09:49:38 -0400
malbec2Linux (Ubuntu 20.04.2 LTS) / x86_64  OK    OK    OK  UNNEEDED, same version exists in internal repository
riesling1Windows Server 2019 Standard / x64  OK    OK    OK  
Package 51/402HostnameOS / ArchINSTALLBUILDCHECK
celarefData 1.9.0  (landing page)
Sarah Williams
Last Commit: 9813acd
Last Changed Date: 2020-10-27 10:27:16 -0400
malbec2Linux (Ubuntu 20.04.2 LTS) / x86_64  OK    OK    OK  UNNEEDED, same version exists in internal repository
riesling1Windows Server 2019 Standard / x64  OK    OK    OK  
Package 52/402HostnameOS / ArchINSTALLBUILDCHECK
celldex 1.1.0  (landing page)
Aaron Lun
Last Commit: e3fabad
Last Changed Date: 2020-10-27 10:32:01 -0400
malbec2Linux (Ubuntu 20.04.2 LTS) / x86_64  OK    OK    OK  UNNEEDED, same version exists in internal repository
riesling1Windows Server 2019 Standard / x64  OK    OK    OK  
Package 53/402HostnameOS / ArchINSTALLBUILDCHECK
CellMapperData 1.17.0  (landing page)
Brad Nelms
Last Commit: 95f5e46
Last Changed Date: 2020-10-27 10:21:34 -0400
malbec2Linux (Ubuntu 20.04.2 LTS) / x86_64  OK    OK    OK  UNNEEDED, same version exists in internal repository
riesling1Windows Server 2019 Standard / x64  OK    OK    OK  
Package 54/402HostnameOS / ArchINSTALLBUILDCHECK
ceu1kg 0.29.1  (landing page)
VJ Carey
Last Commit: fdea3e5
Last Changed Date: 2020-11-30 08:18:42 -0400
malbec2Linux (Ubuntu 20.04.2 LTS) / x86_64  ERROR    ERROR  skipped
riesling1Windows Server 2019 Standard / x64  ERROR    ERROR  skipped
Package 55/402HostnameOS / ArchINSTALLBUILDCHECK
ceu1kgv 0.33.1  (landing page)
VJ Carey
Last Commit: aaa6b5c
Last Changed Date: 2020-11-30 08:19:41 -0400
malbec2Linux (Ubuntu 20.04.2 LTS) / x86_64  ERROR    ERROR  skipped
riesling1Windows Server 2019 Standard / x64  ERROR    ERROR  skipped
Package 56/402HostnameOS / ArchINSTALLBUILDCHECK
ceuhm3 0.29.1  (landing page)
VJ Carey
Last Commit: 27a06f7
Last Changed Date: 2020-11-30 08:20:45 -0400
malbec2Linux (Ubuntu 20.04.2 LTS) / x86_64  ERROR    OK    ERROR  
riesling1Windows Server 2019 Standard / x64  ERROR    OK    ERROR  
Package 57/402HostnameOS / ArchINSTALLBUILDCHECK
cgdv17 0.29.1  (landing page)
VJ Carey
Last Commit: 8e1b19a
Last Changed Date: 2020-11-30 08:21:37 -0400
malbec2Linux (Ubuntu 20.04.2 LTS) / x86_64  OK    ERROR  skipped
riesling1Windows Server 2019 Standard / x64  OK    ERROR  skipped
Package 58/402HostnameOS / ArchINSTALLBUILDCHECK
ChAMPdata 2.23.0  (landing page)
Yuan Tian
Last Commit: 9095bbe
Last Changed Date: 2020-10-27 10:05:58 -0400
malbec2Linux (Ubuntu 20.04.2 LTS) / x86_64  OK    OK    OK  UNNEEDED, same version exists in internal repository
riesling1Windows Server 2019 Standard / x64  OK    OK    OK  
Package 59/402HostnameOS / ArchINSTALLBUILDCHECK
ChIC.data 1.11.1  (landing page)
Carmen Maria Livi
Last Commit: a40db59
Last Changed Date: 2021-04-27 11:31:19 -0400
malbec2Linux (Ubuntu 20.04.2 LTS) / x86_64  OK    OK    OK  UNNEEDED, same version exists in internal repository
riesling1Windows Server 2019 Standard / x64  OK    OK    OK  
Package 60/402HostnameOS / ArchINSTALLBUILDCHECK
ChimpHumanBrainData 1.29.0  (landing page)
Sean Davis
Last Commit: c86db6f
Last Changed Date: 2020-10-27 10:07:29 -0400
malbec2Linux (Ubuntu 20.04.2 LTS) / x86_64  OK    OK    OK  UNNEEDED, same version exists in internal repository
riesling1Windows Server 2019 Standard / x64  OK    OK    OK  
Package 61/402HostnameOS / ArchINSTALLBUILDCHECK
chipenrich.data 2.15.1  (landing page)
Raymond G. Cavalcante
Last Commit: 21cc954
Last Changed Date: 2021-04-15 13:58:56 -0400
malbec2Linux (Ubuntu 20.04.2 LTS) / x86_64  OK    OK    WARNINGS  UNNEEDED, same version exists in internal repository
riesling1Windows Server 2019 Standard / x64  OK    OK    WARNINGS  
Package 62/402HostnameOS / ArchINSTALLBUILDCHECK
ChIPexoQualExample 1.15.0  (landing page)
Rene Welch
Last Commit: dbc6d72
Last Changed Date: 2020-10-27 10:22:29 -0400
malbec2Linux (Ubuntu 20.04.2 LTS) / x86_64  OK    OK    OK  UNNEEDED, same version exists in internal repository
riesling1Windows Server 2019 Standard / x64  OK    OK    OK  
Package 63/402HostnameOS / ArchINSTALLBUILDCHECK
chipseqDBData 1.7.0  (landing page)
Aaron Lun
Last Commit: 96984e6
Last Changed Date: 2020-10-27 10:29:02 -0400
malbec2Linux (Ubuntu 20.04.2 LTS) / x86_64  OK    OK    OK  UNNEEDED, same version exists in internal repository
riesling1Windows Server 2019 Standard / x64  OK    OK    OK  
Package 64/402HostnameOS / ArchINSTALLBUILDCHECK
ChIPXpressData 1.29.0  (landing page)
George Wu
Last Commit: 761a41d
Last Changed Date: 2020-10-27 09:57:08 -0400
malbec2Linux (Ubuntu 20.04.2 LTS) / x86_64  OK    OK    WARNINGS  UNNEEDED, same version exists in internal repository
riesling1Windows Server 2019 Standard / x64... NOT SUPPORTED ...
Package 65/402HostnameOS / ArchINSTALLBUILDCHECK
chromstaRData 1.17.0  (landing page)
Aaron Taudt
Last Commit: b830e91
Last Changed Date: 2020-10-27 10:20:48 -0400
malbec2Linux (Ubuntu 20.04.2 LTS) / x86_64  OK    OK    OK  UNNEEDED, same version exists in internal repository
riesling1Windows Server 2019 Standard / x64  OK    OK    OK  
Package 66/402HostnameOS / ArchINSTALLBUILDCHECK
CLL 1.31.0  (landing page)
Robert Gentleman
Last Commit: 656d76b
Last Changed Date: 2020-10-27 09:44:59 -0400
malbec2Linux (Ubuntu 20.04.2 LTS) / x86_64  OK    OK    OK  UNNEEDED, same version exists in internal repository
riesling1Windows Server 2019 Standard / x64  OK    OK    OK  
Package 67/402HostnameOS / ArchINSTALLBUILDCHECK
CLLmethylation 1.11.0  (landing page)
Malgorzata Oles , Andreas Mock
Last Commit: 2f7de5e
Last Changed Date: 2020-10-27 10:26:16 -0400
malbec2Linux (Ubuntu 20.04.2 LTS) / x86_64  OK    OK    OK  UNNEEDED, same version exists in internal repository
riesling1Windows Server 2019 Standard / x64  OK    OK    OK  
Package 68/402HostnameOS / ArchINSTALLBUILDCHECK
CluMSIDdata 1.7.0  (landing page)
Tobias Depke
Last Commit: 701b60a
Last Changed Date: 2020-10-27 10:28:53 -0400
malbec2Linux (Ubuntu 20.04.2 LTS) / x86_64  OK    OK    OK  UNNEEDED, same version exists in internal repository
riesling1Windows Server 2019 Standard / x64  OK    OK    OK  
Package 69/402HostnameOS / ArchINSTALLBUILDCHECK
clustifyrdatahub 1.1.0  (landing page)
Rui Fu
Last Commit: 95cdae9
Last Changed Date: 2020-10-27 10:32:19 -0400
malbec2Linux (Ubuntu 20.04.2 LTS) / x86_64  OK    OK    OK  UNNEEDED, same version exists in internal repository
riesling1Windows Server 2019 Standard / x64  OK    OK    OK  
Package 70/402HostnameOS / ArchINSTALLBUILDCHECK
cMap2data 1.27.0  (landing page)
J. Saez-Rodriguez
Last Commit: 0fb2788
Last Changed Date: 2020-10-27 10:01:03 -0400
malbec2Linux (Ubuntu 20.04.2 LTS) / x86_64  OK    OK    WARNINGS  UNNEEDED, same version exists in internal repository
riesling1Windows Server 2019 Standard / x64  OK    OK    WARNINGS  
Package 71/402HostnameOS / ArchINSTALLBUILDCHECK
cnvGSAdata 1.27.0  (landing page)
Joseph Lugo
Last Commit: d259bce
Last Changed Date: 2020-10-27 09:55:27 -0400
malbec2Linux (Ubuntu 20.04.2 LTS) / x86_64  OK    OK    WARNINGS  UNNEEDED, same version exists in internal repository
riesling1Windows Server 2019 Standard / x64  OK    OK    WARNINGS  
Package 72/402HostnameOS / ArchINSTALLBUILDCHECK
COHCAPanno 1.27.0  (landing page)
Charles Warden
Last Commit: b771882
Last Changed Date: 2020-10-27 10:07:36 -0400
malbec2Linux (Ubuntu 20.04.2 LTS) / x86_64  OK    OK    OK  UNNEEDED, same version exists in internal repository
riesling1Windows Server 2019 Standard / x64  OK    OK    OK  
Package 73/402HostnameOS / ArchINSTALLBUILDCHECK
colonCA 1.33.0  (landing page)
W Sylvia Merk
Last Commit: 26a5e93
Last Changed Date: 2020-10-27 09:45:02 -0400
malbec2Linux (Ubuntu 20.04.2 LTS) / x86_64  OK    OK    WARNINGS  UNNEEDED, same version exists in internal repository
riesling1Windows Server 2019 Standard / x64  OK    OK    WARNINGS  
Package 74/402HostnameOS / ArchINSTALLBUILDCHECK
CONFESSdata 1.19.0  (landing page)
Diana LOW
Last Commit: c0be77c
Last Changed Date: 2020-10-27 10:18:44 -0400
malbec2Linux (Ubuntu 20.04.2 LTS) / x86_64  OK    OK    OK  UNNEEDED, same version exists in internal repository
riesling1Windows Server 2019 Standard / x64  OK    OK    OK  
Package 75/402HostnameOS / ArchINSTALLBUILDCHECK
ConnectivityMap 1.27.0  (landing page)
Paul Shannon
Last Commit: 28a725a
Last Changed Date: 2020-10-27 10:01:07 -0400
malbec2Linux (Ubuntu 20.04.2 LTS) / x86_64  OK    OK    OK  UNNEEDED, same version exists in internal repository
riesling1Windows Server 2019 Standard / x64  OK    OK    OK  
Package 76/402HostnameOS / ArchINSTALLBUILDCHECK
COPDSexualDimorphism.data 1.27.0  (landing page)
J Fah Sathirapongsasuti
Last Commit: d59afa6
Last Changed Date: 2020-10-27 10:08:40 -0400
malbec2Linux (Ubuntu 20.04.2 LTS) / x86_64  OK    OK    WARNINGS  UNNEEDED, same version exists in internal repository
riesling1Windows Server 2019 Standard / x64  OK    OK    WARNINGS  
Package 77/402HostnameOS / ArchINSTALLBUILDCHECK
CopyhelpeR 1.23.0  (landing page)
Oscar Krijgsman
Last Commit: 995a539
Last Changed Date: 2020-10-27 10:12:43 -0400
malbec2Linux (Ubuntu 20.04.2 LTS) / x86_64  OK    OK    OK  UNNEEDED, same version exists in internal repository
riesling1Windows Server 2019 Standard / x64  OK    OK    OK  
Package 78/402HostnameOS / ArchINSTALLBUILDCHECK
CopyNeutralIMA 1.9.0  (landing page)
Xavier Pastor Hostench
Last Commit: b9ed464
Last Changed Date: 2020-10-27 10:27:13 -0400
malbec2Linux (Ubuntu 20.04.2 LTS) / x86_64  OK    OK    OK  UNNEEDED, same version exists in internal repository
riesling1Windows Server 2019 Standard / x64  OK    OK    OK  
Package 79/402HostnameOS / ArchINSTALLBUILDCHECK
COSMIC.67 1.27.0  (landing page)
Julian Gehring
Last Commit: db73308
Last Changed Date: 2020-10-27 10:06:45 -0400
malbec2Linux (Ubuntu 20.04.2 LTS) / x86_64  OK    OK    OK  UNNEEDED, same version exists in internal repository
riesling1Windows Server 2019 Standard / x64  OK    OK    OK  
Package 80/402HostnameOS / ArchINSTALLBUILDCHECK
CRCL18 1.11.0  (landing page)
Claudio Isella
Last Commit: d7c6f9f
Last Changed Date: 2020-10-27 10:09:44 -0400
malbec2Linux (Ubuntu 20.04.2 LTS) / x86_64  OK    OK    OK  UNNEEDED, same version exists in internal repository
riesling1Windows Server 2019 Standard / x64  OK    OK    OK  
Package 81/402HostnameOS / ArchINSTALLBUILDCHECK
curatedAdipoArray 1.3.0  (landing page)
Mahmoud Ahmed
Last Commit: 72d0d34
Last Changed Date: 2020-10-27 10:31:04 -0400
malbec2Linux (Ubuntu 20.04.2 LTS) / x86_64  OK    OK    OK  UNNEEDED, same version exists in internal repository
riesling1Windows Server 2019 Standard / x64  OK    OK    OK  
Package 82/402HostnameOS / ArchINSTALLBUILDCHECK
curatedAdipoChIP 1.7.0  (landing page)
Mahmoud Ahmed
Last Commit: 129aea9
Last Changed Date: 2020-10-27 10:29:51 -0400
malbec2Linux (Ubuntu 20.04.2 LTS) / x86_64  OK    OK    OK  UNNEEDED, same version exists in internal repository
riesling1Windows Server 2019 Standard / x64  OK    OK    OK  
Package 83/402HostnameOS / ArchINSTALLBUILDCHECK
curatedAdipoRNA 1.7.0  (landing page)
Mahmoud Ahmed
Last Commit: 836b471
Last Changed Date: 2020-10-27 10:29:38 -0400
malbec2Linux (Ubuntu 20.04.2 LTS) / x86_64  OK    OK    WARNINGS  UNNEEDED, same version exists in internal repository
riesling1Windows Server 2019 Standard / x64  OK    OK    WARNINGS  
Package 84/402HostnameOS / ArchINSTALLBUILDCHECK
curatedBladderData 1.27.0  (landing page)
Markus Riester
Last Commit: d804766
Last Changed Date: 2020-10-27 10:05:27 -0400
malbec2Linux (Ubuntu 20.04.2 LTS) / x86_64  OK    OK    OK  UNNEEDED, same version exists in internal repository
riesling1Windows Server 2019 Standard / x64  OK    OK    OK  
Package 85/402HostnameOS / ArchINSTALLBUILDCHECK
curatedBreastData 2.19.0  (landing page)
Katie Planey
Last Commit: 2aa1064
Last Changed Date: 2020-10-27 10:11:50 -0400
malbec2Linux (Ubuntu 20.04.2 LTS) / x86_64  OK    OK    OK  UNNEEDED, same version exists in internal repository
riesling1Windows Server 2019 Standard / x64  OK    OK    OK  
Package 86/402HostnameOS / ArchINSTALLBUILDCHECK
curatedCRCData 2.23.0  (landing page)
Princy Parsana
Last Commit: 7453b6e
Last Changed Date: 2020-10-27 10:06:49 -0400
malbec2Linux (Ubuntu 20.04.2 LTS) / x86_64  OK    OK    OK  UNNEEDED, same version exists in internal repository
riesling1Windows Server 2019 Standard / x64  OK    OK    OK  
Package 87/402HostnameOS / ArchINSTALLBUILDCHECK
curatedMetagenomicData 1.21.0  (landing page)
Lucas Schiffer
Last Commit: 8f99117
Last Changed Date: 2020-10-27 10:20:00 -0400
malbec2Linux (Ubuntu 20.04.2 LTS) / x86_64  OK    OK    OK  UNNEEDED, same version exists in internal repository
riesling1Windows Server 2019 Standard / x64  OK    OK    OK  
Package 88/402HostnameOS / ArchINSTALLBUILDCHECK
curatedOvarianData 1.29.0  (landing page)
Levi Waldron
Last Commit: f92ddad
Last Changed Date: 2020-10-27 10:00:26 -0400
malbec2Linux (Ubuntu 20.04.2 LTS) / x86_64  OK    OK    OK  UNNEEDED, same version exists in internal repository
riesling1Windows Server 2019 Standard / x64  OK    OK    OK  
Package 89/402HostnameOS / ArchINSTALLBUILDCHECK
curatedTCGAData 1.13.9  (landing page)
Marcel Ramos
Last Commit: e4b3810
Last Changed Date: 2021-04-20 15:10:20 -0400
malbec2Linux (Ubuntu 20.04.2 LTS) / x86_64  OK    OK    OK  UNNEEDED, same version exists in internal repository
riesling1Windows Server 2019 Standard / x64  OK    OK    OK  
D
ABCDEFGHIJKLMNOPQRSTUVWXYZ
Package 90/402HostnameOS / ArchINSTALLBUILDCHECK
DAPARdata 1.21.5  (landing page)
Samuel Wieczorek
Last Commit: 9c566dd
Last Changed Date: 2021-05-06 22:12:53 -0400
malbec2Linux (Ubuntu 20.04.2 LTS) / x86_64  OK    OK    WARNINGS  UNNEEDED, same version exists in internal repository
riesling1Windows Server 2019 Standard / x64  OK    OK    WARNINGS  
Package 91/402HostnameOS / ArchINSTALLBUILDCHECK
davidTiling 1.31.0  (landing page)
Wolfgang Huber
Last Commit: 0c228f3
Last Changed Date: 2020-10-27 09:45:05 -0400
malbec2Linux (Ubuntu 20.04.2 LTS) / x86_64  OK    OK    WARNINGS  UNNEEDED, same version exists in internal repository
riesling1Windows Server 2019 Standard / x64  OK    OK    WARNINGS  
Package 92/402HostnameOS / ArchINSTALLBUILDCHECK
depmap 1.5.2  (landing page)
Laurent Gatto
Last Commit: 3d65f8b
Last Changed Date: 2021-04-14 15:43:39 -0400
malbec2Linux (Ubuntu 20.04.2 LTS) / x86_64  OK    OK    OK  UNNEEDED, same version exists in internal repository
riesling1Windows Server 2019 Standard / x64  OK    OK    OK  
Package 93/402HostnameOS / ArchINSTALLBUILDCHECK
derfinderData 2.9.1  (landing page)
Leonardo Collado-Torres
Last Commit: d7ced0a
Last Changed Date: 2020-12-17 18:10:49 -0400
malbec2Linux (Ubuntu 20.04.2 LTS) / x86_64  OK    OK    OK  UNNEEDED, same version exists in internal repository
riesling1Windows Server 2019 Standard / x64  OK    OK    OK  
Package 94/402HostnameOS / ArchINSTALLBUILDCHECK
DeSousa2013 1.27.0  (landing page)
Xin Wang
Last Commit: bb7af97
Last Changed Date: 2020-10-27 10:02:18 -0400
malbec2Linux (Ubuntu 20.04.2 LTS) / x86_64  OK    OK    OK  UNNEEDED, same version exists in internal repository
riesling1Windows Server 2019 Standard / x64  OK    OK    OK  
Package 95/402HostnameOS / ArchINSTALLBUILDCHECK
DExMAdata 0.99.2  (landing page)
Juan Antonio Villatoro-García
Last Commit: 19b400e
Last Changed Date: 2021-04-28 13:26:31 -0400
malbec2Linux (Ubuntu 20.04.2 LTS) / x86_64  OK    OK    OK  UNNEEDED, same version exists in internal repository
riesling1Windows Server 2019 Standard / x64  OK    OK    OK  
Package 96/402HostnameOS / ArchINSTALLBUILDCHECK
diffloopdata 1.19.0  (landing page)
Caleb Lareau
Last Commit: fc3780d
Last Changed Date: 2020-10-27 10:19:08 -0400
malbec2Linux (Ubuntu 20.04.2 LTS) / x86_64  OK    OK    OK  UNNEEDED, same version exists in internal repository
riesling1Windows Server 2019 Standard / x64  OK    OK    OK  
Package 97/402HostnameOS / ArchINSTALLBUILDCHECK
diggitdata 1.23.0  (landing page)
Mariano Javier Alvarez
Last Commit: dfdf303
Last Changed Date: 2020-10-27 10:11:43 -0400
malbec2Linux (Ubuntu 20.04.2 LTS) / x86_64  OK    OK    OK  UNNEEDED, same version exists in internal repository
riesling1Windows Server 2019 Standard / x64  OK    OK    OK  
Package 98/402HostnameOS / ArchINSTALLBUILDCHECK
DLBCL 1.31.0  (landing page)
Marcus Dittrich
Last Commit: b40e1f0
Last Changed Date: 2020-10-27 09:51:57 -0400
malbec2Linux (Ubuntu 20.04.2 LTS) / x86_64  OK    OK    WARNINGS  UNNEEDED, same version exists in internal repository
riesling1Windows Server 2019 Standard / x64  OK    OK    WARNINGS  
Package 99/402HostnameOS / ArchINSTALLBUILDCHECK
DmelSGI 1.23.3  (landing page)
Mike Smith
Last Commit: 2b6365d
Last Changed Date: 2020-12-22 16:04:18 -0400
malbec2Linux (Ubuntu 20.04.2 LTS) / x86_64  OK    OK    OK  UNNEEDED, same version exists in internal repository
riesling1Windows Server 2019 Standard / x64  OK    OK    OK  
Package 100/402HostnameOS / ArchINSTALLBUILDCHECK
DMRcatedata 2.9.2  (landing page)
Tim Peters
Last Commit: 8e55728
Last Changed Date: 2021-02-08 17:14:11 -0400
malbec2Linux (Ubuntu 20.04.2 LTS) / x86_64  OK    OK    OK  UNNEEDED, same version exists in internal repository
riesling1Windows Server 2019 Standard / x64  OK    OK    OK  
Package 101/402HostnameOS / ArchINSTALLBUILDCHECK
DonaPLLP2013 1.29.0  (landing page)
Joseph D. Barry
Last Commit: f64b1ee
Last Changed Date: 2020-10-27 10:04:32 -0400
malbec2Linux (Ubuntu 20.04.2 LTS) / x86_64  OK    OK    OK  UNNEEDED, same version exists in internal repository
riesling1Windows Server 2019 Standard / x64  OK    OK    OK  
Package 102/402HostnameOS / ArchINSTALLBUILDCHECK
dorothea 1.3.3  (landing page)
Christian H. Holland
Last Commit: ecc4db3
Last Changed Date: 2021-04-18 15:22:11 -0400
malbec2Linux (Ubuntu 20.04.2 LTS) / x86_64  OK    OK    WARNINGS  UNNEEDED, same version exists in internal repository
riesling1Windows Server 2019 Standard / x64  OK    OK    WARNINGS  
Package 103/402HostnameOS / ArchINSTALLBUILDCHECK
DREAM4 1.27.0  (landing page)
Paul Shannon
Last Commit: 2906b37
Last Changed Date: 2020-10-27 10:01:15 -0400
malbec2Linux (Ubuntu 20.04.2 LTS) / x86_64  OK    OK    WARNINGS  UNNEEDED, same version exists in internal repository
riesling1Windows Server 2019 Standard / x64  OK    OK    WARNINGS  
Package 104/402HostnameOS / ArchINSTALLBUILDCHECK
dressCheck 0.29.0  (landing page)
Vincent Carey
Last Commit: 1ebba41
Last Changed Date: 2020-10-27 09:52:01 -0400
malbec2Linux (Ubuntu 20.04.2 LTS) / x86_64  OK    OK    OK  UNNEEDED, same version exists in internal repository
riesling1Windows Server 2019 Standard / x64  OK    OK    OK  
Package 105/402HostnameOS / ArchINSTALLBUILDCHECK
DropletTestFiles 1.1.0  (landing page)
Aaron Lun
Last Commit: 0242945
Last Changed Date: 2020-10-27 10:32:28 -0400
malbec2Linux (Ubuntu 20.04.2 LTS) / x86_64  OK    OK    OK  UNNEEDED, same version exists in internal repository
riesling1Windows Server 2019 Standard / x64  OK    OK    OK  
Package 106/402HostnameOS / ArchINSTALLBUILDCHECK
DrugVsDiseasedata 1.27.0  (landing page)
J. Saez-Rodriguez
Last Commit: 3e2ff74
Last Changed Date: 2020-10-27 10:01:18 -0400
malbec2Linux (Ubuntu 20.04.2 LTS) / x86_64  OK    OK    OK  UNNEEDED, same version exists in internal repository
riesling1Windows Server 2019 Standard / x64  OK    OK    OK  
Package 107/402HostnameOS / ArchINSTALLBUILDCHECK
dsQTL 0.29.1  (landing page)
VJ Carey
Last Commit: a8e3bdb
Last Changed Date: 2020-11-30 08:23:04 -0400
malbec2Linux (Ubuntu 20.04.2 LTS) / x86_64  ERROR    ERROR  skipped
riesling1Windows Server 2019 Standard / x64  ERROR    ERROR  skipped
Package 108/402HostnameOS / ArchINSTALLBUILDCHECK
DuoClustering2018 1.9.0  (landing page)
Angelo Duò
Last Commit: bac06f0
Last Changed Date: 2020-10-27 10:27:19 -0400
malbec2Linux (Ubuntu 20.04.2 LTS) / x86_64  OK    OK    OK  UNNEEDED, same version exists in internal repository
riesling1Windows Server 2019 Standard / x64  OK    OK    OK  
Package 109/402HostnameOS / ArchINSTALLBUILDCHECK
DvDdata 1.27.0  (landing page)
J. Saez-Rodriguez
Last Commit: 18a7380
Last Changed Date: 2020-10-27 10:00:42 -0400
malbec2Linux (Ubuntu 20.04.2 LTS) / x86_64  OK    OK    WARNINGS  UNNEEDED, same version exists in internal repository
riesling1Windows Server 2019 Standard / x64  OK    OK    WARNINGS  
Package 110/402HostnameOS / ArchINSTALLBUILDCHECK
dyebiasexamples 1.31.0  (landing page)
Philip Lijnzaad
Last Commit: de2c585
Last Changed Date: 2020-10-27 09:51:10 -0400
malbec2Linux (Ubuntu 20.04.2 LTS) / x86_64  OK    OK    WARNINGS  UNNEEDED, same version exists in internal repository
riesling1Windows Server 2019 Standard / x64  OK    OK    WARNINGS  
E
ABCDEFGHIJKLMNOPQRSTUVWXYZ
Package 111/402HostnameOS / ArchINSTALLBUILDCHECK
EatonEtAlChIPseq 0.29.0  (landing page)
Patrick Aboyoun
Last Commit: 7adbe25
Last Changed Date: 2020-10-27 09:51:54 -0400
malbec2Linux (Ubuntu 20.04.2 LTS) / x86_64  OK    OK    WARNINGS  UNNEEDED, same version exists in internal repository
riesling1Windows Server 2019 Standard / x64  OK    OK    WARNINGS  
Package 112/402HostnameOS / ArchINSTALLBUILDCHECK
ecoliLeucine 1.31.0  (landing page)
Laurent Gautier
Last Commit: 900b6bc
Last Changed Date: 2020-10-27 09:45:20 -0400
malbec2Linux (Ubuntu 20.04.2 LTS) / x86_64  OK    OK    WARNINGS  UNNEEDED, same version exists in internal repository
riesling1Windows Server 2019 Standard / x64  OK    OK    WARNINGS  
Package 113/402HostnameOS / ArchINSTALLBUILDCHECK
EGSEAdata 1.19.0  (landing page)
Monther Alhamdoosh
Last Commit: 88896f2
Last Changed Date: 2020-10-27 10:19:15 -0400
malbec2Linux (Ubuntu 20.04.2 LTS) / x86_64  OK    OK    OK  UNNEEDED, same version exists in internal repository
riesling1Windows Server 2019 Standard / x64  OK    OK    OK  
Package 114/402HostnameOS / ArchINSTALLBUILDCHECK
ELMER.data 2.15.0  (landing page)
Tiago Chedraoui Silva
Last Commit: 25cce04
Last Changed Date: 2020-10-27 10:13:21 -0400
malbec2Linux (Ubuntu 20.04.2 LTS) / x86_64  OK    OK    OK  UNNEEDED, same version exists in internal repository
riesling1Windows Server 2019 Standard / x64  OK    OK    OK  
Package 115/402HostnameOS / ArchINSTALLBUILDCHECK
emtdata 0.99.3  (landing page)
Malvika D. Kharbanda
Last Commit: 48f147c
Last Changed Date: 2021-04-29 00:32:16 -0400
malbec2Linux (Ubuntu 20.04.2 LTS) / x86_64  OK    OK    OK  UNNEEDED, same version exists in internal repository
riesling1Windows Server 2019 Standard / x64  OK    OK    OK  
Package 116/402HostnameOS / ArchINSTALLBUILDCHECK
estrogen 1.37.0  (landing page)
Wolfgang Huber
Last Commit: bc7d2c5
Last Changed Date: 2020-10-27 09:45:24 -0400
malbec2Linux (Ubuntu 20.04.2 LTS) / x86_64  OK    OK    OK  UNNEEDED, same version exists in internal repository
riesling1Windows Server 2019 Standard / x64  OK    OK    OK  
Package 117/402HostnameOS / ArchINSTALLBUILDCHECK
etec16s 1.19.0  (landing page)
Joseph N. Paulson
Last Commit: fc9615b
Last Changed Date: 2020-10-27 10:19:02 -0400
malbec2Linux (Ubuntu 20.04.2 LTS) / x86_64  OK    OK    OK  UNNEEDED, same version exists in internal repository
riesling1Windows Server 2019 Standard / x64  OK    OK    OK  
Package 118/402HostnameOS / ArchINSTALLBUILDCHECK
ewceData 0.99.19  (landing page)
Alan Murphy
Last Commit: 6ddd027
Last Changed Date: 2021-04-13 10:30:47 -0400
malbec2Linux (Ubuntu 20.04.2 LTS) / x86_64  OK    OK    OK  UNNEEDED, same version exists in internal repository
riesling1Windows Server 2019 Standard / x64  OK    OK    OK  
F
ABCDEFGHIJKLMNOPQRSTUVWXYZ
Package 119/402HostnameOS / ArchINSTALLBUILDCHECK
faahKO 1.31.0  (landing page)
Steffen Neumann
Last Commit: b9fb3c8
Last Changed Date: 2020-10-27 09:45:37 -0400
malbec2Linux (Ubuntu 20.04.2 LTS) / x86_64  OK    OK    OK  UNNEEDED, same version exists in internal repository
riesling1Windows Server 2019 Standard / x64  OK    OK    OK  
Package 120/402HostnameOS / ArchINSTALLBUILDCHECK
fabiaData 1.29.0  (landing page)
Sepp Hochreiter
Last Commit: 337016f
Last Changed Date: 2020-10-27 09:59:59 -0400
malbec2Linux (Ubuntu 20.04.2 LTS) / x86_64  OK    OK    OK  UNNEEDED, same version exists in internal repository
riesling1Windows Server 2019 Standard / x64  OK    OK    OK  
Package 121/402HostnameOS / ArchINSTALLBUILDCHECK
facsDorit 1.33.1  (landing page)
Florian Hahne
Last Commit: 5f31c45
Last Changed Date: 2020-11-30 08:24:02 -0400
malbec2Linux (Ubuntu 20.04.2 LTS) / x86_64  ERROR    OK    ERROR  
riesling1Windows Server 2019 Standard / x64  ERROR    OK    ERROR  
Package 122/402HostnameOS / ArchINSTALLBUILDCHECK
FANTOM3and4CAGE 1.27.0  (landing page)
Vanja Haberle
Last Commit: 7a1076a
Last Changed Date: 2020-10-27 10:00:55 -0400
malbec2Linux (Ubuntu 20.04.2 LTS) / x86_64  OK    OK    OK  UNNEEDED, same version exists in internal repository
riesling1Windows Server 2019 Standard / x64  OK    OK    OK  
Package 123/402HostnameOS / ArchINSTALLBUILDCHECK
ffpeExampleData 1.29.0  (landing page)
Levi Waldron
Last Commit: 911bacc
Last Changed Date: 2020-10-27 09:55:21 -0400
malbec2Linux (Ubuntu 20.04.2 LTS) / x86_64  OK    OK    OK  UNNEEDED, same version exists in internal repository
riesling1Windows Server 2019 Standard / x64  OK    OK    OK  
Package 124/402HostnameOS / ArchINSTALLBUILDCHECK
fibroEset 1.33.0  (landing page)
Sylvia Merk
Last Commit: 3a688d5
Last Changed Date: 2020-10-27 09:45:46 -0400
malbec2Linux (Ubuntu 20.04.2 LTS) / x86_64  OK    OK    WARNINGS  UNNEEDED, same version exists in internal repository
riesling1Windows Server 2019 Standard / x64  OK    OK    WARNINGS  
Package 125/402HostnameOS / ArchINSTALLBUILDCHECK
FieldEffectCrc 1.1.0  (landing page)
Christopher Dampier
Last Commit: 74e7533
Last Changed Date: 2020-10-27 10:32:06 -0400
malbec2Linux (Ubuntu 20.04.2 LTS) / x86_64  OK    OK    OK  UNNEEDED, same version exists in internal repository
riesling1Windows Server 2019 Standard / x64  OK    OK    OK  
Package 126/402HostnameOS / ArchINSTALLBUILDCHECK
FIs 1.19.0  (landing page)
Herbert Braselmann , Martin Selmansberger
Last Commit: 204373f
Last Changed Date: 2020-10-27 10:15:32 -0400
malbec2Linux (Ubuntu 20.04.2 LTS) / x86_64  OK    OK    OK  UNNEEDED, same version exists in internal repository
riesling1Windows Server 2019 Standard / x64  OK    OK    OK  
Package 127/402HostnameOS / ArchINSTALLBUILDCHECK
fission 1.11.1  (landing page)
Michael Love
Last Commit: 9dffb0f
Last Changed Date: 2021-04-17 07:15:36 -0400
malbec2Linux (Ubuntu 20.04.2 LTS) / x86_64  OK    OK    OK  UNNEEDED, same version exists in internal repository
riesling1Windows Server 2019 Standard / x64  OK    OK    OK  
Package 128/402HostnameOS / ArchINSTALLBUILDCHECK
Fletcher2013a 1.27.0  (landing page)
Mauro Castro
Last Commit: 7f69c1a
Last Changed Date: 2020-10-27 10:04:57 -0400
malbec2Linux (Ubuntu 20.04.2 LTS) / x86_64  OK    OK    OK  UNNEEDED, same version exists in internal repository
riesling1Windows Server 2019 Standard / x64  OK    OK    OK  
Package 129/402HostnameOS / ArchINSTALLBUILDCHECK
Fletcher2013b 1.27.0  (landing page)
Mauro Castro
Last Commit: bf139f6
Last Changed Date: 2020-10-27 10:05:02 -0400
malbec2Linux (Ubuntu 20.04.2 LTS) / x86_64  OK    OK    OK  UNNEEDED, same version exists in internal repository
riesling1Windows Server 2019 Standard / x64  OK    OK    OK  
Package 130/402HostnameOS / ArchINSTALLBUILDCHECK
flowPloidyData 1.17.0  (landing page)
Tyler Smith
Last Commit: 11f4921
Last Changed Date: 2020-10-27 10:21:48 -0400
malbec2Linux (Ubuntu 20.04.2 LTS) / x86_64  OK    OK    OK  UNNEEDED, same version exists in internal repository
riesling1Windows Server 2019 Standard / x64  OK    OK    OK  
Package 131/402HostnameOS / ArchINSTALLBUILDCHECK
FlowSorted.Blood.450k 1.29.0  (landing page)
Andrew E Jaffe
Last Commit: 07c3657
Last Changed Date: 2020-10-27 10:05:36 -0400
malbec2Linux (Ubuntu 20.04.2 LTS) / x86_64  OK    OK    WARNINGS  UNNEEDED, same version exists in internal repository
riesling1Windows Server 2019 Standard / x64  OK    OK    WARNINGS  
Package 132/402HostnameOS / ArchINSTALLBUILDCHECK
FlowSorted.Blood.EPIC 1.9.0  (landing page)
Lucas A. Salas
Last Commit: ca58771
Last Changed Date: 2020-10-27 10:26:55 -0400
malbec2Linux (Ubuntu 20.04.2 LTS) / x86_64  OK    OK    OK  UNNEEDED, same version exists in internal repository
riesling1Windows Server 2019 Standard / x64  OK    OK    ERROR  
Package 133/402HostnameOS / ArchINSTALLBUILDCHECK
FlowSorted.CordBlood.450k 1.19.0  (landing page)
Shan V. Andrews
Last Commit: b7e7f56
Last Changed Date: 2020-10-27 10:17:56 -0400
malbec2Linux (Ubuntu 20.04.2 LTS) / x86_64  OK    OK    WARNINGS  UNNEEDED, same version exists in internal repository
riesling1Windows Server 2019 Standard / x64  ERROR    OK    ERROR  
Package 134/402HostnameOS / ArchINSTALLBUILDCHECK
FlowSorted.CordBloodCombined.450k 1.7.0  (landing page)
Lucas A. Salas
Last Commit: e4540b1
Last Changed Date: 2020-10-27 10:29:27 -0400
malbec2Linux (Ubuntu 20.04.2 LTS) / x86_64  OK    OK    OK  UNNEEDED, same version exists in internal repository
riesling1Windows Server 2019 Standard / x64  OK    OK    OK  
Package 135/402HostnameOS / ArchINSTALLBUILDCHECK
FlowSorted.CordBloodNorway.450k 1.17.0  (landing page)
kristina gervin
Last Commit: fbf8a47
Last Changed Date: 2020-10-27 10:22:16 -0400
malbec2Linux (Ubuntu 20.04.2 LTS) / x86_64  OK    OK    WARNINGS  UNNEEDED, same version exists in internal repository
riesling1Windows Server 2019 Standard / x64  OK    OK    WARNINGS  
Package 136/402HostnameOS / ArchINSTALLBUILDCHECK
FlowSorted.DLPFC.450k 1.27.0  (landing page)
Andrew E Jaffe
Last Commit: 6037e4c
Last Changed Date: 2020-10-27 10:08:55 -0400
malbec2Linux (Ubuntu 20.04.2 LTS) / x86_64  OK    OK    WARNINGS  UNNEEDED, same version exists in internal repository
riesling1Windows Server 2019 Standard / x64  OK    OK    WARNINGS  
Package 137/402HostnameOS / ArchINSTALLBUILDCHECK
flowWorkspaceData 3.3.0  (landing page)
Mike Jiang
Last Commit: dba5e30
Last Changed Date: 2020-10-27 09:53:07 -0400
malbec2Linux (Ubuntu 20.04.2 LTS) / x86_64  OK    OK    OK  UNNEEDED, same version exists in internal repository
riesling1Windows Server 2019 Standard / x64  OK    OK    OK  
Package 138/402HostnameOS / ArchINSTALLBUILDCHECK
frmaExampleData 1.27.0  (landing page)
Matthew N. McCall
Last Commit: 1cdae3f
Last Changed Date: 2020-10-27 09:51:30 -0400
malbec2Linux (Ubuntu 20.04.2 LTS) / x86_64  OK    OK    WARNINGS  UNNEEDED, same version exists in internal repository
riesling1Windows Server 2019 Standard / x64  OK    OK    WARNINGS  
Package 139/402HostnameOS / ArchINSTALLBUILDCHECK
furrowSeg 1.19.0  (landing page)
Joseph Barry
Last Commit: dc5fff2
Last Changed Date: 2020-10-27 10:15:35 -0400
malbec2Linux (Ubuntu 20.04.2 LTS) / x86_64  OK    OK    WARNINGS  UNNEEDED, same version exists in internal repository
riesling1Windows Server 2019 Standard / x64  OK    OK    WARNINGS  
G
ABCDEFGHIJKLMNOPQRSTUVWXYZ
Package 140/402HostnameOS / ArchINSTALLBUILDCHECK
gageData 2.29.0  (landing page)
Weijun Luo
Last Commit: 1433cad
Last Changed Date: 2020-10-27 09:52:12 -0400
malbec2Linux (Ubuntu 20.04.2 LTS) / x86_64  OK    OK    OK  UNNEEDED, same version exists in internal repository
riesling1Windows Server 2019 Standard / x64  OK    OK    OK  
Package 141/402HostnameOS / ArchINSTALLBUILDCHECK
gaschYHS 1.29.0  (landing page)
Vince Carey
Last Commit: 75aa933
Last Changed Date: 2020-10-27 09:45:49 -0400
malbec2Linux (Ubuntu 20.04.2 LTS) / x86_64  OK    OK    OK  UNNEEDED, same version exists in internal repository
riesling1Windows Server 2019 Standard / x64  OK    OK    OK  
Package 142/402HostnameOS / ArchINSTALLBUILDCHECK
gatingMLData 2.31.0  (landing page)
J. Spidlen
Last Commit: 947fad1
Last Changed Date: 2020-10-27 09:45:52 -0400
malbec2Linux (Ubuntu 20.04.2 LTS) / x86_64  OK    OK    OK  UNNEEDED, same version exists in internal repository
riesling1Windows Server 2019 Standard / x64  OK    OK    OK  
Package 143/402HostnameOS / ArchINSTALLBUILDCHECK
gcspikelite 1.29.0  (landing page)
Mark Robinson
Last Commit: 2735af6
Last Changed Date: 2020-10-27 09:51:04 -0400
malbec2Linux (Ubuntu 20.04.2 LTS) / x86_64  OK    OK    WARNINGS  UNNEEDED, same version exists in internal repository
riesling1Windows Server 2019 Standard / x64  OK    OK    WARNINGS  
Package 144/402HostnameOS / ArchINSTALLBUILDCHECK
geneLenDataBase 1.27.0  (landing page)
Matthew Young , Nadia Davidson
Last Commit: 3ec14d5
Last Changed Date: 2020-10-27 09:51:48 -0400
malbec2Linux (Ubuntu 20.04.2 LTS) / x86_64  OK    OK    WARNINGS  UNNEEDED, same version exists in internal repository
riesling1Windows Server 2019 Standard / x64  OK    OK    WARNINGS  
Package 145/402HostnameOS / ArchINSTALLBUILDCHECK
genomationData 1.23.0  (landing page)
Vedran Franke
Last Commit: 6fab726
Last Changed Date: 2020-10-27 10:10:52 -0400
malbec2Linux (Ubuntu 20.04.2 LTS) / x86_64  OK    OK    OK  UNNEEDED, same version exists in internal repository
riesling1Windows Server 2019 Standard / x64  OK    OK    OK  
Package 146/402HostnameOS / ArchINSTALLBUILDCHECK
GenomicDistributionsData 0.99.5  (landing page)
Kristyna Kupkova
Last Commit: 08babe7
Last Changed Date: 2020-12-18 10:48:02 -0400
malbec2Linux (Ubuntu 20.04.2 LTS) / x86_64  OK    OK    OK  UNNEEDED, same version exists in internal repository
riesling1Windows Server 2019 Standard / x64  OK    OK    OK  
Package 147/402HostnameOS / ArchINSTALLBUILDCHECK
GeuvadisTranscriptExpr 1.19.0  (landing page)
Malgorzata Nowicka
Last Commit: 5f21f4e
Last Changed Date: 2020-10-27 10:18:49 -0400
malbec2Linux (Ubuntu 20.04.2 LTS) / x86_64  OK    OK    OK  UNNEEDED, same version exists in internal repository
riesling1Windows Server 2019 Standard / x64  OK    OK    OK  
Package 148/402HostnameOS / ArchINSTALLBUILDCHECK
GIGSEAdata 1.9.0  (landing page)
Shijia Zhu
Last Commit: c473585
Last Changed Date: 2020-10-27 10:27:09 -0400
malbec2Linux (Ubuntu 20.04.2 LTS) / x86_64  OK    OK    WARNINGS  UNNEEDED, same version exists in internal repository
riesling1Windows Server 2019 Standard / x64  OK    OK    WARNINGS  
Package 149/402HostnameOS / ArchINSTALLBUILDCHECK
golubEsets 1.33.0  (landing page)
Vince Carey
Last Commit: 7675b7c
Last Changed Date: 2020-10-27 09:46:21 -0400
malbec2Linux (Ubuntu 20.04.2 LTS) / x86_64  OK    OK    OK  UNNEEDED, same version exists in internal repository
riesling1Windows Server 2019 Standard / x64  OK    OK    OK  
Package 150/402HostnameOS / ArchINSTALLBUILDCHECK
gpaExample 1.3.0  (landing page)
Dongjun Chung
Last Commit: f83b25b
Last Changed Date: 2020-10-27 10:31:31 -0400
malbec2Linux (Ubuntu 20.04.2 LTS) / x86_64  OK    OK    OK  UNNEEDED, same version exists in internal repository
riesling1Windows Server 2019 Standard / x64  OK    OK    OK  
Package 151/402HostnameOS / ArchINSTALLBUILDCHECK
grndata 1.23.0  (landing page)
Pau Bellot
Last Commit: bd81c00
Last Changed Date: 2020-10-27 10:11:46 -0400
malbec2Linux (Ubuntu 20.04.2 LTS) / x86_64  OK    OK    WARNINGS  UNNEEDED, same version exists in internal repository
riesling1Windows Server 2019 Standard / x64  OK    OK    WARNINGS  
Package 152/402HostnameOS / ArchINSTALLBUILDCHECK
GSBenchMark 1.11.0  (landing page)
Bahman Afsari
Last Commit: 4a8ef38
Last Changed Date: 2020-10-27 10:09:32 -0400
malbec2Linux (Ubuntu 20.04.2 LTS) / x86_64  OK    OK    OK  UNNEEDED, same version exists in internal repository
riesling1Windows Server 2019 Standard / x64  OK    OK    OK  
Package 153/402HostnameOS / ArchINSTALLBUILDCHECK
GSE62944 1.19.0  (landing page)
Bioconductor Package Maintainer
Last Commit: d6d1209
Last Changed Date: 2020-10-27 10:18:04 -0400
malbec2Linux (Ubuntu 20.04.2 LTS) / x86_64  OK    OK    OK  UNNEEDED, same version exists in internal repository
riesling1Windows Server 2019 Standard / x64  OK    OK    OK  
Package 154/402HostnameOS / ArchINSTALLBUILDCHECK
gskb 1.23.1  (landing page)
Valerie Bares
Last Commit: e04617d
Last Changed Date: 2020-12-07 10:54:31 -0400
malbec2Linux (Ubuntu 20.04.2 LTS) / x86_64  OK    ERROR  skipped
riesling1Windows Server 2019 Standard / x64  OK    ERROR  skipped
Package 155/402HostnameOS / ArchINSTALLBUILDCHECK
GSVAdata 1.27.1  (landing page)
Robert Castelo
Last Commit: 442559c
Last Changed Date: 2021-02-05 13:00:27 -0400
malbec2Linux (Ubuntu 20.04.2 LTS) / x86_64  OK    OK    OK  UNNEEDED, same version exists in internal repository
riesling1Windows Server 2019 Standard / x64  OK    OK    OK  
Package 156/402HostnameOS / ArchINSTALLBUILDCHECK
GWASdata 1.29.0  (landing page)
Stephanie Gogarten , Adrienne Stilp
Last Commit: 41a0bc5
Last Changed Date: 2020-10-27 09:53:53 -0400
malbec2Linux (Ubuntu 20.04.2 LTS) / x86_64  OK    OK    OK  UNNEEDED, same version exists in internal repository
riesling1Windows Server 2019 Standard / x64  OK    OK    OK  
H
ABCDEFGHIJKLMNOPQRSTUVWXYZ
Package 157/402HostnameOS / ArchINSTALLBUILDCHECK
h5vcData 2.11.0  (landing page)
Paul Theodor Pyl
Last Commit: f08040b
Last Changed Date: 2020-10-27 10:06:41 -0400
malbec2Linux (Ubuntu 20.04.2 LTS) / x86_64  OK    OK    OK  UNNEEDED, same version exists in internal repository
riesling1Windows Server 2019 Standard / x64  OK    OK    OK  
Package 158/402HostnameOS / ArchINSTALLBUILDCHECK
hapmap100khind 1.33.0  (landing page)
Benilton Carvalho
Last Commit: 9b84b62
Last Changed Date: 2020-10-27 09:48:03 -0400
malbec2Linux (Ubuntu 20.04.2 LTS) / x86_64  OK    OK    OK  UNNEEDED, same version exists in internal repository
riesling1Windows Server 2019 Standard / x64  OK    OK    OK  
Package 159/402HostnameOS / ArchINSTALLBUILDCHECK
hapmap100kxba 1.33.0  (landing page)
Benilton Carvalho
Last Commit: a8e5e91
Last Changed Date: 2020-10-27 09:47:25 -0400
malbec2Linux (Ubuntu 20.04.2 LTS) / x86_64  OK    OK    OK  UNNEEDED, same version exists in internal repository
riesling1Windows Server 2019 Standard / x64  OK    OK    OK  
Package 160/402HostnameOS / ArchINSTALLBUILDCHECK
hapmap500knsp 1.33.0  (landing page)
Benilton Carvalho
Last Commit: 7c2d418
Last Changed Date: 2020-10-27 09:48:09 -0400
malbec2Linux (Ubuntu 20.04.2 LTS) / x86_64  OK    OK    OK  UNNEEDED, same version exists in internal repository
riesling1Windows Server 2019 Standard / x64  OK    OK    OK  
Package 161/402HostnameOS / ArchINSTALLBUILDCHECK
hapmap500ksty 1.33.0  (landing page)
Benilton Carvalho
Last Commit: bbd79b1
Last Changed Date: 2020-10-27 09:48:18 -0400
malbec2Linux (Ubuntu 20.04.2 LTS) / x86_64  OK    OK    OK  UNNEEDED, same version exists in internal repository
riesling1Windows Server 2019 Standard / x64  OK    OK    OK  
Package 162/402HostnameOS / ArchINSTALLBUILDCHECK
hapmapsnp5 1.33.0  (landing page)
Benilton Carvalho
Last Commit: 0437731
Last Changed Date: 2020-10-27 09:49:14 -0400
malbec2Linux (Ubuntu 20.04.2 LTS) / x86_64  OK    OK    OK  UNNEEDED, same version exists in internal repository
riesling1Windows Server 2019 Standard / x64  OK    OK    OK  
Package 163/402HostnameOS / ArchINSTALLBUILDCHECK
hapmapsnp6 1.33.0  (landing page)
Benilton Carvalho
Last Commit: 0255ee0
Last Changed Date: 2020-10-27 09:49:22 -0400
malbec2Linux (Ubuntu 20.04.2 LTS) / x86_64  OK    OK    OK  UNNEEDED, same version exists in internal repository
riesling1Windows Server 2019 Standard / x64  OK    OK    OK  
Package 164/402HostnameOS / ArchINSTALLBUILDCHECK
harbChIP 1.29.0  (landing page)
VJ Carey
Last Commit: c4fd961
Last Changed Date: 2020-10-27 09:46:24 -0400
malbec2Linux (Ubuntu 20.04.2 LTS) / x86_64  OK    OK    OK  UNNEEDED, same version exists in internal repository
riesling1Windows Server 2019 Standard / x64  OK    OK    OK  
Package 165/402HostnameOS / ArchINSTALLBUILDCHECK
HarmanData 1.19.0  (landing page)
Jason Ross
Last Commit: c1f1c69
Last Changed Date: 2020-10-27 10:19:05 -0400
malbec2Linux (Ubuntu 20.04.2 LTS) / x86_64  OK    OK    WARNINGS  UNNEEDED, same version exists in internal repository
riesling1Windows Server 2019 Standard / x64  OK    OK    WARNINGS  
Package 166/402HostnameOS / ArchINSTALLBUILDCHECK
HarmonizedTCGAData 1.13.0  (landing page)
Tianle Ma
Last Commit: b066fbc
Last Changed Date: 2020-10-27 10:24:16 -0400
malbec2Linux (Ubuntu 20.04.2 LTS) / x86_64  OK    OK    OK  UNNEEDED, same version exists in internal repository
riesling1Windows Server 2019 Standard / x64  OK    OK    OK  
Package 167/402HostnameOS / ArchINSTALLBUILDCHECK
HCAData 1.7.1  (landing page)
Federico Marini
Last Commit: f1c01ea
Last Changed Date: 2021-01-10 19:02:46 -0400
malbec2Linux (Ubuntu 20.04.2 LTS) / x86_64  OK    OK    OK  UNNEEDED, same version exists in internal repository
riesling1Windows Server 2019 Standard / x64  OK    OK    OK  
Package 168/402HostnameOS / ArchINSTALLBUILDCHECK
HD2013SGI 1.31.1  (landing page)
Mike Smith
Last Commit: 85e5027
Last Changed Date: 2021-05-06 10:38:03 -0400
malbec2Linux (Ubuntu 20.04.2 LTS) / x86_64  OK    OK    OK  UNNEEDED, same version exists in internal repository
riesling1Windows Server 2019 Standard / x64  OK    OK    OK  
Package 169/402HostnameOS / ArchINSTALLBUILDCHECK
HDCytoData 1.11.1  (landing page)
Lukas M. Weber
Last Commit: 757e79b
Last Changed Date: 2021-01-25 11:42:23 -0400
malbec2Linux (Ubuntu 20.04.2 LTS) / x86_64  OK    OK    OK  UNNEEDED, same version exists in internal repository
riesling1Windows Server 2019 Standard / x64  OK    OK    OK  
Package 170/402HostnameOS / ArchINSTALLBUILDCHECK
healthyFlowData 1.29.0  (landing page)
Ariful Azad
Last Commit: ab2f22d
Last Changed Date: 2020-10-27 10:07:33 -0400
malbec2Linux (Ubuntu 20.04.2 LTS) / x86_64  OK    OK    OK  UNNEEDED, same version exists in internal repository
riesling1Windows Server 2019 Standard / x64  OK    OK    OK  
Package 171/402HostnameOS / ArchINSTALLBUILDCHECK
HEEBOdata 1.29.0  (landing page)
Agnes Paquet
Last Commit: 39bd59a
Last Changed Date: 2020-10-27 09:46:27 -0400
malbec2Linux (Ubuntu 20.04.2 LTS) / x86_64  OK    OK    WARNINGS  UNNEEDED, same version exists in internal repository
riesling1Windows Server 2019 Standard / x64  OK    OK    WARNINGS  
Package 172/402HostnameOS / ArchINSTALLBUILDCHECK
HelloRangesData 1.17.0  (landing page)
Michael Lawrence
Last Commit: 1c60d59
Last Changed Date: 2020-10-27 10:21:52 -0400
malbec2Linux (Ubuntu 20.04.2 LTS) / x86_64  OK    OK    OK  UNNEEDED, same version exists in internal repository
riesling1Windows Server 2019 Standard / x64  OK    OK    OK  
Package 173/402HostnameOS / ArchINSTALLBUILDCHECK
hgu133abarcodevecs 1.29.0  (landing page)
Matthew N. McCall
Last Commit: b395950
Last Changed Date: 2020-10-27 09:51:42 -0400
malbec2Linux (Ubuntu 20.04.2 LTS) / x86_64  OK    OK    OK  UNNEEDED, same version exists in internal repository
riesling1Windows Server 2019 Standard / x64  OK    OK    OK  
Package 174/402HostnameOS / ArchINSTALLBUILDCHECK
hgu133plus2barcodevecs 1.29.0  (landing page)
Matthew N. McCall
Last Commit: 9cfded7
Last Changed Date: 2020-10-27 09:51:38 -0400
malbec2Linux (Ubuntu 20.04.2 LTS) / x86_64  OK    OK    OK  UNNEEDED, same version exists in internal repository
riesling1Windows Server 2019 Standard / x64  OK    OK    OK  
Package 175/402HostnameOS / ArchINSTALLBUILDCHECK
hgu133plus2CellScore 1.11.0  (landing page)
Nancy Mah
Last Commit: 38c21dd
Last Changed Date: 2020-10-27 10:26:08 -0400
malbec2Linux (Ubuntu 20.04.2 LTS) / x86_64  OK    OK    WARNINGS  UNNEEDED, same version exists in internal repository
riesling1Windows Server 2019 Standard / x64  OK    OK    WARNINGS  
Package 176/402HostnameOS / ArchINSTALLBUILDCHECK
hgu2beta7 1.31.0  (landing page)
Bioconductor Package Maintainer
Last Commit: 1142ddf
Last Changed Date: 2020-10-27 09:46:31 -0400
malbec2Linux (Ubuntu 20.04.2 LTS) / x86_64  OK    OK    WARNINGS  UNNEEDED, same version exists in internal repository
riesling1Windows Server 2019 Standard / x64  OK    OK    WARNINGS  
Package 177/402HostnameOS / ArchINSTALLBUILDCHECK
HiCDataHumanIMR90 1.11.0  (landing page)
Nicolas Servant
Last Commit: fb856ba
Last Changed Date: 2020-10-27 10:09:47 -0400
malbec2Linux (Ubuntu 20.04.2 LTS) / x86_64  OK    OK    OK  UNNEEDED, same version exists in internal repository
riesling1Windows Server 2019 Standard / x64  OK    OK    OK  
Package 178/402HostnameOS / ArchINSTALLBUILDCHECK
HiCDataLymphoblast 1.27.0  (landing page)
Borbala Mifsud
Last Commit: e992ed9
Last Changed Date: 2020-10-27 10:07:01 -0400
malbec2Linux (Ubuntu 20.04.2 LTS) / x86_64  OK    OK    OK  UNNEEDED, same version exists in internal repository
riesling1Windows Server 2019 Standard / x64  OK    OK    OK  
Package 179/402HostnameOS / ArchINSTALLBUILDCHECK
HighlyReplicatedRNASeq 1.3.0  (landing page)
Constantin Ahlmann-Eltze
Last Commit: 5365b41
Last Changed Date: 2020-10-27 10:31:22 -0400
malbec2Linux (Ubuntu 20.04.2 LTS) / x86_64  OK    OK    OK  UNNEEDED, same version exists in internal repository
riesling1Windows Server 2019 Standard / x64  OK    OK    OK  
Package 180/402HostnameOS / ArchINSTALLBUILDCHECK
Hiiragi2013 1.27.0  (landing page)
Andrzej Oles
Last Commit: b179cf6
Last Changed Date: 2020-10-27 10:01:36 -0400
malbec2Linux (Ubuntu 20.04.2 LTS) / x86_64  OK    OK    OK  UNNEEDED, same version exists in internal repository
riesling1Windows Server 2019 Standard / x64  OK    OK    OK  
Package 181/402HostnameOS / ArchINSTALLBUILDCHECK
HIVcDNAvantWout03 1.31.0  (landing page)
Chris Fraley
Last Commit: 3a4e1d5
Last Changed Date: 2020-10-27 09:46:34 -0400
malbec2Linux (Ubuntu 20.04.2 LTS) / x86_64  OK    OK    WARNINGS  UNNEEDED, same version exists in internal repository
riesling1Windows Server 2019 Standard / x64  OK    OK    WARNINGS  
Package 182/402HostnameOS / ArchINSTALLBUILDCHECK
HMP16SData 1.11.0  (landing page)
Lucas Schiffer
Last Commit: 092364b
Last Changed Date: 2020-10-27 10:24:33 -0400
malbec2Linux (Ubuntu 20.04.2 LTS) / x86_64  OK    OK    OK  UNNEEDED, same version exists in internal repository
riesling1Windows Server 2019 Standard / x64  OK    OK    OK  
Package 183/402HostnameOS / ArchINSTALLBUILDCHECK
HMP2Data 1.5.0  (landing page)
John Stansfield , Ekaterina Smirnova
Last Commit: 199fb00
Last Changed Date: 2020-10-27 10:30:12 -0400
malbec2Linux (Ubuntu 20.04.2 LTS) / x86_64  OK    OK    OK  UNNEEDED, same version exists in internal repository
riesling1Windows Server 2019 Standard / x64  OK    OK    OK  
Package 184/402HostnameOS / ArchINSTALLBUILDCHECK
hmyriB36 1.27.1  (landing page)
Vincent Carey
Last Commit: 6d8b85f
Last Changed Date: 2020-11-30 08:25:13 -0400
malbec2Linux (Ubuntu 20.04.2 LTS) / x86_64  ERROR    OK    ERROR  
riesling1Windows Server 2019 Standard / x64  ERROR    OK    ERROR  
Package 185/402HostnameOS / ArchINSTALLBUILDCHECK
HSMMSingleCell 1.11.0  (landing page)
Cole Trapnell
Last Commit: 58c28c0
Last Changed Date: 2020-10-27 10:09:00 -0400
malbec2Linux (Ubuntu 20.04.2 LTS) / x86_64  OK    OK    WARNINGS  UNNEEDED, same version exists in internal repository
riesling1Windows Server 2019 Standard / x64  OK    OK    WARNINGS  
Package 186/402HostnameOS / ArchINSTALLBUILDCHECK
HumanAffyData 1.17.0  (landing page)
Brad Nelms
Last Commit: e519d3f
Last Changed Date: 2020-10-27 10:21:38 -0400
malbec2Linux (Ubuntu 20.04.2 LTS) / x86_64  OK    OK    OK  UNNEEDED, same version exists in internal repository
riesling1Windows Server 2019 Standard / x64  OK    OK    OK  
Package 187/402HostnameOS / ArchINSTALLBUILDCHECK
humanStemCell 0.31.0  (landing page)
R. Gentleman
Last Commit: f26eac3
Last Changed Date: 2020-10-27 09:50:51 -0400
malbec2Linux (Ubuntu 20.04.2 LTS) / x86_64  OK    OK    WARNINGS  UNNEEDED, same version exists in internal repository
riesling1Windows Server 2019 Standard / x64  OK    OK    WARNINGS  
I
ABCDEFGHIJKLMNOPQRSTUVWXYZ
Package 188/402HostnameOS / ArchINSTALLBUILDCHECK
IHWpaper 1.19.4  (landing page)
Nikos Ignatiadis
Last Commit: 52253f5
Last Changed Date: 2021-01-11 23:43:33 -0400
malbec2Linux (Ubuntu 20.04.2 LTS) / x86_64  OK    OK    OK  UNNEEDED, same version exists in internal repository
riesling1Windows Server 2019 Standard / x64  OK    ERROR  skipped
Package 189/402HostnameOS / ArchINSTALLBUILDCHECK
Illumina450ProbeVariants.db 1.27.0  (landing page)
Tiffany Morris
Last Commit: c89f233
Last Changed Date: 2020-10-27 10:06:38 -0400
malbec2Linux (Ubuntu 20.04.2 LTS) / x86_64  OK    OK    OK  UNNEEDED, same version exists in internal repository
riesling1Windows Server 2019 Standard / x64  OK    OK    OK  
Package 190/402HostnameOS / ArchINSTALLBUILDCHECK
IlluminaDataTestFiles 1.29.0  (landing page)
Kasper Daniel Hansen
Last Commit: 8f92bbf
Last Changed Date: 2020-10-27 10:04:40 -0400
malbec2Linux (Ubuntu 20.04.2 LTS) / x86_64  OK    OK    OK  UNNEEDED, same version exists in internal repository
riesling1Windows Server 2019 Standard / x64  OK    OK    OK  
Package 191/402HostnameOS / ArchINSTALLBUILDCHECK
imcdatasets 0.99.9  (landing page)
Nicolas Damond
Last Commit: 9529a1f
Last Changed Date: 2021-04-28 10:03:44 -0400
malbec2Linux (Ubuntu 20.04.2 LTS) / x86_64  OK    OK    OK  UNNEEDED, same version exists in internal repository
riesling1Windows Server 2019 Standard / x64  OK    OK    OK  
Package 192/402HostnameOS / ArchINSTALLBUILDCHECK
ITALICSData 2.29.0  (landing page)
Guillem Rigaill
Last Commit: 3b9d4f3
Last Changed Date: 2020-10-27 09:50:31 -0400
malbec2Linux (Ubuntu 20.04.2 LTS) / x86_64  OK    OK    WARNINGS  UNNEEDED, same version exists in internal repository
riesling1Windows Server 2019 Standard / x64  OK    OK    WARNINGS  
Package 193/402HostnameOS / ArchINSTALLBUILDCHECK
Iyer517 1.33.0  (landing page)
Vince Carey
Last Commit: d489d50
Last Changed Date: 2020-10-27 09:46:37 -0400
malbec2Linux (Ubuntu 20.04.2 LTS) / x86_64  OK    OK    OK  UNNEEDED, same version exists in internal repository
riesling1Windows Server 2019 Standard / x64  OK    OK    OK  
J
ABCDEFGHIJKLMNOPQRSTUVWXYZ
Package 194/402HostnameOS / ArchINSTALLBUILDCHECK
JASPAR2014 1.27.0  (landing page)
Ge Tan
Last Commit: 005f946
Last Changed Date: 2020-10-27 10:05:53 -0400
malbec2Linux (Ubuntu 20.04.2 LTS) / x86_64  OK    OK    WARNINGS  UNNEEDED, same version exists in internal repository
riesling1Windows Server 2019 Standard / x64  OK    OK    WARNINGS  
Package 195/402HostnameOS / ArchINSTALLBUILDCHECK
JASPAR2016 1.19.0  (landing page)
Ge Tan
Last Commit: 15acfcf
Last Changed Date: 2020-10-27 10:15:45 -0400
malbec2Linux (Ubuntu 20.04.2 LTS) / x86_64  OK    OK    OK  UNNEEDED, same version exists in internal repository
riesling1Windows Server 2019 Standard / x64  OK    OK    OK  
Package 196/402HostnameOS / ArchINSTALLBUILDCHECK
JctSeqData 1.21.1  (landing page)
Stephen Hartley
Last Commit: 50b6ba0
Last Changed Date: 2020-11-30 08:25:59 -0400
malbec2Linux (Ubuntu 20.04.2 LTS) / x86_64  OK    OK    ERROR  
riesling1Windows Server 2019 Standard / x64  OK    OK    ERROR  
K
ABCDEFGHIJKLMNOPQRSTUVWXYZ
Package 197/402HostnameOS / ArchINSTALLBUILDCHECK
KEGGandMetacoreDzPathwaysGEO 1.11.0  (landing page)
Gaurav Bhatti
Last Commit: 2a5f8a4
Last Changed Date: 2020-10-27 10:09:09 -0400
malbec2Linux (Ubuntu 20.04.2 LTS) / x86_64  OK    OK    OK  UNNEEDED, same version exists in internal repository
riesling1Windows Server 2019 Standard / x64  OK    OK    OK  
Package 198/402HostnameOS / ArchINSTALLBUILDCHECK
KEGGdzPathwaysGEO 1.29.0  (landing page)
Gaurav Bhatti
Last Commit: 71b93f9
Last Changed Date: 2020-10-27 09:56:50 -0400
malbec2Linux (Ubuntu 20.04.2 LTS) / x86_64  OK    OK    OK  UNNEEDED, same version exists in internal repository
riesling1Windows Server 2019 Standard / x64  OK    OK    OK  
Package 199/402HostnameOS / ArchINSTALLBUILDCHECK
kidpack 1.33.0  (landing page)
Wolfgang Huber
Last Commit: b3e71ba
Last Changed Date: 2020-10-27 09:46:40 -0400
malbec2Linux (Ubuntu 20.04.2 LTS) / x86_64  OK    OK    WARNINGS  UNNEEDED, same version exists in internal repository
riesling1Windows Server 2019 Standard / x64  OK    OK    WARNINGS  
Package 200/402HostnameOS / ArchINSTALLBUILDCHECK
KOdata 1.17.0  (landing page)
Shana White
Last Commit: aff2ad8
Last Changed Date: 2020-10-27 10:21:44 -0400
malbec2Linux (Ubuntu 20.04.2 LTS) / x86_64  OK    OK    WARNINGS  UNNEEDED, same version exists in internal repository
riesling1Windows Server 2019 Standard / x64  OK    OK    WARNINGS  
L
ABCDEFGHIJKLMNOPQRSTUVWXYZ
Package 201/402HostnameOS / ArchINSTALLBUILDCHECK
leeBamViews 1.27.0  (landing page)
VJ Carey
Last Commit: bea5a54
Last Changed Date: 2020-10-27 09:51:45 -0400
malbec2Linux (Ubuntu 20.04.2 LTS) / x86_64  OK    OK    OK  UNNEEDED, same version exists in internal repository
riesling1Windows Server 2019 Standard / x64  OK    OK    OK  
Package 202/402HostnameOS / ArchINSTALLBUILDCHECK
leukemiasEset 1.27.0  (landing page)
Sara Aibar
Last Commit: ae1f667
Last Changed Date: 2020-10-27 10:01:45 -0400
malbec2Linux (Ubuntu 20.04.2 LTS) / x86_64  OK    OK    OK  UNNEEDED, same version exists in internal repository
riesling1Windows Server 2019 Standard / x64  OK    OK    OK  
Package 203/402HostnameOS / ArchINSTALLBUILDCHECK
LiebermanAidenHiC2009 0.29.0  (landing page)
Felix Klein
Last Commit: 22d3990
Last Changed Date: 2020-10-27 09:53:33 -0400
malbec2Linux (Ubuntu 20.04.2 LTS) / x86_64  OK    OK    WARNINGS  UNNEEDED, same version exists in internal repository
riesling1Windows Server 2019 Standard / x64  OK    OK    WARNINGS  
Package 204/402HostnameOS / ArchINSTALLBUILDCHECK
ListerEtAlBSseq 1.23.0  (landing page)
Kamal Kishore
Last Commit: cd9fe96
Last Changed Date: 2020-10-27 10:10:02 -0400
malbec2Linux (Ubuntu 20.04.2 LTS) / x86_64  OK    OK    WARNINGS  UNNEEDED, same version exists in internal repository
riesling1Windows Server 2019 Standard / x64  OK    OK    WARNINGS  
Package 205/402HostnameOS / ArchINSTALLBUILDCHECK
LRcellTypeMarkers 0.99.3  (landing page)
Wenjing Ma
Last Commit: a2bafe0
Last Changed Date: 2021-02-27 11:48:23 -0400
malbec2Linux (Ubuntu 20.04.2 LTS) / x86_64  OK    OK    OK  UNNEEDED, same version exists in internal repository
riesling1Windows Server 2019 Standard / x64  OK    OK    OK  
Package 206/402HostnameOS / ArchINSTALLBUILDCHECK
lumiBarnes 1.31.0  (landing page)
Pan Du
Last Commit: 53e53ef
Last Changed Date: 2020-10-27 09:47:21 -0400
malbec2Linux (Ubuntu 20.04.2 LTS) / x86_64  OK    OK    WARNINGS  UNNEEDED, same version exists in internal repository
riesling1Windows Server 2019 Standard / x64  OK    OK    WARNINGS  
Package 207/402HostnameOS / ArchINSTALLBUILDCHECK
LungCancerACvsSCCGEO 1.27.0  (landing page)
Adi Laurentiu Tarca
Last Commit: a8931b1
Last Changed Date: 2020-10-27 10:04:23 -0400
malbec2Linux (Ubuntu 20.04.2 LTS) / x86_64  OK    OK    OK  UNNEEDED, same version exists in internal repository
riesling1Windows Server 2019 Standard / x64  OK    OK    OK  
Package 208/402HostnameOS / ArchINSTALLBUILDCHECK
LungCancerLines 0.29.0  (landing page)
Cory Barr
Last Commit: d457e3e
Last Changed Date: 2020-10-27 10:00:08 -0400
malbec2Linux (Ubuntu 20.04.2 LTS) / x86_64  OK    OK    OK  UNNEEDED, same version exists in internal repository
riesling1Windows Server 2019 Standard / x64  OK    OK    OK  
Package 209/402HostnameOS / ArchINSTALLBUILDCHECK
lungExpression 0.29.0  (landing page)
Robert Scharpf
Last Commit: 3d6404a
Last Changed Date: 2020-10-27 09:47:18 -0400
malbec2Linux (Ubuntu 20.04.2 LTS) / x86_64  OK    OK    OK  UNNEEDED, same version exists in internal repository
riesling1Windows Server 2019 Standard / x64  OK    OK    OK  
Package 210/402HostnameOS / ArchINSTALLBUILDCHECK
lydata 1.17.0  (landing page)
Alex Pickering
Last Commit: 7110cf1
Last Changed Date: 2020-10-27 10:20:11 -0400
malbec2Linux (Ubuntu 20.04.2 LTS) / x86_64  OK    OK    OK  UNNEEDED, same version exists in internal repository
riesling1Windows Server 2019 Standard / x64  OK    OK    OK  
M
ABCDEFGHIJKLMNOPQRSTUVWXYZ
Package 211/402HostnameOS / ArchINSTALLBUILDCHECK
M3DExampleData 1.17.0  (landing page)
Tallulah Andrews
Last Commit: 4b93228
Last Changed Date: 2020-10-27 10:21:41 -0400
malbec2Linux (Ubuntu 20.04.2 LTS) / x86_64  OK    OK    WARNINGS  UNNEEDED, same version exists in internal repository
riesling1Windows Server 2019 Standard / x64  OK    OK    WARNINGS  
Package 212/402HostnameOS / ArchINSTALLBUILDCHECK
macrophage 1.7.2  (landing page)
Michael Love
Last Commit: 286b3fa
Last Changed Date: 2021-04-17 07:12:52 -0400
malbec2Linux (Ubuntu 20.04.2 LTS) / x86_64  OK    OK    OK  UNNEEDED, same version exists in internal repository
riesling1Windows Server 2019 Standard / x64  OK    OK    OK  
Package 213/402HostnameOS / ArchINSTALLBUILDCHECK
MACSdata 0.99.1  (landing page)
Qiang Hu
Last Commit: 18ae285
Last Changed Date: 2021-02-03 15:39:20 -0400
malbec2Linux (Ubuntu 20.04.2 LTS) / x86_64  OK    OK    OK  UNNEEDED, same version exists in internal repository
riesling1Windows Server 2019 Standard / x64  OK    OK    OK  
Package 214/402HostnameOS / ArchINSTALLBUILDCHECK
mammaPrintData 1.27.0  (landing page)
Luigi Marchionni
Last Commit: c46fc03
Last Changed Date: 2020-10-27 10:02:43 -0400
malbec2Linux (Ubuntu 20.04.2 LTS) / x86_64  OK    OK    OK  UNNEEDED, same version exists in internal repository
riesling1Windows Server 2019 Standard / x64  OK    OK    OK  
Package 215/402HostnameOS / ArchINSTALLBUILDCHECK
mAPKLData 1.23.0  (landing page)
Argiris Sakellariou
Last Commit: 0e6106e
Last Changed Date: 2020-10-27 10:11:15 -0400
malbec2Linux (Ubuntu 20.04.2 LTS) / x86_64  OK    OK    WARNINGS  UNNEEDED, same version exists in internal repository
riesling1Windows Server 2019 Standard / x64  OK    OK    WARNINGS  
Package 216/402HostnameOS / ArchINSTALLBUILDCHECK
maqcExpression4plex 1.35.0  (landing page)
Benilton Carvalho
Last Commit: 1c4f151
Last Changed Date: 2020-10-27 09:47:58 -0400
malbec2Linux (Ubuntu 20.04.2 LTS) / x86_64  OK    OK    OK  UNNEEDED, same version exists in internal repository
riesling1Windows Server 2019 Standard / x64  OK    OK    OK  
Package 217/402HostnameOS / ArchINSTALLBUILDCHECK
MAQCsubset 1.29.0  (landing page)
VJ Carey
Last Commit: 9b3813f
Last Changed Date: 2020-10-27 09:46:43 -0400
malbec2Linux (Ubuntu 20.04.2 LTS) / x86_64  OK    OK    OK  UNNEEDED, same version exists in internal repository
riesling1Windows Server 2019 Standard / x64  OK    OK    OK  
Package 218/402HostnameOS / ArchINSTALLBUILDCHECK
MAQCsubsetAFX 1.29.1  (landing page)
Laurent Gatto
Last Commit: 3204d74
Last Changed Date: 2021-04-13 07:27:34 -0400
malbec2Linux (Ubuntu 20.04.2 LTS) / x86_64  OK    OK    WARNINGS  UNNEEDED, same version exists in internal repository
riesling1Windows Server 2019 Standard / x64  OK    OK    WARNINGS  
Package 219/402HostnameOS / ArchINSTALLBUILDCHECK
MAQCsubsetILM 1.29.0  (landing page)
Laurent Gatto
Last Commit: 45311a6
Last Changed Date: 2020-10-27 09:49:35 -0400
malbec2Linux (Ubuntu 20.04.2 LTS) / x86_64  OK    OK    OK  UNNEEDED, same version exists in internal repository
riesling1Windows Server 2019 Standard / x64  OK    OK    OK  
Package 220/402HostnameOS / ArchINSTALLBUILDCHECK
mCSEAdata 1.11.1  (landing page)
Jordi Martorell Marugán
Last Commit: 07782ff
Last Changed Date: 2020-12-03 06:28:25 -0400
malbec2Linux (Ubuntu 20.04.2 LTS) / x86_64  OK    OK    WARNINGS  UNNEEDED, same version exists in internal repository
riesling1Windows Server 2019 Standard / x64  OK    OK    WARNINGS  
Package 221/402HostnameOS / ArchINSTALLBUILDCHECK
mcsurvdata 1.9.0  (landing page)
Adria Caballe Mestres
Last Commit: 5869dff
Last Changed Date: 2020-10-27 10:27:31 -0400
malbec2Linux (Ubuntu 20.04.2 LTS) / x86_64  OK    OK    OK  UNNEEDED, same version exists in internal repository
riesling1Windows Server 2019 Standard / x64  OK    OK    OK  
Package 222/402HostnameOS / ArchINSTALLBUILDCHECK
MEDIPSData 1.27.0  (landing page)
Lukas Chavez
Last Commit: 77e3a9b
Last Changed Date: 2020-10-27 09:56:26 -0400
malbec2Linux (Ubuntu 20.04.2 LTS) / x86_64  OK    OK    WARNINGS  UNNEEDED, same version exists in internal repository
riesling1Windows Server 2019 Standard / x64  OK    OK    WARNINGS  
Package 223/402HostnameOS / ArchINSTALLBUILDCHECK
MEEBOdata 1.29.0  (landing page)
Agnes Paquet
Last Commit: 217f6d7
Last Changed Date: 2020-10-27 09:46:47 -0400
malbec2Linux (Ubuntu 20.04.2 LTS) / x86_64  OK    OK    WARNINGS  UNNEEDED, same version exists in internal repository
riesling1Windows Server 2019 Standard / x64  OK    OK    WARNINGS  
Package 224/402HostnameOS / ArchINSTALLBUILDCHECK
MetaGxBreast 1.11.1  (landing page)
Benjamin Haibe-Kains
Last Commit: 3ba8f39
Last Changed Date: 2021-04-23 14:54:53 -0400
malbec2Linux (Ubuntu 20.04.2 LTS) / x86_64  OK    OK    OK  UNNEEDED, same version exists in internal repository
riesling1Windows Server 2019 Standard / x64  OK    OK    OK  
Package 225/402HostnameOS / ArchINSTALLBUILDCHECK
MetaGxOvarian 1.11.0  (landing page)
Michael Zon
Last Commit: 0f765b3
Last Changed Date: 2020-10-27 10:26:19 -0400
malbec2Linux (Ubuntu 20.04.2 LTS) / x86_64  OK    OK    WARNINGS  UNNEEDED, same version exists in internal repository
riesling1Windows Server 2019 Standard / x64  OK    OK    OK  
Package 226/402HostnameOS / ArchINSTALLBUILDCHECK
MetaGxPancreas 1.11.0  (landing page)
Michael Zon
Last Commit: 73feea8
Last Changed Date: 2020-10-27 10:26:36 -0400
malbec2Linux (Ubuntu 20.04.2 LTS) / x86_64  OK    OK    OK  UNNEEDED, same version exists in internal repository
riesling1Windows Server 2019 Standard / x64  OK    OK    OK  
Package 227/402HostnameOS / ArchINSTALLBUILDCHECK
metaMSdata 1.27.0  (landing page)
Yann Guitton
Last Commit: 589e2fb
Last Changed Date: 2020-10-27 10:08:44 -0400
malbec2Linux (Ubuntu 20.04.2 LTS) / x86_64  OK    OK    OK  UNNEEDED, same version exists in internal repository
riesling1Windows Server 2019 Standard / x64  OK    OK    OK  
Package 228/402HostnameOS / ArchINSTALLBUILDCHECK
MethylAidData 1.23.0  (landing page)
M. van Iterson
Last Commit: 5980a97
Last Changed Date: 2020-10-27 10:12:16 -0400
malbec2Linux (Ubuntu 20.04.2 LTS) / x86_64  OK    OK    OK  UNNEEDED, same version exists in internal repository
riesling1Windows Server 2019 Standard / x64  OK    OK    OK  
Package 229/402HostnameOS / ArchINSTALLBUILDCHECK
methylclockData 0.99.16  (landing page)
Juan R. Gonzalez
Last Commit: dc97e2d
Last Changed Date: 2021-01-21 14:31:07 -0400
malbec2Linux (Ubuntu 20.04.2 LTS) / x86_64  OK    OK    OK  UNNEEDED, same version exists in internal repository
riesling1Windows Server 2019 Standard / x64  OK    OK    OK  
Package 230/402HostnameOS / ArchINSTALLBUILDCHECK
MethylSeqData 1.1.1  (landing page)
Peter Hickey
Last Commit: c1b2572
Last Changed Date: 2020-11-24 19:59:48 -0400
malbec2Linux (Ubuntu 20.04.2 LTS) / x86_64  OK    OK    OK  UNNEEDED, same version exists in internal repository
riesling1Windows Server 2019 Standard / x64  OK    OK    OK  
Package 231/402HostnameOS / ArchINSTALLBUILDCHECK
microbiomeDataSets 0.99.5  (landing page)
Felix G.M. Ernst
Last Commit: dc1f324
Last Changed Date: 2021-01-28 04:14:38 -0400
malbec2Linux (Ubuntu 20.04.2 LTS) / x86_64  OK    OK    OK  UNNEEDED, same version exists in internal repository
riesling1Windows Server 2019 Standard / x64  OK    OK    OK  
Package 232/402HostnameOS / ArchINSTALLBUILDCHECK
microRNAome 1.13.0  (landing page)
Matthew N. McCall
Last Commit: b0f289b
Last Changed Date: 2020-10-27 10:23:03 -0400
malbec2Linux (Ubuntu 20.04.2 LTS) / x86_64  OK    OK    OK  UNNEEDED, same version exists in internal repository
riesling1Windows Server 2019 Standard / x64  OK    OK    OK  
Package 233/402HostnameOS / ArchINSTALLBUILDCHECK
MIGSAdata 1.15.0  (landing page)
Juan C. Rodriguez
Last Commit: f10eae5
Last Changed Date: 2020-10-27 10:22:40 -0400
malbec2Linux (Ubuntu 20.04.2 LTS) / x86_64  OK    OK    OK  UNNEEDED, same version exists in internal repository
riesling1Windows Server 2019 Standard / x64  OK    OK    OK  
Package 234/402HostnameOS / ArchINSTALLBUILDCHECK
minfiData 0.37.1  (landing page)
Kasper Daniel Hansen
Last Commit: fae8f37
Last Changed Date: 2021-04-06 00:36:46 -0400
malbec2Linux (Ubuntu 20.04.2 LTS) / x86_64  OK    OK    WARNINGS  UNNEEDED, same version exists in internal repository
riesling1Windows Server 2019 Standard / x64  OK    OK    WARNINGS  
Package 235/402HostnameOS / ArchINSTALLBUILDCHECK
minfiDataEPIC 1.17.0  (landing page)
Kasper Daniel Hansen
Last Commit: a24474c
Last Changed Date: 2020-10-27 10:20:06 -0400
malbec2Linux (Ubuntu 20.04.2 LTS) / x86_64  OK    OK    WARNINGS  UNNEEDED, same version exists in internal repository
riesling1Windows Server 2019 Standard / x64  OK    OK    WARNINGS  
Package 236/402HostnameOS / ArchINSTALLBUILDCHECK
minionSummaryData 1.21.0  (landing page)
Mike Smith
Last Commit: 83f642b
Last Changed Date: 2020-10-27 10:13:32 -0400
malbec2Linux (Ubuntu 20.04.2 LTS) / x86_64  OK    OK    OK  UNNEEDED, same version exists in internal repository
riesling1Windows Server 2019 Standard / x64  OK    OK    OK  
Package 237/402HostnameOS / ArchINSTALLBUILDCHECK
miRcompData 1.21.0  (landing page)
Matthew N. McCall
Last Commit: 5e07723
Last Changed Date: 2020-10-27 10:14:55 -0400
malbec2Linux (Ubuntu 20.04.2 LTS) / x86_64  OK    OK    OK  UNNEEDED, same version exists in internal repository
riesling1Windows Server 2019 Standard / x64  OK    OK    OK  
Package 238/402HostnameOS / ArchINSTALLBUILDCHECK
miRNATarget 1.29.0  (landing page)
Y-h. Taguchi
Last Commit: a1cadec
Last Changed Date: 2020-10-27 09:55:35 -0400
malbec2Linux (Ubuntu 20.04.2 LTS) / x86_64  OK    OK    OK  UNNEEDED, same version exists in internal repository
riesling1Windows Server 2019 Standard / x64  OK    OK    OK  
Package 239/402HostnameOS / ArchINSTALLBUILDCHECK
MMAPPR2data 1.5.0  (landing page)
Jonathon Hill
Last Commit: c8ef69f
Last Changed Date: 2020-10-27 10:30:27 -0400
malbec2Linux (Ubuntu 20.04.2 LTS) / x86_64  OK    OK    OK  UNNEEDED, same version exists in internal repository
riesling1Windows Server 2019 Standard / x64  OK    OK    OK  
Package 240/402HostnameOS / ArchINSTALLBUILDCHECK
MMDiffBamSubset 1.27.0  (landing page)
Gabriele Schweikert
Last Commit: 209a507
Last Changed Date: 2020-10-27 10:01:49 -0400
malbec2Linux (Ubuntu 20.04.2 LTS) / x86_64  OK    OK    OK  UNNEEDED, same version exists in internal repository
riesling1Windows Server 2019 Standard / x64  OK    OK    OK  
Package 241/402HostnameOS / ArchINSTALLBUILDCHECK
MOFAdata 1.7.0  (landing page)
Britta Velten
Last Commit: 4f579fc
Last Changed Date: 2020-10-27 10:29:48 -0400
malbec2Linux (Ubuntu 20.04.2 LTS) / x86_64  OK    OK    OK  UNNEEDED, same version exists in internal repository
riesling1Windows Server 2019 Standard / x64  OK    OK    OK  
Package 242/402HostnameOS / ArchINSTALLBUILDCHECK
mosaicsExample 1.29.0  (landing page)
Dongjun Chung
Last Commit: 87936e4
Last Changed Date: 2020-10-27 09:52:15 -0400
malbec2Linux (Ubuntu 20.04.2 LTS) / x86_64  OK    OK    OK  UNNEEDED, same version exists in internal repository
riesling1Windows Server 2019 Standard / x64  OK    OK    OK  
Package 243/402HostnameOS / ArchINSTALLBUILDCHECK
mouse4302barcodevecs 1.29.0  (landing page)
Matthew N. McCall
Last Commit: 58b1173
Last Changed Date: 2020-10-27 09:51:35 -0400
malbec2Linux (Ubuntu 20.04.2 LTS) / x86_64  OK    OK    OK  UNNEEDED, same version exists in internal repository
riesling1Windows Server 2019 Standard / x64  OK    OK    OK  
Package 244/402HostnameOS / ArchINSTALLBUILDCHECK
MouseGastrulationData 1.5.7  (landing page)
Jonathan Griffiths
Last Commit: 265bdc5
Last Changed Date: 2021-04-08 12:22:10 -0400
malbec2Linux (Ubuntu 20.04.2 LTS) / x86_64  OK    OK    ERROR  
riesling1Windows Server 2019 Standard / x64  OK    OK    ERROR  
Package 245/402HostnameOS / ArchINSTALLBUILDCHECK
MouseThymusAgeing 0.99.5  (landing page)
Mike Morgan
Last Commit: aab71c8
Last Changed Date: 2021-04-22 04:51:04 -0400
malbec2Linux (Ubuntu 20.04.2 LTS) / x86_64  OK    OK    OK  UNNEEDED, same version exists in internal repository
riesling1Windows Server 2019 Standard / x64  OK    OK    OK  
Package 246/402HostnameOS / ArchINSTALLBUILDCHECK
msd16s 1.11.0  (landing page)
Joseph N. Paulson
Last Commit: b9470df
Last Changed Date: 2020-10-27 10:09:17 -0400
malbec2Linux (Ubuntu 20.04.2 LTS) / x86_64  OK    OK    OK  UNNEEDED, same version exists in internal repository
riesling1Windows Server 2019 Standard / x64  OK    OK    OK  
Package 247/402HostnameOS / ArchINSTALLBUILDCHECK
msdata 0.31.1  (landing page)
Steffen Neumann , Laurent Gatto
Last Commit: d1cc52d
Last Changed Date: 2020-12-29 12:36:57 -0400
malbec2Linux (Ubuntu 20.04.2 LTS) / x86_64  OK    OK    OK  UNNEEDED, same version exists in internal repository
riesling1Windows Server 2019 Standard / x64  OK    OK    OK  
Package 248/402HostnameOS / ArchINSTALLBUILDCHECK
MSMB 1.9.0  (landing page)
Wolfgang Huber
Last Commit: 47c031e
Last Changed Date: 2020-10-27 10:26:58 -0400
malbec2Linux (Ubuntu 20.04.2 LTS) / x86_64  OK    OK    WARNINGS  UNNEEDED, same version exists in internal repository
riesling1Windows Server 2019 Standard / x64  OK    OK    WARNINGS  
Package 249/402HostnameOS / ArchINSTALLBUILDCHECK
msPurityData 1.19.0  (landing page)
Thomas N. Lawson
Last Commit: 22f7e42
Last Changed Date: 2020-10-27 10:19:23 -0400
malbec2Linux (Ubuntu 20.04.2 LTS) / x86_64  OK    OK    OK  UNNEEDED, same version exists in internal repository
riesling1Windows Server 2019 Standard / x64  OK    OK    OK  
Package 250/402HostnameOS / ArchINSTALLBUILDCHECK
msqc1 1.19.0  (landing page)
Christian Panse
Last Commit: 3b30289
Last Changed Date: 2020-10-27 10:18:07 -0400
malbec2Linux (Ubuntu 20.04.2 LTS) / x86_64  OK    OK    OK  UNNEEDED, same version exists in internal repository
riesling1Windows Server 2019 Standard / x64  OK    OK    OK  
Package 251/402HostnameOS / ArchINSTALLBUILDCHECK
MSstatsBioData 1.13.0  (landing page)
Meena Choi
Last Commit: 026711e
Last Changed Date: 2020-10-27 10:23:13 -0400
malbec2Linux (Ubuntu 20.04.2 LTS) / x86_64  OK    OK    WARNINGS  UNNEEDED, same version exists in internal repository
riesling1Windows Server 2019 Standard / x64  OK    OK    WARNINGS  
Package 252/402HostnameOS / ArchINSTALLBUILDCHECK
mtbls2 1.21.2  (landing page)
Steffen Neumann
Last Commit: eada574
Last Changed Date: 2021-05-03 02:49:16 -0400
malbec2Linux (Ubuntu 20.04.2 LTS) / x86_64  OK    OK    OK  UNNEEDED, same version exists in internal repository
riesling1Windows Server 2019 Standard / x64  OK    OK    OK  
Package 253/402HostnameOS / ArchINSTALLBUILDCHECK
MUGAExampleData 1.11.0  (landing page)
Daniel Gatti
Last Commit: eae8f71
Last Changed Date: 2020-10-27 10:09:20 -0400
malbec2Linux (Ubuntu 20.04.2 LTS) / x86_64  OK    OK    OK  UNNEEDED, same version exists in internal repository
riesling1Windows Server 2019 Standard / x64  OK    OK    OK  
Package 254/402HostnameOS / ArchINSTALLBUILDCHECK
muscData 1.5.0  (landing page)
Helena L. Crowell
Last Commit: 7badd0c
Last Changed Date: 2020-10-27 10:30:24 -0400
malbec2Linux (Ubuntu 20.04.2 LTS) / x86_64  OK    OK    WARNINGS  UNNEEDED, same version exists in internal repository
riesling1Windows Server 2019 Standard / x64  OK    OK    WARNINGS  
Package 255/402HostnameOS / ArchINSTALLBUILDCHECK
mvoutData 1.27.0  (landing page)
VJ Carey
Last Commit: 7cfc3a6
Last Changed Date: 2020-10-27 09:51:01 -0400
malbec2Linux (Ubuntu 20.04.2 LTS) / x86_64  OK    OK    OK  UNNEEDED, same version exists in internal repository
riesling1Windows Server 2019 Standard / x64  OK    OK    OK  
N
ABCDEFGHIJKLMNOPQRSTUVWXYZ
Package 256/402HostnameOS / ArchINSTALLBUILDCHECK
NanoporeRNASeq 1.1.0  (landing page)
Ying Chen Developer
Last Commit: 2f70e73
Last Changed Date: 2020-10-27 10:32:40 -0400
malbec2Linux (Ubuntu 20.04.2 LTS) / x86_64  OK    OK    OK  UNNEEDED, same version exists in internal repository
riesling1Windows Server 2019 Standard / x64  OK    OK    OK  
Package 257/402HostnameOS / ArchINSTALLBUILDCHECK
nanotubes 1.7.0  (landing page)
Malte Thodberg
Last Commit: e9d6b69
Last Changed Date: 2020-10-27 10:29:55 -0400
malbec2Linux (Ubuntu 20.04.2 LTS) / x86_64  OK    OK    OK  UNNEEDED, same version exists in internal repository
riesling1Windows Server 2019 Standard / x64  OK    OK    OK  
Package 258/402HostnameOS / ArchINSTALLBUILDCHECK
NCIgraphData 1.27.0  (landing page)
Laurent Jacob
Last Commit: a0595f2
Last Changed Date: 2020-10-27 09:53:01 -0400
malbec2Linux (Ubuntu 20.04.2 LTS) / x86_64  OK    OK    WARNINGS  UNNEEDED, same version exists in internal repository
riesling1Windows Server 2019 Standard / x64  OK    OK    WARNINGS  
Package 259/402HostnameOS / ArchINSTALLBUILDCHECK
NestLink 1.7.0  (landing page)
Lennart Opitz
Last Commit: 3b487be
Last Changed Date: 2020-10-27 10:29:06 -0400
malbec2Linux (Ubuntu 20.04.2 LTS) / x86_64  OK    OK    OK  UNNEEDED, same version exists in internal repository
riesling1Windows Server 2019 Standard / x64  OK    OK    OK  
Package 260/402HostnameOS / ArchINSTALLBUILDCHECK
Neve2006 0.29.0  (landing page)
VJ Carey
Last Commit: 7f475e1
Last Changed Date: 2020-10-27 09:47:52 -0400
malbec2Linux (Ubuntu 20.04.2 LTS) / x86_64  OK    OK    OK  UNNEEDED, same version exists in internal repository
riesling1Windows Server 2019 Standard / x64  OK    OK    OK  
Package 261/402HostnameOS / ArchINSTALLBUILDCHECK
NGScopyData 1.11.0  (landing page)
Xiaobei Zhao
Last Commit: 0e1ad8d
Last Changed Date: 2020-10-27 10:10:21 -0400
malbec2Linux (Ubuntu 20.04.2 LTS) / x86_64  OK    OK    OK  UNNEEDED, same version exists in internal repository
riesling1Windows Server 2019 Standard / x64  OK    OK    OK  
O
ABCDEFGHIJKLMNOPQRSTUVWXYZ
Package 262/402HostnameOS / ArchINSTALLBUILDCHECK
ObMiTi 0.99.7  (landing page)
Omar Elashkar
Last Commit: a62304a
Last Changed Date: 2021-04-20 22:15:06 -0400
malbec2Linux (Ubuntu 20.04.2 LTS) / x86_64  OK    OK    OK  UNNEEDED, same version exists in internal repository
riesling1Windows Server 2019 Standard / x64  OK    OK    OK  
Package 263/402HostnameOS / ArchINSTALLBUILDCHECK
oct4 1.7.2  (landing page)
Michael Love
Last Commit: a66c885
Last Changed Date: 2021-04-17 07:13:29 -0400
malbec2Linux (Ubuntu 20.04.2 LTS) / x86_64  OK    OK    OK  UNNEEDED, same version exists in internal repository
riesling1Windows Server 2019 Standard / x64  OK    OK    OK  
Package 264/402HostnameOS / ArchINSTALLBUILDCHECK
OMICsPCAdata 1.9.0  (landing page)
Subhadeep Das
Last Commit: e1aa246
Last Changed Date: 2020-10-27 10:27:55 -0400
malbec2Linux (Ubuntu 20.04.2 LTS) / x86_64  OK    OK    WARNINGS  UNNEEDED, same version exists in internal repository
riesling1Windows Server 2019 Standard / x64  OK    OK    WARNINGS  
Package 265/402HostnameOS / ArchINSTALLBUILDCHECK
OnassisJavaLibs 1.13.0  (landing page)
Eugenia Galeota
Last Commit: a612d9f
Last Changed Date: 2020-10-27 10:23:07 -0400
malbec2Linux (Ubuntu 20.04.2 LTS) / x86_64  OK    OK    OK  UNNEEDED, same version exists in internal repository
riesling1Windows Server 2019 Standard / x64  OK    OK    OK  
Package 266/402HostnameOS / ArchINSTALLBUILDCHECK
optimalFlowData 1.3.0  (landing page)
Hristo Inouzhe
Last Commit: 69d9138
Last Changed Date: 2020-10-27 10:31:47 -0400
malbec2Linux (Ubuntu 20.04.2 LTS) / x86_64  OK    OK    WARNINGS  UNNEEDED, same version exists in internal repository
riesling1Windows Server 2019 Standard / x64  OK    OK    WARNINGS  
P
ABCDEFGHIJKLMNOPQRSTUVWXYZ
Package 267/402HostnameOS / ArchINSTALLBUILDCHECK
parathyroidSE 1.29.0  (landing page)
Michael Love
Last Commit: 1681586
Last Changed Date: 2020-10-27 10:00:51 -0400
malbec2Linux (Ubuntu 20.04.2 LTS) / x86_64  OK    OK    OK  UNNEEDED, same version exists in internal repository
riesling1Windows Server 2019 Standard / x64  OK    OK    OK  
Package 268/402HostnameOS / ArchINSTALLBUILDCHECK
pasilla 1.19.1  (landing page)
Alejandro Reyes
Last Commit: d3b4885
Last Changed Date: 2020-12-23 13:08:31 -0400
malbec2Linux (Ubuntu 20.04.2 LTS) / x86_64  OK    OK    WARNINGS  UNNEEDED, same version exists in internal repository
riesling1Windows Server 2019 Standard / x64  OK    OK    WARNINGS  
Package 269/402HostnameOS / ArchINSTALLBUILDCHECK
pasillaBamSubset 0.29.0  (landing page)
Hervé Pagès
Last Commit: 660e8d9
Last Changed Date: 2020-10-27 09:55:24 -0400
malbec2Linux (Ubuntu 20.04.2 LTS) / x86_64  OK    OK    OK  UNNEEDED, same version exists in internal repository
riesling1Windows Server 2019 Standard / x64  OK    OK    OK  
Package 270/402HostnameOS / ArchINSTALLBUILDCHECK
PasillaTranscriptExpr 1.19.0  (landing page)
Malgorzata Nowicka
Last Commit: 83b7f7f
Last Changed Date: 2020-10-27 10:18:56 -0400
malbec2Linux (Ubuntu 20.04.2 LTS) / x86_64  OK    OK    OK  UNNEEDED, same version exists in internal repository
riesling1Windows Server 2019 Standard / x64  OK    OK    OK  
Package 271/402HostnameOS / ArchINSTALLBUILDCHECK
PathNetData 1.27.1  (landing page)
Ludwig Geistlinger
Last Commit: c330b00
Last Changed Date: 2020-12-09 17:13:56 -0400
malbec2Linux (Ubuntu 20.04.2 LTS) / x86_64  OK    OK    OK  UNNEEDED, same version exists in internal repository
riesling1Windows Server 2019 Standard / x64  OK    OK    OK  
Package 272/402HostnameOS / ArchINSTALLBUILDCHECK
PCHiCdata 1.19.0  (landing page)
Paula Freire-Pritchett
Last Commit: ee05a18
Last Changed Date: 2020-10-27 10:14:58 -0400
malbec2Linux (Ubuntu 20.04.2 LTS) / x86_64  OK    OK    WARNINGS  UNNEEDED, same version exists in internal repository
riesling1Windows Server 2019 Standard / x64  OK    OK    WARNINGS  
Package 273/402HostnameOS / ArchINSTALLBUILDCHECK
pcxnData 2.13.0  (landing page)
Sokratis Kariotis
Last Commit: bc0ba62
Last Changed Date: 2020-10-27 10:24:20 -0400
malbec2Linux (Ubuntu 20.04.2 LTS) / x86_64  OK    OK    WARNINGS  UNNEEDED, same version exists in internal repository
riesling1Windows Server 2019 Standard / x64  OK    OK    WARNINGS  
Package 274/402HostnameOS / ArchINSTALLBUILDCHECK
pd.atdschip.tiling 0.29.0  (landing page)
Kristof De Beuf
Last Commit: c41aa07
Last Changed Date: 2020-10-27 09:56:59 -0400
malbec2Linux (Ubuntu 20.04.2 LTS) / x86_64  OK    OK    WARNINGS  UNNEEDED, same version exists in internal repository
riesling1Windows Server 2019 Standard / x64  OK    OK    WARNINGS  
Package 275/402HostnameOS / ArchINSTALLBUILDCHECK
pepDat 1.11.0  (landing page)
Renan Sauteraud
Last Commit: b26683e
Last Changed Date: 2020-10-27 10:09:25 -0400
malbec2Linux (Ubuntu 20.04.2 LTS) / x86_64  OK    OK    OK  UNNEEDED, same version exists in internal repository
riesling1Windows Server 2019 Standard / x64  OK    OK    OK  
Package 276/402HostnameOS / ArchINSTALLBUILDCHECK
PepsNMRData 1.9.0  (landing page)
Manon Martin
Last Commit: 3922255
Last Changed Date: 2020-10-27 10:28:45 -0400
malbec2Linux (Ubuntu 20.04.2 LTS) / x86_64  OK    OK    WARNINGS  UNNEEDED, same version exists in internal repository
riesling1Windows Server 2019 Standard / x64  OK    OK    WARNINGS  
Package 277/402HostnameOS / ArchINSTALLBUILDCHECK
PhyloProfileData 1.5.0  (landing page)
Vinh Tran
Last Commit: 7131833
Last Changed Date: 2020-10-27 10:30:39 -0400
malbec2Linux (Ubuntu 20.04.2 LTS) / x86_64  OK    OK    OK  UNNEEDED, same version exists in internal repository
riesling1Windows Server 2019 Standard / x64  OK    OK    OK  
Package 278/402HostnameOS / ArchINSTALLBUILDCHECK
plasFIA 1.19.2  (landing page)
Alexis Delabriere
Last Commit: a66627e
Last Changed Date: 2021-03-30 13:30:49 -0400
malbec2Linux (Ubuntu 20.04.2 LTS) / x86_64  OK    OK    OK  UNNEEDED, same version exists in internal repository
riesling1Windows Server 2019 Standard / x64  OK    OK    OK  
Package 279/402HostnameOS / ArchINSTALLBUILDCHECK
ppiData 0.29.0  (landing page)
Bioconductor Package Maintainer
Last Commit: b2d6691
Last Changed Date: 2020-10-27 09:46:51 -0400
malbec2Linux (Ubuntu 20.04.2 LTS) / x86_64  OK    OK    WARNINGS  UNNEEDED, same version exists in internal repository
riesling1Windows Server 2019 Standard / x64  OK    OK    WARNINGS  
Package 280/402HostnameOS / ArchINSTALLBUILDCHECK
prebsdata 1.27.0  (landing page)
Karolis Uziela
Last Commit: 24e7136
Last Changed Date: 2020-10-27 10:02:06 -0400
malbec2Linux (Ubuntu 20.04.2 LTS) / x86_64  OK    OK    OK  UNNEEDED, same version exists in internal repository
riesling1Windows Server 2019 Standard / x64  OK    OK    OK  
Package 281/402HostnameOS / ArchINSTALLBUILDCHECK
preciseTADhub 0.99.8  (landing page)
Spiro Stilianoudakis
Last Commit: ab31195
Last Changed Date: 2020-11-25 14:40:40 -0400
malbec2Linux (Ubuntu 20.04.2 LTS) / x86_64  OK    OK    OK  UNNEEDED, same version exists in internal repository
riesling1Windows Server 2019 Standard / x64  OK    OK    OK  
Package 282/402HostnameOS / ArchINSTALLBUILDCHECK
PREDAsampledata 0.31.0  (landing page)
Francesco Ferrari
Last Commit: 17ef1f0
Last Changed Date: 2020-10-27 09:53:39 -0400
malbec2Linux (Ubuntu 20.04.2 LTS) / x86_64  OK    OK    OK  UNNEEDED, same version exists in internal repository
riesling1Windows Server 2019 Standard / x64  OK    OK    OK  
Package 283/402HostnameOS / ArchINSTALLBUILDCHECK
ProData 1.29.0  (landing page)
Xiaochun Li
Last Commit: 90f517c
Last Changed Date: 2020-10-27 09:46:54 -0400
malbec2Linux (Ubuntu 20.04.2 LTS) / x86_64  OK    OK    OK  UNNEEDED, same version exists in internal repository
riesling1Windows Server 2019 Standard / x64  OK    OK    OK  
Package 284/402HostnameOS / ArchINSTALLBUILDCHECK
pRolocdata 1.29.0  (landing page)
Laurent Gatto
Last Commit: 43ec622
Last Changed Date: 2020-10-27 10:00:16 -0400
malbec2Linux (Ubuntu 20.04.2 LTS) / x86_64  OK    OK    OK  UNNEEDED, same version exists in internal repository
riesling1Windows Server 2019 Standard / x64  OK    OK    OK  
Package 285/402HostnameOS / ArchINSTALLBUILDCHECK
prostateCancerCamcap 1.19.0  (landing page)
Mark Dunning
Last Commit: 8869711
Last Changed Date: 2020-10-27 10:18:10 -0400
malbec2Linux (Ubuntu 20.04.2 LTS) / x86_64  OK    OK    WARNINGS  UNNEEDED, same version exists in internal repository
riesling1Windows Server 2019 Standard / x64  OK    OK    WARNINGS  
Package 286/402HostnameOS / ArchINSTALLBUILDCHECK
prostateCancerGrasso 1.19.0  (landing page)
Mark Dunning
Last Commit: ce1c1fe
Last Changed Date: 2020-10-27 10:18:19 -0400
malbec2Linux (Ubuntu 20.04.2 LTS) / x86_64  OK    OK    WARNINGS  UNNEEDED, same version exists in internal repository
riesling1Windows Server 2019 Standard / x64  OK    OK    WARNINGS  
Package 287/402HostnameOS / ArchINSTALLBUILDCHECK
prostateCancerStockholm 1.19.0  (landing page)
Mark Dunning
Last Commit: 74d2ee4
Last Changed Date: 2020-10-27 10:18:16 -0400
malbec2Linux (Ubuntu 20.04.2 LTS) / x86_64  OK    OK    WARNINGS  UNNEEDED, same version exists in internal repository
riesling1Windows Server 2019 Standard / x64  OK    OK    WARNINGS  
Package 288/402HostnameOS / ArchINSTALLBUILDCHECK
prostateCancerTaylor 1.19.0  (landing page)
Mark Dunning
Last Commit: 594bd01
Last Changed Date: 2020-10-27 10:18:13 -0400
malbec2Linux (Ubuntu 20.04.2 LTS) / x86_64  OK    OK    WARNINGS  UNNEEDED, same version exists in internal repository
riesling1Windows Server 2019 Standard / x64  OK    OK    WARNINGS  
Package 289/402HostnameOS / ArchINSTALLBUILDCHECK
prostateCancerVarambally 1.19.0  (landing page)
Mark Dunning
Last Commit: b22c3ec
Last Changed Date: 2020-10-27 10:18:22 -0400
malbec2Linux (Ubuntu 20.04.2 LTS) / x86_64  OK    OK    WARNINGS  UNNEEDED, same version exists in internal repository
riesling1Windows Server 2019 Standard / x64  OK    OK    WARNINGS  
Package 290/402HostnameOS / ArchINSTALLBUILDCHECK
ptairData 0.99.8  (landing page)
camille Roquencourt
Last Commit: 5dc7ed2
Last Changed Date: 2021-04-08 09:00:12 -0400
malbec2Linux (Ubuntu 20.04.2 LTS) / x86_64  OK    OK    OK  UNNEEDED, same version exists in internal repository
riesling1Windows Server 2019 Standard / x64  OK    OK    OK  
Package 291/402HostnameOS / ArchINSTALLBUILDCHECK
PtH2O2lipids 1.17.0  (landing page)
James Collins
Last Commit: 4f4a24b
Last Changed Date: 2020-10-27 10:21:27 -0400
malbec2Linux (Ubuntu 20.04.2 LTS) / x86_64  OK    OK    WARNINGS  UNNEEDED, same version exists in internal repository
riesling1Windows Server 2019 Standard / x64  OK    OK    WARNINGS  
Package 292/402HostnameOS / ArchINSTALLBUILDCHECK
pumadata 2.27.0  (landing page)
Xuejun liu
Last Commit: b7849ba
Last Changed Date: 2020-10-27 09:47:30 -0400
malbec2Linux (Ubuntu 20.04.2 LTS) / x86_64  OK    OK    OK  UNNEEDED, same version exists in internal repository
riesling1Windows Server 2019 Standard / x64  OK    OK    OK  
Package 293/402HostnameOS / ArchINSTALLBUILDCHECK
PWMEnrich.Dmelanogaster.background 4.25.0  (landing page)
Diego Diez
Last Commit: 364c36a
Last Changed Date: 2020-10-27 09:55:42 -0400
malbec2Linux (Ubuntu 20.04.2 LTS) / x86_64  OK    OK    WARNINGS  UNNEEDED, same version exists in internal repository
riesling1Windows Server 2019 Standard / x64  OK    OK    WARNINGS  
Package 294/402HostnameOS / ArchINSTALLBUILDCHECK
PWMEnrich.Hsapiens.background 4.25.0  (landing page)
Diego Diez
Last Commit: a4f474f
Last Changed Date: 2020-10-27 10:05:45 -0400
malbec2Linux (Ubuntu 20.04.2 LTS) / x86_64  OK    OK    WARNINGS  UNNEEDED, same version exists in internal repository
riesling1Windows Server 2019 Standard / x64  OK    OK    WARNINGS  
Package 295/402HostnameOS / ArchINSTALLBUILDCHECK
PWMEnrich.Mmusculus.background 4.25.0  (landing page)
Diego Diez
Last Commit: 87e7fcf
Last Changed Date: 2020-10-27 10:05:50 -0400
malbec2Linux (Ubuntu 20.04.2 LTS) / x86_64  OK    OK    OK  UNNEEDED, same version exists in internal repository
riesling1Windows Server 2019 Standard / x64  OK    OK    OK  
Package 296/402HostnameOS / ArchINSTALLBUILDCHECK
pwrEWAS.data 1.5.0  (landing page)
Stefan Graw
Last Commit: 39a0396
Last Changed Date: 2020-10-27 10:30:50 -0400
malbec2Linux (Ubuntu 20.04.2 LTS) / x86_64  OK    OK    OK  UNNEEDED, same version exists in internal repository
riesling1Windows Server 2019 Standard / x64  OK    OK    OK  
Q
ABCDEFGHIJKLMNOPQRSTUVWXYZ
Package 297/402HostnameOS / ArchINSTALLBUILDCHECK
QDNAseq.hg19 1.21.0  (landing page)
Daoud Sie
Last Commit: ee8d568
Last Changed Date: 2020-10-27 10:14:40 -0400
malbec2Linux (Ubuntu 20.04.2 LTS) / x86_64  OK    OK    OK  UNNEEDED, same version exists in internal repository
riesling1Windows Server 2019 Standard / x64  OK    OK    OK  
Package 298/402HostnameOS / ArchINSTALLBUILDCHECK
QDNAseq.mm10 1.21.0  (landing page)
Daoud Sie
Last Commit: 8ef5bae
Last Changed Date: 2020-10-27 10:14:43 -0400
malbec2Linux (Ubuntu 20.04.2 LTS) / x86_64  OK    OK    OK  UNNEEDED, same version exists in internal repository
riesling1Windows Server 2019 Standard / x64  OK    OK    OK  
Package 299/402HostnameOS / ArchINSTALLBUILDCHECK
qPLEXdata 1.9.0  (landing page)
Kamal Kishore Developer
Last Commit: ffaf3d3
Last Changed Date: 2020-10-27 10:27:05 -0400
malbec2Linux (Ubuntu 20.04.2 LTS) / x86_64  OK    OK    WARNINGS  UNNEEDED, same version exists in internal repository
riesling1Windows Server 2019 Standard / x64  OK    OK    WARNINGS  
Package 300/402HostnameOS / ArchINSTALLBUILDCHECK
QUBICdata 1.19.0  (landing page)
Yu Zhang
Last Commit: 8b1d051
Last Changed Date: 2020-10-27 10:18:59 -0400
malbec2Linux (Ubuntu 20.04.2 LTS) / x86_64  OK    OK    OK  UNNEEDED, same version exists in internal repository
riesling1Windows Server 2019 Standard / x64  OK    OK    OK  
R
ABCDEFGHIJKLMNOPQRSTUVWXYZ
Package 301/402HostnameOS / ArchINSTALLBUILDCHECK
rcellminerData 2.13.4  (landing page)
Augustin Luna , Vinodh Rajapakse
Last Commit: 621eb6c
Last Changed Date: 2021-04-13 08:02:39 -0400
malbec2Linux (Ubuntu 20.04.2 LTS) / x86_64  OK    OK    WARNINGS  UNNEEDED, same version exists in internal repository
riesling1Windows Server 2019 Standard / x64  OK    OK    WARNINGS  
Package 302/402HostnameOS / ArchINSTALLBUILDCHECK
RcisTarget.hg19.motifDBs.cisbpOnly.500bp 1.11.0  (landing page)
Sara Aibar
Last Commit: 785eefa
Last Changed Date: 2020-10-27 10:25:56 -0400
malbec2Linux (Ubuntu 20.04.2 LTS) / x86_64  OK    OK    OK  UNNEEDED, same version exists in internal repository
riesling1Windows Server 2019 Standard / x64  OK    OK    OK  
Package 303/402HostnameOS / ArchINSTALLBUILDCHECK
ReactomeGSA.data 1.5.0  (landing page)
Johannes Griss
Last Commit: 568a8ad
Last Changed Date: 2020-10-27 10:30:46 -0400
malbec2Linux (Ubuntu 20.04.2 LTS) / x86_64  OK    OK    OK  UNNEEDED, same version exists in internal repository
riesling1Windows Server 2019 Standard / x64  OK    OK    OK  
Package 304/402HostnameOS / ArchINSTALLBUILDCHECK
RegParallel 1.9.3  (landing page)
Kevin Blighe
Last Commit: 3deef1c
Last Changed Date: 2021-04-20 19:53:53 -0400
malbec2Linux (Ubuntu 20.04.2 LTS) / x86_64  OK    OK    OK  UNNEEDED, same version exists in internal repository
riesling1Windows Server 2019 Standard / x64  OK    OK    OK  
Package 305/402HostnameOS / ArchINSTALLBUILDCHECK
restfulSEData 1.13.0  (landing page)
Bioconductor Package Maintainer
Last Commit: aa6ec92
Last Changed Date: 2020-10-27 10:23:17 -0400
malbec2Linux (Ubuntu 20.04.2 LTS) / x86_64  OK    OK    OK  UNNEEDED, same version exists in internal repository
riesling1Windows Server 2019 Standard / x64  OK    OK    OK  
Package 306/402HostnameOS / ArchINSTALLBUILDCHECK
RforProteomics 1.29.2  (landing page)
Laurent Gatto
Last Commit: 68db25d
Last Changed Date: 2020-12-09 16:21:27 -0400
malbec2Linux (Ubuntu 20.04.2 LTS) / x86_64  OK    OK    WARNINGS  UNNEEDED, same version exists in internal repository
riesling1Windows Server 2019 Standard / x64  OK    OK    ERROR  
Package 307/402HostnameOS / ArchINSTALLBUILDCHECK
RGMQLlib 1.11.0  (landing page)
Simone Pallotta
Last Commit: ffa3e2e
Last Changed Date: 2020-10-27 10:24:41 -0400
malbec2Linux (Ubuntu 20.04.2 LTS) / x86_64  OK    OK    OK  UNNEEDED, same version exists in internal repository
riesling1Windows Server 2019 Standard / x64  OK    OK    OK  
Package 308/402HostnameOS / ArchINSTALLBUILDCHECK
rheumaticConditionWOLLBOLD 1.29.0  (landing page)
Alejandro Quiroz-Zarate
Last Commit: 91ceab7
Last Changed Date: 2020-10-27 09:54:45 -0400
malbec2Linux (Ubuntu 20.04.2 LTS) / x86_64  OK    OK    OK  UNNEEDED, same version exists in internal repository
riesling1Windows Server 2019 Standard / x64  OK    OK    OK  
Package 309/402HostnameOS / ArchINSTALLBUILDCHECK
RITANdata 1.15.0  (landing page)
Michael Zimmermann
Last Commit: df319fe
Last Changed Date: 2020-10-27 10:23:00 -0400
malbec2Linux (Ubuntu 20.04.2 LTS) / x86_64  OK    OK    WARNINGS  UNNEEDED, same version exists in internal repository
riesling1Windows Server 2019 Standard / x64  OK    OK    WARNINGS  
Package 310/402HostnameOS / ArchINSTALLBUILDCHECK
RMassBankData 1.29.0  (landing page)
Michael Stravs, Emma Schymanski
Last Commit: ac7d85c
Last Changed Date: 2020-10-27 09:56:34 -0400
malbec2Linux (Ubuntu 20.04.2 LTS) / x86_64  OK    OK    OK  UNNEEDED, same version exists in internal repository
riesling1Windows Server 2019 Standard / x64  OK    OK    OK  
Package 311/402HostnameOS / ArchINSTALLBUILDCHECK
RNAinteractMAPK 1.29.2  (landing page)
Mike Smith
Last Commit: 00531ae
Last Changed Date: 2021-05-07 09:38:31 -0400
malbec2Linux (Ubuntu 20.04.2 LTS) / x86_64  OK    OK    OK  UNNEEDED, same version exists in internal repository
riesling1Windows Server 2019 Standard / x64  OK    OK   &nb