Back to Build/check report for BioC 3.19 experimental data
ABCDEFGHIJKLMN[O]PQRSTUVWXYZ

This page was generated on 2023-12-07 14:51:01 -0500 (Thu, 07 Dec 2023).

HostnameOSArch (*)R versionInstalled pkgs
nebbiolo1Linux (Ubuntu 22.04.2 LTS)x86_64R Under development (unstable) (2023-11-11 r85510) -- "Unsuffered Consequences" 4609
Click on any hostname to see more info about the system (e.g. compilers)      (*) as reported by 'uname -p', except on Windows and Mac OS X

All results for package OMICsPCAdata


To the developers/maintainers of the OMICsPCAdata package:
- Use the following Renviron settings to reproduce errors and warnings.
- If 'R CMD check' started to fail recently on the Linux builder(s) over a missing dependency, add the missing dependency to 'Suggests:' in your DESCRIPTION file. See Renviron.bioc for more information.

raw results

Package 272/420HostnameOS / ArchINSTALLBUILDCHECK
OMICsPCAdata 1.21.0  (landing page)
Subhadeep Das
Snapshot Date: 2023-12-07 07:30:02 -0500 (Thu, 07 Dec 2023)
git_url: https://git.bioconductor.org/packages/OMICsPCAdata
git_branch: devel
git_last_commit: 5f51186
git_last_commit_date: 2023-10-24 09:18:47 -0500 (Tue, 24 Oct 2023)
nebbiolo1Linux (Ubuntu 22.04.2 LTS) / x86_64  OK    OK    WARNINGS  UNNEEDED, same version is already published