Back to Build/check report for BioC 3.20 experimental data
AB[C]DEFGHIJKLMNOPQRSTUVWXYZ

This page was generated on 2024-06-20 14:51 -0400 (Thu, 20 Jun 2024).

HostnameOSArch (*)R versionInstalled pkgs
nebbiolo2Linux (Ubuntu 22.04.3 LTS)x86_644.4.0 RC (2024-04-16 r86468) -- "Puppy Cup" 4687
Click on any hostname to see more info about the system (e.g. compilers)      (*) as reported by 'uname -p', except on Windows and Mac OS X

Package 52/425HostnameOS / ArchINSTALLBUILDCHECK
ChAMPdata 2.37.0  (landing page)
Yuan Tian
Snapshot Date: 2024-06-20 07:30 -0400 (Thu, 20 Jun 2024)
git_url: https://git.bioconductor.org/packages/ChAMPdata
git_branch: devel
git_last_commit: 38aa067
git_last_commit_date: 2024-04-30 10:40:30 -0400 (Tue, 30 Apr 2024)
nebbiolo2Linux (Ubuntu 22.04.3 LTS) / x86_64  OK    OK    WARNINGS  UNNEEDED, same version is already published


BUILD results for ChAMPdata on nebbiolo2

To the developers/maintainers of the ChAMPdata package:
- Use the following Renviron settings to reproduce errors and warnings.
- If 'R CMD check' started to fail recently on the Linux builder(s) over a missing dependency, add the missing dependency to 'Suggests:' in your DESCRIPTION file. See Renviron.bioc for more information.

raw results


Summary

Package: ChAMPdata
Version: 2.37.0
Command: /home/biocbuild/bbs-3.20-bioc/R/bin/R CMD build --keep-empty-dirs --no-resave-data ChAMPdata
StartedAt: 2024-06-20 10:15:06 -0400 (Thu, 20 Jun 2024)
EndedAt: 2024-06-20 10:16:04 -0400 (Thu, 20 Jun 2024)
EllapsedTime: 58.3 seconds
RetCode: 0
Status:   OK  
PackageFile: ChAMPdata_2.37.0.tar.gz
PackageFileSize: 667.1 MiB

Command output

##############################################################################
##############################################################################
###
### Running command:
###
###   /home/biocbuild/bbs-3.20-bioc/R/bin/R CMD build --keep-empty-dirs --no-resave-data ChAMPdata
###
##############################################################################
##############################################################################


* checking for file ‘ChAMPdata/DESCRIPTION’ ... OK
* preparing ‘ChAMPdata’:
* checking DESCRIPTION meta-information ... OK
* checking for LF line-endings in source and make files and shell scripts
* checking for empty or unneeded directories
* looking to see if a ‘data/datalist’ file should be added
  NB: this package now depends on R (>= 3.5.0)
  WARNING: Added dependency on R >= 3.5.0 because serialized objects in
  serialize/load version 3 cannot be read in older versions of R.
  File(s) containing such objects:
    ‘ChAMPdata/data/illumina450Gr.rda’
    ‘ChAMPdata/data/illuminaEPICGr.rda’
* building ‘ChAMPdata_2.37.0.tar.gz’