Back to Build/check report for BioC 3.18 experimental data
ABCDEFGHIJKLMNOPQR[S]TUVWXYZ

This page was generated on 2023-05-30 14:51:39 -0400 (Tue, 30 May 2023).

HostnameOSArch (*)R versionInstalled pkgs
nebbiolo2Linux (Ubuntu 22.04.2 LTS)x86_644.3.0 RC (2023-04-18 r84287) -- "Already Tomorrow" 4587
Click on any hostname to see more info about the system (e.g. compilers)      (*) as reported by 'uname -p', except on Windows and Mac OS X

All results for package scanMiRData


To the developers/maintainers of the scanMiRData package:
Use the following Renviron settings to reproduce errors and warnings.

Note: If "R CMD check" recently failed on the Linux builder over a missing dependency, add the missing dependency to "Suggests" in your DESCRIPTION file. See the Renviron.bioc for details.

raw results

Package 342/419HostnameOS / ArchINSTALLBUILDCHECK
scanMiRData 1.7.0  (landing page)
Fridolin Gross
Snapshot Date: 2023-05-30 07:30:02 -0400 (Tue, 30 May 2023)
git_url: https://git.bioconductor.org/packages/scanMiRData
git_branch: devel
git_last_commit: 2220051
git_last_commit_date: 2023-04-25 10:50:27 -0400 (Tue, 25 Apr 2023)
nebbiolo2Linux (Ubuntu 22.04.2 LTS) / x86_64  OK    OK    OK  UNNEEDED, same version is already published