Back to Build/check report for BioC 3.15 experimental data
ABCDEFGHIJKLMNOPQ[R]STUVWXYZ

This page was generated on 2022-01-23 08:37:09 -0500 (Sun, 23 Jan 2022).

HostnameOSArch (*)R versionInstalled pkgs
nebbiolo2Linux (Ubuntu 20.04.4 LTS)x86_64R Under development (unstable) (2022-01-05 r81451) -- "Unsuffered Consequences" 1325
Click on any hostname to see more info about the system (e.g. compilers)      (*) as reported by 'uname -p', except on Windows and Mac OS X

All results for package RnBeads.rn5


To the developers/maintainers of the RnBeads.rn5 package:
Make sure to use the following settings in order to reproduce any error or warning you see on this page.

raw results

Package 319/406HostnameOS / ArchINSTALLBUILDCHECK
RnBeads.rn5 1.27.1  (landing page)
RnBeadsAnnotationCreator
Snapshot Date: 2022-01-23 04:00:02 -0500 (Sun, 23 Jan 2022)
git_url: https://git.bioconductor.org/packages/RnBeads.rn5
git_branch: master
git_last_commit: 3eda4e4
git_last_commit_date: 2021-11-21 23:32:53 -0500 (Sun, 21 Nov 2021)
nebbiolo2Linux (Ubuntu 20.04.4 LTS) / x86_64  OK    OK    OK  UNNEEDED, same version is already published