Back to Build/check report for BioC 3.20 experimental data
ABCDEFGHIJKLMNOPQR[S]TUVWXYZ

This page was generated on 2024-07-11 14:51 -0400 (Thu, 11 Jul 2024).

HostnameOSArch (*)R versionInstalled pkgs
nebbiolo2Linux (Ubuntu 22.04.3 LTS)x86_644.4.1 (2024-06-14) -- "Race for Your Life" 4675
Click on any hostname to see more info about the system (e.g. compilers)      (*) as reported by 'uname -p', except on Windows and Mac OS X

Package 342/425HostnameOS / ArchINSTALLBUILDCHECK
sampleClassifierData 1.29.0  (landing page)
Khadija El Amrani
Snapshot Date: 2024-07-11 07:30 -0400 (Thu, 11 Jul 2024)
git_url: https://git.bioconductor.org/packages/sampleClassifierData
git_branch: devel
git_last_commit: e9632f9
git_last_commit_date: 2024-04-30 11:08:05 -0400 (Tue, 30 Apr 2024)
nebbiolo2Linux (Ubuntu 22.04.3 LTS) / x86_64  OK    OK    OK  UNNEEDED, same version is already published


INSTALL results for sampleClassifierData on nebbiolo2

To the developers/maintainers of the sampleClassifierData package:
- Use the following Renviron settings to reproduce errors and warnings.
- If 'R CMD check' started to fail recently on the Linux builder(s) over a missing dependency, add the missing dependency to 'Suggests:' in your DESCRIPTION file. See Renviron.bioc for more information.

raw results


Summary

Package: sampleClassifierData
Version: 1.29.0
Command: /home/biocbuild/bbs-3.20-bioc/R/bin/R CMD INSTALL sampleClassifierData
StartedAt: 2024-07-11 10:05:39 -0400 (Thu, 11 Jul 2024)
EndedAt: 2024-07-11 10:05:51 -0400 (Thu, 11 Jul 2024)
EllapsedTime: 12.2 seconds
RetCode: 0
Status:   OK  

Command output

##############################################################################
##############################################################################
###
### Running command:
###
###   /home/biocbuild/bbs-3.20-bioc/R/bin/R CMD INSTALL sampleClassifierData
###
##############################################################################
##############################################################################


* installing to library ‘/home/biocbuild/bbs-3.20-bioc/R/site-library’
* installing *source* package ‘sampleClassifierData’ ...
** using staged installation
** data
** help
*** installing help indices
** building package indices
** installing vignettes
** testing if installed package can be loaded from temporary location
** testing if installed package can be loaded from final location
** testing if installed package keeps a record of temporary installation path
* DONE (sampleClassifierData)