Back to Build/check report for BioC 3.20 experimental data
ABCDEFGHIJKLMNOPQR[S]TUVWXYZ

This page was generated on 2024-06-20 14:51 -0400 (Thu, 20 Jun 2024).

HostnameOSArch (*)R versionInstalled pkgs
nebbiolo2Linux (Ubuntu 22.04.3 LTS)x86_644.4.0 RC (2024-04-16 r86468) -- "Puppy Cup" 4687
Click on any hostname to see more info about the system (e.g. compilers)      (*) as reported by 'uname -p', except on Windows and Mac OS X

Package 350/425HostnameOS / ArchINSTALLBUILDCHECK
scRNAseq 2.19.0  (landing page)
Aaron Lun
Snapshot Date: 2024-06-20 07:30 -0400 (Thu, 20 Jun 2024)
git_url: https://git.bioconductor.org/packages/scRNAseq
git_branch: devel
git_last_commit: 098395e
git_last_commit_date: 2024-06-17 01:08:49 -0400 (Mon, 17 Jun 2024)
nebbiolo2Linux (Ubuntu 22.04.3 LTS) / x86_64  OK    OK    OK  UNNEEDED, same version is already published


BUILD results for scRNAseq on nebbiolo2

To the developers/maintainers of the scRNAseq package:
- Use the following Renviron settings to reproduce errors and warnings.
- If 'R CMD check' started to fail recently on the Linux builder(s) over a missing dependency, add the missing dependency to 'Suggests:' in your DESCRIPTION file. See Renviron.bioc for more information.

raw results


Summary

Package: scRNAseq
Version: 2.19.0
Command: /home/biocbuild/bbs-3.20-bioc/R/bin/R CMD build --keep-empty-dirs --no-resave-data scRNAseq
StartedAt: 2024-06-20 10:50:18 -0400 (Thu, 20 Jun 2024)
EndedAt: 2024-06-20 10:51:28 -0400 (Thu, 20 Jun 2024)
EllapsedTime: 69.9 seconds
RetCode: 0
Status:   OK  
PackageFile: scRNAseq_2.19.0.tar.gz
PackageFileSize: 302.6 KiB

Command output

##############################################################################
##############################################################################
###
### Running command:
###
###   /home/biocbuild/bbs-3.20-bioc/R/bin/R CMD build --keep-empty-dirs --no-resave-data scRNAseq
###
##############################################################################
##############################################################################


* checking for file ‘scRNAseq/DESCRIPTION’ ... OK
* preparing ‘scRNAseq’:
* checking DESCRIPTION meta-information ... OK
* installing the package to process help pages
* saving partial Rd database
* creating vignettes ... OK
* checking for LF line-endings in source and make files and shell scripts
* checking for empty or unneeded directories
* building ‘scRNAseq_2.19.0.tar.gz’