Back to Build/check report for BioC 3.20 experimental data
ABC[D]EFGHIJKLMNOPQRSTUVWXYZ

This page was generated on 2024-07-11 14:51 -0400 (Thu, 11 Jul 2024).

HostnameOSArch (*)R versionInstalled pkgs
nebbiolo2Linux (Ubuntu 22.04.3 LTS)x86_644.4.1 (2024-06-14) -- "Race for Your Life" 4675
Click on any hostname to see more info about the system (e.g. compilers)      (*) as reported by 'uname -p', except on Windows and Mac OS X

Package 88/425HostnameOS / ArchINSTALLBUILDCHECK
davidTiling 1.45.0  (landing page)
Wolfgang Huber
Snapshot Date: 2024-07-11 07:30 -0400 (Thu, 11 Jul 2024)
git_url: https://git.bioconductor.org/packages/davidTiling
git_branch: devel
git_last_commit: db98743
git_last_commit_date: 2024-04-30 10:26:40 -0400 (Tue, 30 Apr 2024)
nebbiolo2Linux (Ubuntu 22.04.3 LTS) / x86_64  OK    OK    WARNINGS  UNNEEDED, same version is already published


BUILD results for davidTiling on nebbiolo2

To the developers/maintainers of the davidTiling package:
- Use the following Renviron settings to reproduce errors and warnings.
- If 'R CMD check' started to fail recently on the Linux builder(s) over a missing dependency, add the missing dependency to 'Suggests:' in your DESCRIPTION file. See Renviron.bioc for more information.

raw results


Summary

Package: davidTiling
Version: 1.45.0
Command: /home/biocbuild/bbs-3.20-bioc/R/bin/R CMD build --keep-empty-dirs --no-resave-data davidTiling
StartedAt: 2024-07-11 10:20:31 -0400 (Thu, 11 Jul 2024)
EndedAt: 2024-07-11 10:21:39 -0400 (Thu, 11 Jul 2024)
EllapsedTime: 67.8 seconds
RetCode: 0
Status:   OK  
PackageFile: davidTiling_1.45.0.tar.gz
PackageFileSize: 537.7 MiB

Command output

##############################################################################
##############################################################################
###
### Running command:
###
###   /home/biocbuild/bbs-3.20-bioc/R/bin/R CMD build --keep-empty-dirs --no-resave-data davidTiling
###
##############################################################################
##############################################################################


* checking for file ‘davidTiling/DESCRIPTION’ ... OK
* preparing ‘davidTiling’:
* checking DESCRIPTION meta-information ... OK
* checking for LF line-endings in source and make files and shell scripts
* checking for empty or unneeded directories
* looking to see if a ‘data/datalist’ file should be added
* building ‘davidTiling_1.45.0.tar.gz’