Back to Build/check report for BioC 3.20 experimental data
ABCDEFGHIJ[K]LMNOPQRSTUVWXYZ

This page was generated on 2024-07-11 14:51 -0400 (Thu, 11 Jul 2024).

HostnameOSArch (*)R versionInstalled pkgs
nebbiolo2Linux (Ubuntu 22.04.3 LTS)x86_644.4.1 (2024-06-14) -- "Race for Your Life" 4675
Click on any hostname to see more info about the system (e.g. compilers)      (*) as reported by 'uname -p', except on Windows and Mac OS X

Package 206/425HostnameOS / ArchINSTALLBUILDCHECK
KOdata 1.31.0  (landing page)
Shana White
Snapshot Date: 2024-07-11 07:30 -0400 (Thu, 11 Jul 2024)
git_url: https://git.bioconductor.org/packages/KOdata
git_branch: devel
git_last_commit: 36425c7
git_last_commit_date: 2024-04-30 10:48:05 -0400 (Tue, 30 Apr 2024)
nebbiolo2Linux (Ubuntu 22.04.3 LTS) / x86_64  OK    OK    WARNINGS  UNNEEDED, same version is already published


BUILD results for KOdata on nebbiolo2

To the developers/maintainers of the KOdata package:
- Use the following Renviron settings to reproduce errors and warnings.
- If 'R CMD check' started to fail recently on the Linux builder(s) over a missing dependency, add the missing dependency to 'Suggests:' in your DESCRIPTION file. See Renviron.bioc for more information.

raw results


Summary

Package: KOdata
Version: 1.31.0
Command: /home/biocbuild/bbs-3.20-bioc/R/bin/R CMD build --keep-empty-dirs --no-resave-data KOdata
StartedAt: 2024-07-11 10:34:48 -0400 (Thu, 11 Jul 2024)
EndedAt: 2024-07-11 10:34:51 -0400 (Thu, 11 Jul 2024)
EllapsedTime: 3.0 seconds
RetCode: 0
Status:   OK  
PackageFile: KOdata_1.31.0.tar.gz
PackageFileSize: 31.77 MiB

Command output

##############################################################################
##############################################################################
###
### Running command:
###
###   /home/biocbuild/bbs-3.20-bioc/R/bin/R CMD build --keep-empty-dirs --no-resave-data KOdata
###
##############################################################################
##############################################################################


* checking for file ‘KOdata/DESCRIPTION’ ... OK
* preparing ‘KOdata’:
* checking DESCRIPTION meta-information ... OK
* checking for LF line-endings in source and make files and shell scripts
* checking for empty or unneeded directories
* building ‘KOdata_1.31.0.tar.gz’