Back to Build/check report for BioC 3.15 experimental data
A[B]CDEFGHIJKLMNOPQRSTUVWXYZ

This page was generated on 2022-01-16 08:36:52 -0500 (Sun, 16 Jan 2022).

HostnameOSArch (*)R versionInstalled pkgs
nebbiolo2Linux (Ubuntu 20.04.4 LTS)x86_64R Under development (unstable) (2022-01-05 r81451) -- "Unsuffered Consequences" 1325
Click on any hostname to see more info about the system (e.g. compilers)      (*) as reported by 'uname -p', except on Windows and Mac OS X

All results for package BeadArrayUseCases


To the developers/maintainers of the BeadArrayUseCases package:
Make sure to use the following settings in order to reproduce any error or warning you see on this page.

raw results

Package 23/406HostnameOS / ArchINSTALLBUILDCHECK
BeadArrayUseCases 1.33.0  (landing page)
Mike Smith
Snapshot Date: 2022-01-16 04:00:01 -0500 (Sun, 16 Jan 2022)
git_url: https://git.bioconductor.org/packages/BeadArrayUseCases
git_branch: master
git_last_commit: b15b092
git_last_commit_date: 2021-10-26 11:47:45 -0500 (Tue, 26 Oct 2021)
nebbiolo2Linux (Ubuntu 20.04.4 LTS) / x86_64  OK    OK    OK  UNNEEDED, same version is already published