Back to Build/check report for BioC 3.19 experimental data
ABCDEFGHIJKLMN[O]PQRSTUVWXYZ

This page was generated on 2024-02-22 14:51:23 -0500 (Thu, 22 Feb 2024).

HostnameOSArch (*)R versionInstalled pkgs
nebbiolo1Linux (Ubuntu 22.04.3 LTS)x86_64R Under development (unstable) (2024-01-16 r85808) -- "Unsuffered Consequences" 4657
Click on any hostname to see more info about the system (e.g. compilers)      (*) as reported by 'uname -p', except on Windows and Mac OS X

All results for package orthosData


To the developers/maintainers of the orthosData package:
- Use the following Renviron settings to reproduce errors and warnings.
- If 'R CMD check' started to fail recently on the Linux builder(s) over a missing dependency, add the missing dependency to 'Suggests:' in your DESCRIPTION file. See Renviron.bioc for more information.

raw results

Package 276/422HostnameOS / ArchINSTALLBUILDCHECK
orthosData 1.1.0  (landing page)
Panagiotis Papasaikas
Snapshot Date: 2024-02-22 07:30:02 -0500 (Thu, 22 Feb 2024)
git_url: https://git.bioconductor.org/packages/orthosData
git_branch: devel
git_last_commit: c96d7a4
git_last_commit_date: 2023-10-24 09:24:38 -0500 (Tue, 24 Oct 2023)
nebbiolo1Linux (Ubuntu 22.04.3 LTS) / x86_64  OK    OK    ERROR