Back to Build/check report for BioC 3.16 experimental data |
|
This page was generated on 2022-06-30 14:50:28 -0400 (Thu, 30 Jun 2022).
Hostname | OS | Arch (*) | R version | Installed pkgs |
---|---|---|---|---|
nebbiolo2 | Linux (Ubuntu 20.04.4 LTS) | x86_64 | 4.2.0 Patched (2022-06-02 r82447) -- "Vigorous Calisthenics" | 4343 |
Click on any hostname to see more info about the system (e.g. compilers) (*) as reported by 'uname -p', except on Windows and Mac OS X |
To the developers/maintainers of the mammaPrintData package: Make sure to use the following settings in order to reproduce any error or warning you see on this page. |
Package 210/407 | Hostname | OS / Arch | INSTALL | BUILD | CHECK | ||||||||
mammaPrintData 1.33.0 (landing page) Luigi Marchionni
| nebbiolo2 | Linux (Ubuntu 20.04.4 LTS) / x86_64 | OK | OK | OK | ![]() | |||||||
Package: mammaPrintData |
Version: 1.33.0 |
Command: /home/biocbuild/bbs-3.16-bioc/R/bin/R CMD build --keep-empty-dirs --no-resave-data mammaPrintData |
StartedAt: 2022-06-30 10:29:47 -0400 (Thu, 30 Jun 2022) |
EndedAt: 2022-06-30 10:30:28 -0400 (Thu, 30 Jun 2022) |
EllapsedTime: 40.6 seconds |
RetCode: 0 |
Status: OK |
PackageFile: mammaPrintData_1.33.0.tar.gz |
PackageFileSize: 214.1 MiB |
############################################################################## ############################################################################## ### ### Running command: ### ### /home/biocbuild/bbs-3.16-bioc/R/bin/R CMD build --keep-empty-dirs --no-resave-data mammaPrintData ### ############################################################################## ############################################################################## * checking for file ‘mammaPrintData/DESCRIPTION’ ... OK * preparing ‘mammaPrintData’: * checking DESCRIPTION meta-information ... OK * checking whether ‘INDEX’ is up-to-date ... NO * use ‘--force’ to remove the existing ‘INDEX’ * installing the package to build vignettes * creating vignettes ... OK * checking for LF line-endings in source and make files and shell scripts * checking for empty or unneeded directories * looking to see if a ‘data/datalist’ file should be added * building ‘mammaPrintData_1.33.0.tar.gz’