Back to Build/check report for BioC 3.16 experimental data
[A]BCDEFGHIJKLMNOPQRSTUVWXYZ

This page was generated on 2022-06-30 14:50:25 -0400 (Thu, 30 Jun 2022).

HostnameOSArch (*)R versionInstalled pkgs
nebbiolo2Linux (Ubuntu 20.04.4 LTS)x86_644.2.0 Patched (2022-06-02 r82447) -- "Vigorous Calisthenics" 4343
Click on any hostname to see more info about the system (e.g. compilers)      (*) as reported by 'uname -p', except on Windows and Mac OS X

BUILD results for ALL on nebbiolo2


To the developers/maintainers of the ALL package:
Make sure to use the following settings in order to reproduce any error or warning you see on this page.

raw results

Package 10/407HostnameOS / ArchINSTALLBUILDCHECK
ALL 1.39.0  (landing page)
Robert Gentleman
Snapshot Date: 2022-06-30 07:30:01 -0400 (Thu, 30 Jun 2022)
git_url: https://git.bioconductor.org/packages/ALL
git_branch: master
git_last_commit: 2ca3a2d
git_last_commit_date: 2022-04-26 12:54:29 -0400 (Tue, 26 Apr 2022)
nebbiolo2Linux (Ubuntu 20.04.4 LTS) / x86_64  OK    OK    OK  UNNEEDED, same version is already published

Summary

Package: ALL
Version: 1.39.0
Command: /home/biocbuild/bbs-3.16-bioc/R/bin/R CMD build --keep-empty-dirs --no-resave-data ALL
StartedAt: 2022-06-30 10:11:13 -0400 (Thu, 30 Jun 2022)
EndedAt: 2022-06-30 10:11:24 -0400 (Thu, 30 Jun 2022)
EllapsedTime: 11.0 seconds
RetCode: 0
Status:   OK  
PackageFile: ALL_1.39.0.tar.gz
PackageFileSize: 10.86 MiB

Command output

##############################################################################
##############################################################################
###
### Running command:
###
###   /home/biocbuild/bbs-3.16-bioc/R/bin/R CMD build --keep-empty-dirs --no-resave-data ALL
###
##############################################################################
##############################################################################


* checking for file ‘ALL/DESCRIPTION’ ... OK
* preparing ‘ALL’:
* checking DESCRIPTION meta-information ... OK
* installing the package to build vignettes
* creating vignettes ... OK
* checking for LF line-endings in source and make files and shell scripts
* checking for empty or unneeded directories
* looking to see if a ‘data/datalist’ file should be added
* building ‘ALL_1.39.0.tar.gz’