Back to Build/check report for BioC 3.18 experimental data
ABCD[E]FGHIJKLMNOPQRSTUVWXYZ

This page was generated on 2023-09-26 14:51:51 -0400 (Tue, 26 Sep 2023).

HostnameOSArch (*)R versionInstalled pkgs
nebbiolo2Linux (Ubuntu 22.04.2 LTS)x86_644.3.1 (2023-06-16) -- "Beagle Scouts" 4659
Click on any hostname to see more info about the system (e.g. compilers)      (*) as reported by 'uname -p', except on Windows and Mac OS X

Package 112/424HostnameOS / ArchINSTALLBUILDCHECK
emtdata 1.9.0  (landing page)
Malvika D. Kharbanda
Snapshot Date: 2023-09-26 07:30:02 -0400 (Tue, 26 Sep 2023)
git_url: https://git.bioconductor.org/packages/emtdata
git_branch: devel
git_last_commit: cfd5e57
git_last_commit_date: 2023-04-25 10:50:03 -0400 (Tue, 25 Apr 2023)
nebbiolo2Linux (Ubuntu 22.04.2 LTS) / x86_64  OK    OK    OK  UNNEEDED, same version is already published

BUILD results for emtdata on nebbiolo2


To the developers/maintainers of the emtdata package:
- Use the following Renviron settings to reproduce errors and warnings.
- If 'R CMD check' started to fail recently on the Linux builder(s) over a missing dependency, add the missing dependency to 'Suggests:' in your DESCRIPTION file. See Renviron.bioc for more information.

raw results


Summary

Package: emtdata
Version: 1.9.0
Command: /home/biocbuild/bbs-3.18-bioc/R/bin/R CMD build --keep-empty-dirs --no-resave-data emtdata
StartedAt: 2023-09-26 10:25:34 -0400 (Tue, 26 Sep 2023)
EndedAt: 2023-09-26 10:26:37 -0400 (Tue, 26 Sep 2023)
EllapsedTime: 63.1 seconds
RetCode: 0
Status:   OK  
PackageFile: emtdata_1.9.0.tar.gz
PackageFileSize: 163.1 KiB

Command output

##############################################################################
##############################################################################
###
### Running command:
###
###   /home/biocbuild/bbs-3.18-bioc/R/bin/R CMD build --keep-empty-dirs --no-resave-data emtdata
###
##############################################################################
##############################################################################


* checking for file ‘emtdata/DESCRIPTION’ ... OK
* preparing ‘emtdata’:
* checking DESCRIPTION meta-information ... OK
* installing the package to build vignettes
* creating vignettes ... OK
* checking for LF line-endings in source and make files and shell scripts
* checking for empty or unneeded directories
Omitted ‘LazyData’ from DESCRIPTION
* building ‘emtdata_1.9.0.tar.gz’