Back to Build/check report for BioC 3.15 experimental data
AB[C]DEFGHIJKLMNOPQRSTUVWXYZ

This page was generated on 2021-12-05 17:50:12 -0500 (Sun, 05 Dec 2021).

All results for package CopyhelpeR

To the developers/maintainers of the CopyhelpeR package:
Make sure to use the following settings in order to reproduce any error or warning you see on this page.

raw results

Package 71/404HostnameOS / ArchINSTALLBUILDCHECK
CopyhelpeR 1.27.1  (landing page)
Oscar Krijgsman
Snapshot Date: 2021-12-05 07:30:02 -0500 (Sun, 05 Dec 2021)
git_url: https://git.bioconductor.org/packages/CopyhelpeR
git_branch: master
git_last_commit: 55322c5
git_last_commit_date: 2021-11-21 16:52:54 -0500 (Sun, 21 Nov 2021)
nebbiolo2Linux (Ubuntu 20.04.3 LTS) / x86_64  OK    OK    OK  UNNEEDED, same version is already published