Back to Build/check report for BioC 3.16 experimental data
ABCDEFGHIJKLMNOPQR[S]TUVWXYZ

This page was generated on 2022-05-17 14:50:27 -0400 (Tue, 17 May 2022).

HostnameOSArch (*)R versionInstalled pkgs
nebbiolo2Linux (Ubuntu 20.04.4 LTS)x86_644.2.0 RC (2022-04-21 r82226) -- "Vigorous Calisthenics" 4352
Click on any hostname to see more info about the system (e.g. compilers)      (*) as reported by 'uname -p', except on Windows and Mac OS X

All results for package spatialLIBD


To the developers/maintainers of the spatialLIBD package:
Make sure to use the following settings in order to reproduce any error or warning you see on this page.

raw results

Package 359/407HostnameOS / ArchINSTALLBUILDCHECK
spatialLIBD 1.9.2  (landing page)
Leonardo Collado-Torres
Snapshot Date: 2022-05-17 07:30:01 -0400 (Tue, 17 May 2022)
git_url: https://git.bioconductor.org/packages/spatialLIBD
git_branch: master
git_last_commit: 35ccde7
git_last_commit_date: 2022-05-02 23:04:55 -0400 (Mon, 02 May 2022)
nebbiolo2Linux (Ubuntu 20.04.4 LTS) / x86_64  OK    OK    OK  UNNEEDED, same version is already published