Back to Build/check report for BioC 3.19 experimental data
ABCDEFGHIJKL[M]NOPQRSTUVWXYZ

This page was generated on 2023-12-05 14:51:10 -0500 (Tue, 05 Dec 2023).

HostnameOSArch (*)R versionInstalled pkgs
nebbiolo1Linux (Ubuntu 22.04.2 LTS)x86_64R Under development (unstable) (2023-11-11 r85510) -- "Unsuffered Consequences" 4605
Click on any hostname to see more info about the system (e.g. compilers)      (*) as reported by 'uname -p', except on Windows and Mac OS X

All results for package MOFAdata


To the developers/maintainers of the MOFAdata package:
- Use the following Renviron settings to reproduce errors and warnings.
- If 'R CMD check' started to fail recently on the Linux builder(s) over a missing dependency, add the missing dependency to 'Suggests:' in your DESCRIPTION file. See Renviron.bioc for more information.

raw results

Package 244/420HostnameOS / ArchINSTALLBUILDCHECK
MOFAdata 1.19.0  (landing page)
Britta Velten
Snapshot Date: 2023-12-05 07:30:01 -0500 (Tue, 05 Dec 2023)
git_url: https://git.bioconductor.org/packages/MOFAdata
git_branch: devel
git_last_commit: d6fe938
git_last_commit_date: 2023-10-24 09:19:35 -0500 (Tue, 24 Oct 2023)
nebbiolo1Linux (Ubuntu 22.04.2 LTS) / x86_64  OK    OK    OK  UNNEEDED, same version is already published