Back to Build/check report for BioC 3.19 experimental data
ABCDEFGHIJKLMNOPQ[R]STUVWXYZ

This page was generated on 2024-02-20 14:51:18 -0500 (Tue, 20 Feb 2024).

HostnameOSArch (*)R versionInstalled pkgs
nebbiolo1Linux (Ubuntu 22.04.3 LTS)x86_64R Under development (unstable) (2024-01-16 r85808) -- "Unsuffered Consequences" 4657
Click on any hostname to see more info about the system (e.g. compilers)      (*) as reported by 'uname -p', except on Windows and Mac OS X

All results for package RnBeads.mm9


To the developers/maintainers of the RnBeads.mm9 package:
- Use the following Renviron settings to reproduce errors and warnings.
- If 'R CMD check' started to fail recently on the Linux builder(s) over a missing dependency, add the missing dependency to 'Suggests:' in your DESCRIPTION file. See Renviron.bioc for more information.

raw results

Package 328/422HostnameOS / ArchINSTALLBUILDCHECK
RnBeads.mm9 1.35.0  (landing page)
RnBeadsAnnotationCreator
Snapshot Date: 2024-02-20 07:30:02 -0500 (Tue, 20 Feb 2024)
git_url: https://git.bioconductor.org/packages/RnBeads.mm9
git_branch: devel
git_last_commit: 6f2a17a
git_last_commit_date: 2023-10-24 09:10:32 -0500 (Tue, 24 Oct 2023)
nebbiolo1Linux (Ubuntu 22.04.3 LTS) / x86_64  OK    OK    WARNINGS  UNNEEDED, same version is already published