Back to Build/check report for BioC 3.18 experimental data
ABCDEFGHIJKLMNOPQRS[T]UVWXYZ

This page was generated on 2023-05-25 14:51:41 -0400 (Thu, 25 May 2023).

HostnameOSArch (*)R versionInstalled pkgs
nebbiolo2Linux (Ubuntu 22.04.2 LTS)x86_644.3.0 RC (2023-04-18 r84287) -- "Already Tomorrow" 4587
Click on any hostname to see more info about the system (e.g. compilers)      (*) as reported by 'uname -p', except on Windows and Mac OS X

All results for package tissueTreg


To the developers/maintainers of the tissueTreg package:
Use the following Renviron settings to reproduce errors and warnings.

Note: If "R CMD check" recently failed on the Linux builder over a missing dependency, add the missing dependency to "Suggests" in your DESCRIPTION file. See the Renviron.bioc for details.

raw results

Package 399/419HostnameOS / ArchINSTALLBUILDCHECK
tissueTreg 1.21.0  (landing page)
Charles Imbusch
Snapshot Date: 2023-05-25 07:30:02 -0400 (Thu, 25 May 2023)
git_url: https://git.bioconductor.org/packages/tissueTreg
git_branch: devel
git_last_commit: 72992f4
git_last_commit_date: 2023-04-25 10:45:20 -0400 (Tue, 25 Apr 2023)
nebbiolo2Linux (Ubuntu 22.04.2 LTS) / x86_64  OK    OK    ERROR