Back to Build/check report for BioC 3.16 experimental data
ABCDEFGHIJKLMNOPQ[R]STUVWXYZ

This page was generated on 2022-06-30 14:50:29 -0400 (Thu, 30 Jun 2022).

HostnameOSArch (*)R versionInstalled pkgs
nebbiolo2Linux (Ubuntu 20.04.4 LTS)x86_644.2.0 Patched (2022-06-02 r82447) -- "Vigorous Calisthenics" 4343
Click on any hostname to see more info about the system (e.g. compilers)      (*) as reported by 'uname -p', except on Windows and Mac OS X

BUILD results for RNAinteractMAPK on nebbiolo2


To the developers/maintainers of the RNAinteractMAPK package:
Make sure to use the following settings in order to reproduce any error or warning you see on this page.

raw results

Package 309/407HostnameOS / ArchINSTALLBUILDCHECK
RNAinteractMAPK 1.35.0  (landing page)
Mike Smith
Snapshot Date: 2022-06-30 07:30:01 -0400 (Thu, 30 Jun 2022)
git_url: https://git.bioconductor.org/packages/RNAinteractMAPK
git_branch: master
git_last_commit: 3ae64c9
git_last_commit_date: 2022-04-26 13:35:02 -0400 (Tue, 26 Apr 2022)
nebbiolo2Linux (Ubuntu 20.04.4 LTS) / x86_64  OK    OK    OK  UNNEEDED, same version is already published

Summary

Package: RNAinteractMAPK
Version: 1.35.0
Command: /home/biocbuild/bbs-3.16-bioc/R/bin/R CMD build --keep-empty-dirs --no-resave-data RNAinteractMAPK
StartedAt: 2022-06-30 10:36:24 -0400 (Thu, 30 Jun 2022)
EndedAt: 2022-06-30 10:37:46 -0400 (Thu, 30 Jun 2022)
EllapsedTime: 82.2 seconds
RetCode: 0
Status:   OK  
PackageFile: RNAinteractMAPK_1.35.0.tar.gz
PackageFileSize: 9.14 MiB

Command output

##############################################################################
##############################################################################
###
### Running command:
###
###   /home/biocbuild/bbs-3.16-bioc/R/bin/R CMD build --keep-empty-dirs --no-resave-data RNAinteractMAPK
###
##############################################################################
##############################################################################


* checking for file ‘RNAinteractMAPK/DESCRIPTION’ ... OK
* preparing ‘RNAinteractMAPK’:
* checking DESCRIPTION meta-information ... OK
* installing the package to build vignettes
* creating vignettes ... OK
* checking for LF line-endings in source and make files and shell scripts
* checking for empty or unneeded directories
* looking to see if a ‘data/datalist’ file should be added
* building ‘RNAinteractMAPK_1.35.0.tar.gz’