Back to Build/check report for BioC 3.16 experimental data
ABCDEFGHIJKLMNO[P]QRSTUVWXYZ

This page was generated on 2022-05-24 14:50:31 -0400 (Tue, 24 May 2022).

HostnameOSArch (*)R versionInstalled pkgs
nebbiolo2Linux (Ubuntu 20.04.4 LTS)x86_644.2.0 RC (2022-04-21 r82226) -- "Vigorous Calisthenics" 4357
Click on any hostname to see more info about the system (e.g. compilers)      (*) as reported by 'uname -p', except on Windows and Mac OS X

INSTALL results for pasillaBamSubset on nebbiolo2


To the developers/maintainers of the pasillaBamSubset package:
Make sure to use the following settings in order to reproduce any error or warning you see on this page.

raw results

Package 266/407HostnameOS / ArchINSTALLBUILDCHECK
pasillaBamSubset 0.35.0  (landing page)
Hervé Pagès
Snapshot Date: 2022-05-24 07:30:02 -0400 (Tue, 24 May 2022)
git_url: https://git.bioconductor.org/packages/pasillaBamSubset
git_branch: master
git_last_commit: aede374
git_last_commit_date: 2022-04-26 13:02:42 -0400 (Tue, 26 Apr 2022)
nebbiolo2Linux (Ubuntu 20.04.4 LTS) / x86_64  OK    OK    OK  UNNEEDED, same version is already published

Summary

Package: pasillaBamSubset
Version: 0.35.0
Command: /home/biocbuild/bbs-3.16-bioc/R/bin/R CMD INSTALL pasillaBamSubset
StartedAt: 2022-05-24 10:00:09 -0400 (Tue, 24 May 2022)
EndedAt: 2022-05-24 10:00:11 -0400 (Tue, 24 May 2022)
EllapsedTime: 2.5 seconds
RetCode: 0
Status:   OK  

Command output

##############################################################################
##############################################################################
###
### Running command:
###
###   /home/biocbuild/bbs-3.16-bioc/R/bin/R CMD INSTALL pasillaBamSubset
###
##############################################################################
##############################################################################


* installing to library ‘/home/biocbuild/bbs-3.16-bioc/R/library’
* installing *source* package ‘pasillaBamSubset’ ...
** using staged installation
** R
** inst
** byte-compile and prepare package for lazy loading
** help
*** installing help indices
** building package indices
** testing if installed package can be loaded from temporary location
** testing if installed package can be loaded from final location
** testing if installed package keeps a record of temporary installation path
* DONE (pasillaBamSubset)