Back to Build/check report for BioC 3.19 experimental data
ABCDEFGHIJK[L]MNOPQRSTUVWXYZ

This page was generated on 2024-03-26 14:51:25 -0400 (Tue, 26 Mar 2024).

HostnameOSArch (*)R versionInstalled pkgs
nebbiolo1Linux (Ubuntu 22.04.3 LTS)x86_64R Under development (unstable) (2024-03-18 r86148) -- "Unsuffered Consequences" 4698
Click on any hostname to see more info about the system (e.g. compilers)      (*) as reported by 'uname -p', except on Windows and Mac OS X

All results for package leeBamViews


To the developers/maintainers of the leeBamViews package:
- Use the following Renviron settings to reproduce errors and warnings.
- If 'R CMD check' started to fail recently on the Linux builder(s) over a missing dependency, add the missing dependency to 'Suggests:' in your DESCRIPTION file. See Renviron.bioc for more information.

raw results

Package 205/425HostnameOS / ArchINSTALLBUILDCHECK
leeBamViews 1.39.0  (landing page)
VJ Carey
Snapshot Date: 2024-03-26 07:30:03 -0400 (Tue, 26 Mar 2024)
git_url: https://git.bioconductor.org/packages/leeBamViews
git_branch: devel
git_last_commit: 333a18d
git_last_commit_date: 2023-10-24 08:56:13 -0400 (Tue, 24 Oct 2023)
nebbiolo1Linux (Ubuntu 22.04.3 LTS) / x86_64  OK    OK    OK  UNNEEDED, same version is already published