Back to Build/check report for BioC 3.16 experimental data
ABC[D]EFGHIJKLMNOPQRSTUVWXYZ

This page was generated on 2022-08-16 14:50:33 -0400 (Tue, 16 Aug 2022).

HostnameOSArch (*)R versionInstalled pkgs
nebbiolo2Linux (Ubuntu 20.04.4 LTS)x86_644.2.1 (2022-06-23) -- "Funny-Looking Kid" 4379
Click on any hostname to see more info about the system (e.g. compilers)      (*) as reported by 'uname -p', except on Windows and Mac OS X

INSTALL results for DmelSGI on nebbiolo2


To the developers/maintainers of the DmelSGI package:
Make sure to use the following settings in order to reproduce any error or warning you see on this page.

raw results

Package 96/410HostnameOS / ArchINSTALLBUILDCHECK
DmelSGI 1.29.0  (landing page)
Mike Smith
Snapshot Date: 2022-08-16 07:30:02 -0400 (Tue, 16 Aug 2022)
git_url: https://git.bioconductor.org/packages/DmelSGI
git_branch: master
git_last_commit: 01dc20f
git_last_commit_date: 2022-04-26 13:16:20 -0400 (Tue, 26 Apr 2022)
nebbiolo2Linux (Ubuntu 20.04.4 LTS) / x86_64  OK    OK    ERROR  

Summary

Package: DmelSGI
Version: 1.29.0
Command: /home/biocbuild/bbs-3.16-bioc/R/bin/R CMD INSTALL DmelSGI
StartedAt: 2022-08-16 10:01:35 -0400 (Tue, 16 Aug 2022)
EndedAt: 2022-08-16 10:01:39 -0400 (Tue, 16 Aug 2022)
EllapsedTime: 3.9 seconds
RetCode: 0
Status:   OK  

Command output

##############################################################################
##############################################################################
###
### Running command:
###
###   /home/biocbuild/bbs-3.16-bioc/R/bin/R CMD INSTALL DmelSGI
###
##############################################################################
##############################################################################


* installing to library ‘/home/biocbuild/bbs-3.16-bioc/R/library’
* installing *source* package ‘DmelSGI’ ...
** using staged installation
** R
** data
** inst
** byte-compile and prepare package for lazy loading
** help
*** installing help indices
** building package indices
** installing vignettes
** testing if installed package can be loaded from temporary location
** testing if installed package can be loaded from final location
** testing if installed package keeps a record of temporary installation path
* DONE (DmelSGI)