Back to Build/check report for BioC 3.16 experimental data
ABCDEFGHIJKLMNOPQRSTUVWX[Y]Z

This page was generated on 2022-08-16 14:50:36 -0400 (Tue, 16 Aug 2022).

HostnameOSArch (*)R versionInstalled pkgs
nebbiolo2Linux (Ubuntu 20.04.4 LTS)x86_644.2.1 (2022-06-23) -- "Funny-Looking Kid" 4379
Click on any hostname to see more info about the system (e.g. compilers)      (*) as reported by 'uname -p', except on Windows and Mac OS X

BUILD results for yeastNagalakshmi on nebbiolo2


To the developers/maintainers of the yeastNagalakshmi package:
Make sure to use the following settings in order to reproduce any error or warning you see on this page.

raw results

Package 408/410HostnameOS / ArchINSTALLBUILDCHECK
yeastNagalakshmi 1.33.0  (landing page)
Bioconductor Package Maintainer
Snapshot Date: 2022-08-16 07:30:02 -0400 (Tue, 16 Aug 2022)
git_url: https://git.bioconductor.org/packages/yeastNagalakshmi
git_branch: master
git_last_commit: c1a3074
git_last_commit_date: 2022-04-26 13:01:45 -0400 (Tue, 26 Apr 2022)
nebbiolo2Linux (Ubuntu 20.04.4 LTS) / x86_64  OK    OK    OK  UNNEEDED, same version is already published

Summary

Package: yeastNagalakshmi
Version: 1.33.0
Command: /home/biocbuild/bbs-3.16-bioc/R/bin/R CMD build --keep-empty-dirs --no-resave-data yeastNagalakshmi
StartedAt: 2022-08-16 10:45:06 -0400 (Tue, 16 Aug 2022)
EndedAt: 2022-08-16 10:45:08 -0400 (Tue, 16 Aug 2022)
EllapsedTime: 2.0 seconds
RetCode: 0
Status:   OK  
PackageFile: yeastNagalakshmi_1.33.0.tar.gz
PackageFileSize: 14.33 MiB

Command output

##############################################################################
##############################################################################
###
### Running command:
###
###   /home/biocbuild/bbs-3.16-bioc/R/bin/R CMD build --keep-empty-dirs --no-resave-data yeastNagalakshmi
###
##############################################################################
##############################################################################


* checking for file ‘yeastNagalakshmi/DESCRIPTION’ ... OK
* preparing ‘yeastNagalakshmi’:
* checking DESCRIPTION meta-information ... OK
* checking for LF line-endings in source and make files and shell scripts
* checking for empty or unneeded directories
* building ‘yeastNagalakshmi_1.33.0.tar.gz’