Back to Build/check report for BioC 3.16 experimental data
ABCDEFGHIJKLMNOPQR[S]TUVWXYZ

This page was generated on 2022-05-24 14:50:32 -0400 (Tue, 24 May 2022).

HostnameOSArch (*)R versionInstalled pkgs
nebbiolo2Linux (Ubuntu 20.04.4 LTS)x86_644.2.0 RC (2022-04-21 r82226) -- "Vigorous Calisthenics" 4357
Click on any hostname to see more info about the system (e.g. compilers)      (*) as reported by 'uname -p', except on Windows and Mac OS X

BUILD results for sesameData on nebbiolo2


To the developers/maintainers of the sesameData package:
Make sure to use the following settings in order to reproduce any error or warning you see on this page.

raw results

Package 344/407HostnameOS / ArchINSTALLBUILDCHECK
sesameData 1.15.0  (landing page)
Wanding Zhou
Snapshot Date: 2022-05-24 07:30:02 -0400 (Tue, 24 May 2022)
git_url: https://git.bioconductor.org/packages/sesameData
git_branch: master
git_last_commit: 8946822
git_last_commit_date: 2022-04-26 13:30:46 -0400 (Tue, 26 Apr 2022)
nebbiolo2Linux (Ubuntu 20.04.4 LTS) / x86_64  OK    OK    OK  UNNEEDED, same version is already published

Summary

Package: sesameData
Version: 1.15.0
Command: /home/biocbuild/bbs-3.16-bioc/R/bin/R CMD build --keep-empty-dirs --no-resave-data sesameData
StartedAt: 2022-05-24 10:39:28 -0400 (Tue, 24 May 2022)
EndedAt: 2022-05-24 10:40:13 -0400 (Tue, 24 May 2022)
EllapsedTime: 44.9 seconds
RetCode: 0
Status:   OK  
PackageFile: sesameData_1.15.0.tar.gz
PackageFileSize: 1.867 MiB

Command output

##############################################################################
##############################################################################
###
### Running command:
###
###   /home/biocbuild/bbs-3.16-bioc/R/bin/R CMD build --keep-empty-dirs --no-resave-data sesameData
###
##############################################################################
##############################################################################


* checking for file ‘sesameData/DESCRIPTION’ ... OK
* preparing ‘sesameData’:
* checking DESCRIPTION meta-information ... OK
* installing the package to build vignettes
* creating vignettes ... OK
* checking for LF line-endings in source and make files and shell scripts
* checking for empty or unneeded directories
* looking to see if a ‘data/datalist’ file should be added
* building ‘sesameData_1.15.0.tar.gz’