Back to Build/check report for BioC 3.20 experimental data
ABCDEFGHIJKLMNOPQ[R]STUVWXYZ

This page was generated on 2024-05-21 14:51:49 -0400 (Tue, 21 May 2024).

HostnameOSArch (*)R versionInstalled pkgs
nebbiolo2Linux (Ubuntu 22.04.3 LTS)x86_644.4.0 RC (2024-04-16 r86468) -- "Puppy Cup" 4665
Click on any hostname to see more info about the system (e.g. compilers)      (*) as reported by 'uname -p', except on Windows and Mac OS X

All results for package RUVnormalizeData


To the developers/maintainers of the RUVnormalizeData package:
- Use the following Renviron settings to reproduce errors and warnings.
- If 'R CMD check' started to fail recently on the Linux builder(s) over a missing dependency, add the missing dependency to 'Suggests:' in your DESCRIPTION file. See Renviron.bioc for more information.

raw results

Package 341/425HostnameOS / ArchINSTALLBUILDCHECK
RUVnormalizeData 1.25.0  (landing page)
Laurent Jacob
Snapshot Date: 2024-05-21 07:30:01 -0400 (Tue, 21 May 2024)
git_url: https://git.bioconductor.org/packages/RUVnormalizeData
git_branch: devel
git_last_commit: acfe295
git_last_commit_date: 2024-04-30 10:42:28 -0400 (Tue, 30 Apr 2024)
nebbiolo2Linux (Ubuntu 22.04.3 LTS) / x86_64  OK    OK    OK  UNNEEDED, same version is already published