Back to Build/check report for BioC 3.17 experimental data
ABCDEFG[H]IJKLMNOPQRSTUVWXYZ

This page was generated on 2023-01-26 14:51:32 -0500 (Thu, 26 Jan 2023).

HostnameOSArch (*)R versionInstalled pkgs
nebbiolo1Linux (Ubuntu 22.04.1 LTS)x86_64R Under development (unstable) (2023-01-10 r83596) -- "Unsuffered Consequences" 4464
Click on any hostname to see more info about the system (e.g. compilers)      (*) as reported by 'uname -p', except on Windows and Mac OS X

All results for package HCAData


To the developers/maintainers of the HCAData package:
Make sure to use the following settings in order to reproduce any error or warning you see on this page.

raw results

Package 165/414HostnameOS / ArchINSTALLBUILDCHECK
HCAData 1.15.0  (landing page)
Federico Marini
Snapshot Date: 2023-01-26 07:30:03 -0500 (Thu, 26 Jan 2023)
git_url: https://git.bioconductor.org/packages/HCAData
git_branch: master
git_last_commit: f7a860b
git_last_commit_date: 2022-11-01 11:20:20 -0500 (Tue, 01 Nov 2022)
nebbiolo1Linux (Ubuntu 22.04.1 LTS) / x86_64  OK    OK    OK  UNNEEDED, same version is already published