Back to Build/check report for BioC 3.15 experimental data
ABCDEFGHIJKLMNOPQR[S]TUVWXYZ

This page was generated on 2022-01-18 08:36:56 -0500 (Tue, 18 Jan 2022).

HostnameOSArch (*)R versionInstalled pkgs
nebbiolo2Linux (Ubuntu 20.04.4 LTS)x86_64R Under development (unstable) (2022-01-05 r81451) -- "Unsuffered Consequences" 1325
Click on any hostname to see more info about the system (e.g. compilers)      (*) as reported by 'uname -p', except on Windows and Mac OS X

All results for package SomaticCancerAlterations


To the developers/maintainers of the SomaticCancerAlterations package:
Make sure to use the following settings in order to reproduce any error or warning you see on this page.

raw results

Package 358/406HostnameOS / ArchINSTALLBUILDCHECK
SomaticCancerAlterations 1.31.1  (landing page)
Julian Gehring
Snapshot Date: 2022-01-18 04:00:02 -0500 (Tue, 18 Jan 2022)
git_url: https://git.bioconductor.org/packages/SomaticCancerAlterations
git_branch: master
git_last_commit: 89a2597
git_last_commit_date: 2021-11-21 23:51:42 -0500 (Sun, 21 Nov 2021)
nebbiolo2Linux (Ubuntu 20.04.4 LTS) / x86_64  OK    OK    OK  UNNEEDED, same version is already published