Back to Build/check report for BioC 3.16 experimental data
ABCD[E]FGHIJKLMNOPQRSTUVWXYZ

This page was generated on 2022-05-24 14:50:29 -0400 (Tue, 24 May 2022).

HostnameOSArch (*)R versionInstalled pkgs
nebbiolo2Linux (Ubuntu 20.04.4 LTS)x86_644.2.0 RC (2022-04-21 r82226) -- "Vigorous Calisthenics" 4357
Click on any hostname to see more info about the system (e.g. compilers)      (*) as reported by 'uname -p', except on Windows and Mac OS X

BUILD results for EatonEtAlChIPseq on nebbiolo2


To the developers/maintainers of the EatonEtAlChIPseq package:
Make sure to use the following settings in order to reproduce any error or warning you see on this page.

raw results

Package 106/407HostnameOS / ArchINSTALLBUILDCHECK
EatonEtAlChIPseq 0.35.0  (landing page)
Patrick Aboyoun
Snapshot Date: 2022-05-24 07:30:02 -0400 (Tue, 24 May 2022)
git_url: https://git.bioconductor.org/packages/EatonEtAlChIPseq
git_branch: master
git_last_commit: c32d434
git_last_commit_date: 2022-04-26 13:00:28 -0400 (Tue, 26 Apr 2022)
nebbiolo2Linux (Ubuntu 20.04.4 LTS) / x86_64  OK    OK    WARNINGS  UNNEEDED, same version is already published

Summary

Package: EatonEtAlChIPseq
Version: 0.35.0
Command: /home/biocbuild/bbs-3.16-bioc/R/bin/R CMD build --keep-empty-dirs --no-resave-data EatonEtAlChIPseq
StartedAt: 2022-05-24 10:19:44 -0400 (Tue, 24 May 2022)
EndedAt: 2022-05-24 10:19:46 -0400 (Tue, 24 May 2022)
EllapsedTime: 2.0 seconds
RetCode: 0
Status:   OK  
PackageFile: EatonEtAlChIPseq_0.35.0.tar.gz
PackageFileSize: 20.5 MiB

Command output

##############################################################################
##############################################################################
###
### Running command:
###
###   /home/biocbuild/bbs-3.16-bioc/R/bin/R CMD build --keep-empty-dirs --no-resave-data EatonEtAlChIPseq
###
##############################################################################
##############################################################################


* checking for file ‘EatonEtAlChIPseq/DESCRIPTION’ ... OK
* preparing ‘EatonEtAlChIPseq’:
* checking DESCRIPTION meta-information ... OK
* checking for LF line-endings in source and make files and shell scripts
* checking for empty or unneeded directories
* looking to see if a ‘data/datalist’ file should be added
* building ‘EatonEtAlChIPseq_0.35.0.tar.gz’