Back to Build/check report for BioC 3.19 experimental data
ABCDEFGHIJKLM[N]OPQRSTUVWXYZ

This page was generated on 2024-02-15 14:51:20 -0500 (Thu, 15 Feb 2024).

HostnameOSArch (*)R versionInstalled pkgs
nebbiolo1Linux (Ubuntu 22.04.3 LTS)x86_64R Under development (unstable) (2024-01-16 r85808) -- "Unsuffered Consequences" 4644
Click on any hostname to see more info about the system (e.g. compilers)      (*) as reported by 'uname -p', except on Windows and Mac OS X

All results for package nanotubes


To the developers/maintainers of the nanotubes package:
- Use the following Renviron settings to reproduce errors and warnings.
- If 'R CMD check' started to fail recently on the Linux builder(s) over a missing dependency, add the missing dependency to 'Suggests:' in your DESCRIPTION file. See Renviron.bioc for more information.

raw results

Package 262/422HostnameOS / ArchINSTALLBUILDCHECK
nanotubes 1.19.0  (landing page)
Malte Thodberg
Snapshot Date: 2024-02-15 07:30:02 -0500 (Thu, 15 Feb 2024)
git_url: https://git.bioconductor.org/packages/nanotubes
git_branch: devel
git_last_commit: 738b40d
git_last_commit_date: 2023-10-24 09:19:42 -0500 (Tue, 24 Oct 2023)
nebbiolo1Linux (Ubuntu 22.04.3 LTS) / x86_64  OK    OK    OK  UNNEEDED, same version is already published