Back to Build/check report for BioC 3.20 experimental data
ABCDEFGHIJKLMNOPQR[S]TUVWXYZ

This page was generated on 2024-07-11 14:51 -0400 (Thu, 11 Jul 2024).

HostnameOSArch (*)R versionInstalled pkgs
nebbiolo2Linux (Ubuntu 22.04.3 LTS)x86_644.4.1 (2024-06-14) -- "Race for Your Life" 4675
Click on any hostname to see more info about the system (e.g. compilers)      (*) as reported by 'uname -p', except on Windows and Mac OS X

Package 363/425HostnameOS / ArchINSTALLBUILDCHECK
SingleCellMultiModal 1.17.3  (landing page)
Marcel Ramos
Snapshot Date: 2024-07-11 07:30 -0400 (Thu, 11 Jul 2024)
git_url: https://git.bioconductor.org/packages/SingleCellMultiModal
git_branch: devel
git_last_commit: 1ac9a1f
git_last_commit_date: 2024-06-18 16:54:35 -0400 (Tue, 18 Jun 2024)
nebbiolo2Linux (Ubuntu 22.04.3 LTS) / x86_64  OK    OK    OK  UNNEEDED, same version is already published


BUILD results for SingleCellMultiModal on nebbiolo2

To the developers/maintainers of the SingleCellMultiModal package:
- Use the following Renviron settings to reproduce errors and warnings.
- If 'R CMD check' started to fail recently on the Linux builder(s) over a missing dependency, add the missing dependency to 'Suggests:' in your DESCRIPTION file. See Renviron.bioc for more information.

raw results


Summary

Package: SingleCellMultiModal
Version: 1.17.3
Command: /home/biocbuild/bbs-3.20-bioc/R/bin/R CMD build --keep-empty-dirs --no-resave-data SingleCellMultiModal
StartedAt: 2024-07-11 10:51:01 -0400 (Thu, 11 Jul 2024)
EndedAt: 2024-07-11 10:57:05 -0400 (Thu, 11 Jul 2024)
EllapsedTime: 364.4 seconds
RetCode: 0
Status:   OK  
PackageFile: SingleCellMultiModal_1.17.3.tar.gz
PackageFileSize: 2.845 MiB

Command output

##############################################################################
##############################################################################
###
### Running command:
###
###   /home/biocbuild/bbs-3.20-bioc/R/bin/R CMD build --keep-empty-dirs --no-resave-data SingleCellMultiModal
###
##############################################################################
##############################################################################


* checking for file ‘SingleCellMultiModal/DESCRIPTION’ ... OK
* preparing ‘SingleCellMultiModal’:
* checking DESCRIPTION meta-information ... OK
* installing the package to build vignettes
* creating vignettes ... OK
* checking for LF line-endings in source and make files and shell scripts
* checking for empty or unneeded directories
* building ‘SingleCellMultiModal_1.17.3.tar.gz’