Back to Build/check report for BioC 3.18 experimental data
ABCDEFG[H]IJKLMNOPQRSTUVWXYZ

This page was generated on 2023-06-06 14:51:38 -0400 (Tue, 06 Jun 2023).

HostnameOSArch (*)R versionInstalled pkgs
nebbiolo2Linux (Ubuntu 22.04.2 LTS)x86_644.3.0 RC (2023-04-18 r84287) -- "Already Tomorrow" 4598
Click on any hostname to see more info about the system (e.g. compilers)      (*) as reported by 'uname -p', except on Windows and Mac OS X

All results for package HumanAffyData


To the developers/maintainers of the HumanAffyData package:
- Use the following Renviron settings to reproduce errors and warnings.
- If 'R CMD check' started to fail recently on the Linux builder(s) over a missing dependency, add the missing dependency to 'Suggests:' in your DESCRIPTION file. See Renviron.bioc for more information.

raw results

Package 188/419HostnameOS / ArchINSTALLBUILDCHECK
HumanAffyData 1.27.0  (landing page)
Brad Nelms
Snapshot Date: 2023-06-06 07:30:01 -0400 (Tue, 06 Jun 2023)
git_url: https://git.bioconductor.org/packages/HumanAffyData
git_branch: devel
git_last_commit: cb28196
git_last_commit_date: 2023-04-25 10:43:22 -0400 (Tue, 25 Apr 2023)
nebbiolo2Linux (Ubuntu 22.04.2 LTS) / x86_64  OK    OK    OK  UNNEEDED, same version is already published